| Mfuzz 2.29.3 Matthias Futschik
 
 | Snapshot Date: 2015-08-19 16:24:33 -0700 (Wed, 19 Aug 2015) |  | URL: https://hedgehog.fhcrc.org/bioconductor/trunk/madman/Rpacks/Mfuzz |  | Last Changed Rev: 105426 / Revision: 107602 |  | Last Changed Date: 2015-06-24 08:02:23 -0700 (Wed, 24 Jun 2015) | 
 | zin1 | Linux (Ubuntu 14.04.2 LTS) / x86_64 | OK | OK | OK |  |  | 
| moscato1 | Windows Server 2008 R2 Enterprise SP1 (64-bit) / x64 | OK | OK | OK | [ OK ] |  | 
| perceval | Mac OS X Snow Leopard (10.6.8) / x86_64 | OK | OK | OK | OK |  | 
| oaxaca | Mac OS X Mavericks (10.9.5) / x86_64 | OK | OK | OK | OK |  | 
##############################################################################
##############################################################################
###
### Running command:
###
###   cd Mfuzz.buildbin-libdir/Mfuzz && zip -r ../../Mfuzz_2.29.3.zip . & cd ../..
###
##############################################################################
##############################################################################
  adding: data/ (256 bytes security) (stored 0%)
  adding: data/yeast.rda (188 bytes security) (deflated 5%)
  adding: data/yeast.table.txt (188 bytes security) (deflated 71%)
  adding: data/yeast.table2.txt (188 bytes security) (deflated 71%)
  adding: DESCRIPTION (188 bytes security) (deflated 39%)
  adding: doc/ (256 bytes security) (stored 0%)
  adding: doc/index.html (188 bytes security) (deflated 57%)
  adding: doc/Mfuzz.pdf (188 bytes security) (deflated 8%)
  adding: doc/Mfuzz.R (188 bytes security) (deflated 81%)
  adding: doc/Mfuzz.Rnw (188 bytes security) (deflated 67%)
  adding: help/ (256 bytes security) (stored 0%)
  adding: help/aliases.rds (188 bytes security) (stored 0%)
  adding: help/AnIndex (188 bytes security) (deflated 61%)
  adding: help/Mfuzz.rdb (188 bytes security) (deflated 2%)
  adding: help/Mfuzz.rdx (188 bytes security) (stored 0%)
  adding: help/paths.rds (188 bytes security) (stored 0%)
  adding: html/ (256 bytes security) (stored 0%)
  adding: html/00Index.html (188 bytes security) (deflated 72%)
  adding: html/R.css (188 bytes security) (deflated 75%)
  adding: INDEX (188 bytes security) (deflated 71%)
  adding: MD5 (188 bytes security) (deflated 42%)
  adding: Meta/ (256 bytes security) (stored 0%)
  adding: Meta/data.rds (188 bytes security) (stored 0%)
  adding: Meta/hsearch.rds (188 bytes security) (stored 0%)
  adding: Meta/links.rds (188 bytes security) (stored 0%)
  adding: Meta/nsInfo.rds (188 bytes security) (stored 0%)
  adding: Meta/package.rds (188 bytes security) (stored 0%)
  adding: Meta/Rd.rds (188 bytes security) (stored 0%)
  adding: Meta/vignette.rds (188 bytes security) (stored 0%)
  adding: NAMESPACE (188 bytes security) (deflated 46%)
  adding: R/ (256 bytes security) (stored 0%)
  adding: R/Mfuzz (188 bytes security) (deflated 41%)
  adding: R/Mfuzz.rdb (188 bytes security) (deflated 2%)
  adding: R/Mfuzz.rdx (188 bytes security) (stored 0%)