Back to the "Multiple platform build/check report" A  B  C  D  E  F  G  H  I  J  K  L [M] N  O  P  Q  R  S  T  U  V  W  X  Y  Z 

BioC 3.2: CHECK report for MSnbase on oaxaca

This page was generated on 2015-10-27 17:39:29 -0400 (Tue, 27 Oct 2015).

Package 680/1104HostnameOS / ArchINSTALLBUILDCHECKBUILD BIN
MSnbase 1.18.0
Laurent Gatto
Snapshot Date: 2015-10-26 19:24:07 -0400 (Mon, 26 Oct 2015)
URL: https://hedgehog.fhcrc.org/bioconductor/branches/RELEASE_3_2/madman/Rpacks/MSnbase
Last Changed Rev: 109589 / Revision: 109947
Last Changed Date: 2015-10-13 15:36:05 -0400 (Tue, 13 Oct 2015)
linux1.bioconductor.org Linux (Ubuntu 14.04.2 LTS) / x86_64  OK  OK  OK UNNEEDED, same version exists in internal repository
windows1.bioconductor.org Windows Server 2012 R2 Enterprise SP1 (64-bit) / x64  OK  OK  OK  OK UNNEEDED, same version exists in internal repository
perceval Mac OS X Snow Leopard (10.6.8) / x86_64  OK  OK  OK  OK UNNEEDED, same version exists in internal repository
oaxaca Mac OS X Mavericks (10.9.5) / x86_64  OK  OK [ OK ] OK UNNEEDED, same version exists in internal repository

Summary

Package: MSnbase
Version: 1.18.0
Command: /Library/Frameworks/R.framework/Versions/Current/Resources/bin/R CMD check --no-vignettes --timings MSnbase_1.18.0.tar.gz
StartedAt: 2015-10-27 05:58:34 -0400 (Tue, 27 Oct 2015)
EndedAt: 2015-10-27 06:03:47 -0400 (Tue, 27 Oct 2015)
EllapsedTime: 312.6 seconds
RetCode: 0
Status:  OK 
CheckDir: MSnbase.Rcheck
Warnings: 0

Command output

##############################################################################
##############################################################################
###
### Running command:
###
###   /Library/Frameworks/R.framework/Versions/Current/Resources/bin/R CMD check --no-vignettes --timings MSnbase_1.18.0.tar.gz
###
##############################################################################
##############################################################################


* using log directory ‘/Users/biocbuild/bbs-3.2-bioc/meat/MSnbase.Rcheck’
* using R version 3.2.2 (2015-08-14)
* using platform: x86_64-apple-darwin13.4.0 (64-bit)
* using session charset: UTF-8
* using option ‘--no-vignettes’
* checking for file ‘MSnbase/DESCRIPTION’ ... OK
* this is package ‘MSnbase’ version ‘1.18.0’
* checking package namespace information ... OK
* checking package dependencies ... OK
* checking if this is a source package ... OK
* checking if there is a namespace ... OK
* checking for hidden files and directories ... OK
* checking for portable file names ... OK
* checking for sufficient/correct file permissions ... OK
* checking whether package ‘MSnbase’ can be installed ... [22s/22s] OK
* checking installed package size ... OK
* checking package directory ... OK
* checking ‘build’ directory ... OK
* checking DESCRIPTION meta-information ... OK
* checking top-level files ... OK
* checking for left-over files ... OK
* checking index information ... OK
* checking package subdirectories ... OK
* checking R files for non-ASCII characters ... OK
* checking R files for syntax errors ... OK
* checking whether the package can be loaded ... OK
* checking whether the package can be loaded with stated dependencies ... OK
* checking whether the package can be unloaded cleanly ... OK
* checking whether the namespace can be loaded with stated dependencies ... OK
* checking whether the namespace can be unloaded cleanly ... OK
* checking dependencies in R code ... NOTE
Unexported objects imported by ':::' calls:
  ‘Biobase:::.showAnnotatedDataFrame’ ‘MALDIquant:::.estimateNoise’
  ‘MALDIquant:::.localMaxima’ ‘MALDIquant:::.movingAverage’
  ‘MALDIquant:::.savitzkyGolay’ ‘MALDIquant:::.which.closest’
  See the note in ?`:::` about the use of this operator.
* checking S3 generic/method consistency ... OK
* checking replacement functions ... OK
* checking foreign function calls ... OK
* checking R code for possible problems ... OK
* checking Rd files ... OK
* checking Rd metadata ... OK
* checking Rd cross-references ... OK
* checking for missing documentation entries ... OK
* checking for code/documentation mismatches ... OK
* checking Rd \usage sections ... OK
* checking Rd contents ... OK
* checking for unstated dependencies in examples ... OK
* checking contents of ‘data’ directory ... OK
* checking data for non-ASCII characters ... OK
* checking data for ASCII and uncompressed saves ... OK
* checking line endings in C/C++/Fortran sources/headers ... OK
* checking compiled code ... OK
* checking sizes of PDF files under ‘inst/doc’ ... OK
* checking installed files from ‘inst/doc’ ... OK
* checking files in ‘vignettes’ ... OK
* checking examples ... [78s/81s] OK
Examples with CPU or elapsed time > 5s
                   user system elapsed
quantify-methods 10.247  3.360   5.559
averageMSnSet     7.705  0.132   9.121
MSnSet-class      6.734  0.093   7.191
MSnSetList-class  5.117  0.027   5.152
writeMzTabData    3.660  0.040   9.762
MzTab-class       1.650  0.041   5.544
* checking for unstated dependencies in ‘tests’ ... OK
* checking tests ...
  Running ‘testthat.R’ [76s/61s]
 [76s/62s] OK
* checking for unstated dependencies in vignettes ... OK
* checking package vignettes in ‘inst/doc’ ... OK
* checking running R code from vignettes ... SKIPPED
* checking re-building of vignette outputs ... SKIPPED
* checking PDF version of manual ... OK
* DONE

Status: 1 NOTE
See
  ‘/Users/biocbuild/bbs-3.2-bioc/meat/MSnbase.Rcheck/00check.log’
for details.


MSnbase.Rcheck/00install.out:

* installing *source* package ‘MSnbase’ ...
** libs
clang++ -I/Library/Frameworks/R.framework/Resources/include -DNDEBUG  -I/usr/local/include -I/usr/local/include/freetype2 -I/opt/X11/include -I"/Library/Frameworks/R.framework/Versions/3.2/Resources/library/Rcpp/include"   -fPIC  -Wall -mtune=core2 -g -O2  -c RcppExports.cpp -o RcppExports.o
clang++ -I/Library/Frameworks/R.framework/Resources/include -DNDEBUG  -I/usr/local/include -I/usr/local/include/freetype2 -I/opt/X11/include -I"/Library/Frameworks/R.framework/Versions/3.2/Resources/library/Rcpp/include"   -fPIC  -Wall -mtune=core2 -g -O2  -c imp_neighbour_avg.cpp -o imp_neighbour_avg.o
clang++ -dynamiclib -Wl,-headerpad_max_install_names -undefined dynamic_lookup -single_module -multiply_defined suppress -L/Library/Frameworks/R.framework/Resources/lib -L/usr/local/lib -o MSnbase.so RcppExports.o imp_neighbour_avg.o -F/Library/Frameworks/R.framework/.. -framework R -Wl,-framework -Wl,CoreFoundation
installing to /Users/biocbuild/bbs-3.2-bioc/meat/MSnbase.Rcheck/MSnbase/libs
** R
** data
*** moving datasets to lazyload DB
** inst
** preparing package for lazy loading
Creating a new generic function for ‘smooth’ in package ‘MSnbase’
Creating a generic function for ‘t’ from package ‘base’ in package ‘MSnbase’
Creating a generic function for ‘scale’ from package ‘base’ in package ‘MSnbase’
in method for ‘coerce’ with signature ‘"IBSpectra","MSnSet"’: no definition for class “IBSpectra”
Creating a generic function for ‘split’ from package ‘base’ in package ‘MSnbase’
** help
*** installing help indices
** building package indices
** installing vignettes
** testing if installed package can be loaded
* DONE (MSnbase)

MSnbase.Rcheck/MSnbase-Ex.timings:

nameusersystemelapsed
FeatComp-class0.4360.0240.532
FeaturesOfInterest-class0.0770.0070.084
MSmap-class0.0010.0010.002
MSnExp-class0.3180.0050.405
MSnProcess-class0.0020.0010.001
MSnSet-class6.7340.0937.191
MSnSetList-class5.1170.0275.152
MzTab-class1.6500.0415.544
NAnnotatedDataFrame-class0.0320.0000.033
ReporterIons-class0.0240.0000.025
TMT60.0170.0010.017
addIdentificationData-methods0.5980.0040.602
averageMSnSet7.7050.1329.121
bin-methods0.6160.0100.625
calculateFragments-methods0.6170.0160.634
chromatogram-methods0.0670.0140.177
clean-methods0.9610.0320.993
combineFeatures0.9210.0050.925
commonFeatureNames0.7110.0130.725
compareSpectra-methods0.1500.0050.156
exprsToRatios-methods0.0720.0010.073
extractPrecSpectra-methods0.4190.0010.421
featureCV0.0350.0010.035
fillUp0.0060.0000.007
formatRt0.0010.0000.001
get.amino.acids0.0040.0000.004
get.atomic.mass0.0010.0000.001
getVariableName0.0020.0010.001
iPQF0.3920.0020.394
iTRAQ40.0200.0000.021
imageNA22.4460.0652.582
impute-methods0.9470.0181.132
itraqdata0.0380.0030.040
listOf0.0050.0000.005
missing-data2.9120.0422.987
nQuants0.2750.0020.277
normalise-methods0.0260.0010.027
npcv0.0040.0000.004
pSet-class0.0030.0000.003
pickPeaks-method0.2630.0030.267
plot-methods1.2540.0071.274
plot2d-methods0.7110.0030.716
plotDensity-methods0.7710.0040.775
plotMzDelta-methods1.6590.0441.704
plotNA-methods0.6370.0260.663
plotSpectrumSpectrum-methods0.8150.0230.838
precSelection0.0190.0010.020
purityCorrect-methods0.0320.0020.033
quantify-methods10.247 3.360 5.559
readIspyData0.0000.0000.001
readMSData0.4800.0050.485
readMSnSet0.0000.0000.001
readMgfData3.3450.0473.398
readMzTabData3.3530.0433.816
readMzTabData_v0.90.2640.0020.458
removeNoId-methods1.1080.0111.120
removePeaks-methods1.2720.0221.554
removeReporters-methods0.9220.0051.344
smooth-methods0.2340.0040.238
trimMz-methods0.0990.0050.104
writeMgfData-methods0.0010.0010.002
writeMzTabData3.6600.0409.762
xic-methods0.0010.0000.001