Back to the "Multiple platform build/check report" A  B  C  D  E  F  G [H] I  J  K  L  M  N  O  P  Q  R  S  T  U  V  W  X  Y  Z 

BioC 3.2: CHECK report for HTqPCR on moscato1

This page was generated on 2015-08-20 13:19:31 -0700 (Thu, 20 Aug 2015).

Package 486/1069HostnameOS / ArchINSTALLBUILDCHECKBUILD BIN
HTqPCR 1.23.0
Heidi Dvinge
Snapshot Date: 2015-08-19 16:24:33 -0700 (Wed, 19 Aug 2015)
URL: https://hedgehog.fhcrc.org/bioconductor/trunk/madman/Rpacks/HTqPCR
Last Changed Rev: 102594 / Revision: 107602
Last Changed Date: 2015-04-16 13:02:44 -0700 (Thu, 16 Apr 2015)
zin1 Linux (Ubuntu 14.04.2 LTS) / x86_64  OK  OK  OK UNNEEDED, same version exists in internal repository
moscato1 Windows Server 2008 R2 Enterprise SP1 (64-bit) / x64  OK  OK [ OK ] OK UNNEEDED, same version exists in internal repository
perceval Mac OS X Snow Leopard (10.6.8) / x86_64  OK  OK  OK  OK UNNEEDED, same version exists in internal repository
oaxaca Mac OS X Mavericks (10.9.5) / x86_64  OK  OK  OK  OK UNNEEDED, same version exists in internal repository

Summary

Package: HTqPCR
Version: 1.23.0
Command: rm -rf HTqPCR.buildbin-libdir HTqPCR.Rcheck && mkdir HTqPCR.buildbin-libdir HTqPCR.Rcheck && D:\biocbld\bbs-3.2-bioc\R\bin\R.exe CMD INSTALL --build --merge-multiarch --library=HTqPCR.buildbin-libdir HTqPCR_1.23.0.tar.gz >HTqPCR.Rcheck\00install.out 2>&1 && cp HTqPCR.Rcheck\00install.out HTqPCR-install.out && D:\biocbld\bbs-3.2-bioc\R\bin\R.exe CMD check --library=HTqPCR.buildbin-libdir --install="check:HTqPCR-install.out" --force-multiarch --no-vignettes --timings HTqPCR_1.23.0.tar.gz
StartedAt: 2015-08-20 05:58:46 -0700 (Thu, 20 Aug 2015)
EndedAt: 2015-08-20 06:00:59 -0700 (Thu, 20 Aug 2015)
EllapsedTime: 132.2 seconds
RetCode: 0
Status:  OK  
CheckDir: HTqPCR.Rcheck
Warnings: 0

Command output

##############################################################################
##############################################################################
###
### Running command:
###
###   rm -rf HTqPCR.buildbin-libdir HTqPCR.Rcheck && mkdir HTqPCR.buildbin-libdir HTqPCR.Rcheck && D:\biocbld\bbs-3.2-bioc\R\bin\R.exe CMD INSTALL --build --merge-multiarch --library=HTqPCR.buildbin-libdir HTqPCR_1.23.0.tar.gz >HTqPCR.Rcheck\00install.out 2>&1 && cp HTqPCR.Rcheck\00install.out HTqPCR-install.out  && D:\biocbld\bbs-3.2-bioc\R\bin\R.exe CMD check --library=HTqPCR.buildbin-libdir --install="check:HTqPCR-install.out" --force-multiarch --no-vignettes --timings HTqPCR_1.23.0.tar.gz
###
##############################################################################
##############################################################################


* using log directory 'D:/biocbld/bbs-3.2-bioc/meat/HTqPCR.Rcheck'
* using R version 3.2.2 (2015-08-14)
* using platform: x86_64-w64-mingw32 (64-bit)
* using session charset: ISO8859-1
* using option '--no-vignettes'
* checking for file 'HTqPCR/DESCRIPTION' ... OK
* checking extension type ... Package
* this is package 'HTqPCR' version '1.23.0'
* checking package namespace information ... OK
* checking package dependencies ... OK
* checking if this is a source package ... OK
* checking if there is a namespace ... OK
* checking for hidden files and directories ... OK
* checking for portable file names ... OK
* checking whether package 'HTqPCR' can be installed ... OK
* checking installed package size ... OK
* checking package directory ... OK
* checking 'build' directory ... OK
* checking DESCRIPTION meta-information ... NOTE
Packages listed in more than one of Depends, Imports, Suggests, Enhances:
  'Biobase' 'limma' 'RColorBrewer'
A package should be listed in only one of these fields.
* checking top-level files ... OK
* checking for left-over files ... OK
* checking index information ... OK
* checking package subdirectories ... OK
* checking R files for non-ASCII characters ... OK
* checking R files for syntax errors ... OK
* loading checks for arch 'i386'
** checking whether the package can be loaded ... OK
** checking whether the package can be loaded with stated dependencies ... OK
** checking whether the package can be unloaded cleanly ... OK
** checking whether the namespace can be loaded with stated dependencies ... OK
** checking whether the namespace can be unloaded cleanly ... OK
* loading checks for arch 'x64'
** checking whether the package can be loaded ... OK
** checking whether the package can be loaded with stated dependencies ... OK
** checking whether the package can be unloaded cleanly ... OK
** checking whether the namespace can be loaded with stated dependencies ... OK
** checking whether the namespace can be unloaded cleanly ... OK
* checking dependencies in R code ... OK
* checking S3 generic/method consistency ... OK
* checking replacement functions ... OK
* checking foreign function calls ... OK
* checking R code for possible problems ... NOTE
heatmapSig: warning in heatmap.2(data, trace = "none", density.info =
  "none", col = col, distfun = d, breaks = b, mar = mar, ...): partial
  argument match of 'mar' to 'margins'
limmaCtData: warning in topTable(fit2, sort = "none", n = nrow(fit2)):
  partial argument match of 'n' to 'number'
limmaCtData: warning in topTable(fit2, sort = "none", n = nrow(fit2)):
  partial argument match of 'sort' to 'sort.by'
plotCtCor: warning in heatmap.2(x, col = col, breaks = b, scale =
  "none", dendrogram = "row", trace = "none", main = main, density.info
  = "none", mar = mar, ...): partial argument match of 'mar' to
  'margins'
plotCtHeatmap: warning in heatmap.2(data, trace = "none", density.info
  = "none", main = main, col = col, distfun = d, breaks = breaks, mar =
  mar, ...): partial argument match of 'mar' to 'margins'
plotCtOverview: warning in plotCI(x = x.pos + i - 1, y = M[i, ], uiw =
  SD[i, ], add = TRUE, gap = 0, pch = 20, xpd = TRUE, sfra = 0.001):
  partial argument match of 'sfra' to 'sfrac'
plotCtOverview: warning in plotCI(x = x.pos + i - 1, y = M[i, ], uiw =
  SD.ratio[i, ], add = TRUE, gap = 0, pch = 20, xpd = TRUE, sfra =
  0.001): partial argument match of 'sfra' to 'sfrac'
cbind.qPCRset: no visible global function definition for 'phenoData<-'
cbind.qPCRset: no visible global function definition for
  'AnnotatedDataFrame'
cbind.qPCRset: no visible global function definition for 'pData'
changeCtLayout: no visible global function definition for
  'featureData<-'
changeCtLayout: no visible global function definition for 'featureData'
changeCtLayout: no visible global function definition for 'phenoData<-'
rbind.qPCRset: no visible global function definition for
  'featureData<-'
rbind.qPCRset: no visible global function definition for
  'AnnotatedDataFrame'
rbind.qPCRset: no visible global function definition for 'fData'
readCtData: no visible global function definition for
  'AnnotatedDataFrame'
[,qPCRset : .local: no visible global function definition for
  'featureData<-'
[,qPCRset : .local: no visible global function definition for
  'featureData'
[,qPCRset : .local: no visible global function definition for
  'phenoData<-'
[,qPCRset : .local: no visible global function definition for
  'phenoData'
exprs,qPCRset: no visible global function definition for
  'assayDataElement'
exprs<-,qPCRset-ANY: no visible global function definition for
  'assayDataElementReplace'
featureCategory,qPCRset: no visible global function definition for
  'assayDataElement'
featureCategory<-,qPCRset : .local: no visible global function
  definition for 'assayDataElementReplace'
featureClass,qPCRset: no visible global function definition for 'fData'
featureClass<-,qPCRset : .local: no visible global function definition
  for 'fData'
featureClass<-,qPCRset : .local: no visible global function definition
  for 'fData<-'
featureNames,qPCRset: no visible global function definition for 'fData'
featureNames<-,qPCRset-character: no visible global function definition
  for 'fData'
featureNames<-,qPCRset-character: no visible global function definition
  for 'fData<-'
featurePos,qPCRset: no visible global function definition for 'fData'
featurePos<-,qPCRset : .local: no visible global function definition
  for 'fData'
featurePos<-,qPCRset : .local: no visible global function definition
  for 'fData<-'
featureType,qPCRset: no visible global function definition for 'fData'
featureType<-,qPCRset : .local: no visible global function definition
  for 'fData'
featureType<-,qPCRset : .local: no visible global function definition
  for 'fData<-'
flag,qPCRset: no visible global function definition for
  'assayDataElement'
flag<-,qPCRset : .local: no visible global function definition for
  'assayDataElementReplace'
* checking Rd files ... OK
* checking Rd metadata ... OK
* checking Rd cross-references ... OK
* checking for missing documentation entries ... OK
* checking for code/documentation mismatches ... OK
* checking Rd \usage sections ... OK
* checking Rd contents ... OK
* checking for unstated dependencies in examples ... OK
* checking contents of 'data' directory ... OK
* checking data for non-ASCII characters ... OK
* checking data for ASCII and uncompressed saves ... OK
* checking installed files from 'inst/doc' ... OK
* checking files in 'vignettes' ... OK
* checking examples ...
** running examples for arch 'i386' ... [20s] OK
** running examples for arch 'x64' ... [20s] OK
* checking for unstated dependencies in vignettes ... OK
* checking package vignettes in 'inst/doc' ... OK
* checking running R code from vignettes ... SKIPPED
* checking re-building of vignette outputs ... SKIPPED
* checking PDF version of manual ... OK
* DONE

Status: 2 NOTEs
See
  'D:/biocbld/bbs-3.2-bioc/meat/HTqPCR.Rcheck/00check.log'
for details.


HTqPCR.Rcheck/00install.out:


install for i386

* installing *source* package 'HTqPCR' ...
** R
** data
** inst
** preparing package for lazy loading
** help
*** installing help indices
** building package indices
** installing vignettes
** testing if installed package can be loaded

install for x64

* installing *source* package 'HTqPCR' ...
** testing if installed package can be loaded
* MD5 sums
packaged installation of 'HTqPCR' as HTqPCR_1.23.0.zip
* DONE (HTqPCR)

HTqPCR.Rcheck/examples_i386/HTqPCR-Ex.timings:

nameusersystemelapsed
HTqPCR-package2.420.002.89
cbind0.060.020.08
changeCtLayout0.100.000.09
clusterCt0.290.000.30
filterCategory0.070.000.06
filterCtData0.180.010.20
heatmapSig1.100.001.09
limmaCtData0.540.000.55
mannwhitneyCtData0.840.000.84
normalizeCtData0.470.000.47
plotCVBoxes0.190.000.19
plotCtArray0.140.000.14
plotCtBoxes0.050.000.04
plotCtCard0.060.000.07
plotCtCategory0.590.020.61
plotCtCor0.050.020.06
plotCtDensity0.030.010.04
plotCtHeatmap1.920.021.94
plotCtHistogram0.030.000.03
plotCtOverview0.160.000.16
plotCtPCA0.060.000.06
plotCtPairs0.750.000.75
plotCtRQ0.290.000.29
plotCtReps0.080.000.08
plotCtScatter0.020.010.03
plotCtSignificance0.310.000.31
plotCtVariation0.450.000.46
plotGenes0.020.000.01
qPCRpros000
qPCRraw0.020.000.01
qPCRset-class0.090.000.10
readCtData0.250.000.25
setCategory4.210.054.91
ttestCtData0.890.011.14

HTqPCR.Rcheck/examples_x64/HTqPCR-Ex.timings:

nameusersystemelapsed
HTqPCR-package2.670.002.76
cbind0.060.010.08
changeCtLayout0.090.000.09
clusterCt0.290.020.30
filterCategory0.060.000.06
filterCtData0.170.010.19
heatmapSig1.030.001.03
limmaCtData0.510.000.51
mannwhitneyCtData0.970.000.97
normalizeCtData0.50.00.5
plotCVBoxes0.140.000.14
plotCtArray0.170.000.17
plotCtBoxes0.060.000.06
plotCtCard0.080.000.08
plotCtCategory0.810.000.81
plotCtCor0.050.000.05
plotCtDensity0.050.000.04
plotCtHeatmap2.170.002.17
plotCtHistogram0.010.000.02
plotCtOverview0.090.000.09
plotCtPCA0.040.000.03
plotCtPairs0.640.000.64
plotCtRQ0.370.000.38
plotCtReps0.120.000.12
plotCtScatter0.040.000.03
plotCtSignificance0.430.000.43
plotCtVariation0.630.000.63
plotGenes0.020.000.02
qPCRpros0.010.000.01
qPCRraw000
qPCRset-class0.070.000.07
readCtData0.150.000.15
setCategory3.870.083.96
ttestCtData0.870.000.88