GenomicFiles 1.6.0 Bioconductor Package Maintainer
 | Snapshot Date: 2015-10-26 19:24:07 -0400 (Mon, 26 Oct 2015) |  | URL: https://hedgehog.fhcrc.org/bioconductor/branches/RELEASE_3_2/madman/Rpacks/GenomicFiles |  | Last Changed Rev: 109589 / Revision: 109947 |  | Last Changed Date: 2015-10-13 15:36:05 -0400 (Tue, 13 Oct 2015) |  
  | linux1.bioconductor.org  | Linux (Ubuntu 14.04.2 LTS) / x86_64  |  OK  |  OK  |  OK  |  |   | 
| windows1.bioconductor.org  | Windows Server 2012 R2 Enterprise SP1 (64-bit) / x64  | [ OK ] |  OK  |  OK  |  OK  |   | 
| perceval  | Mac OS X Snow Leopard (10.6.8) / x86_64  |  OK  |  OK  |  OK  |  OK  |   | 
| oaxaca  | Mac OS X Mavericks (10.9.5) / x86_64  |  OK  |  OK  |  OK  |  OK  |   | 
##############################################################################
##############################################################################
###
### Running command:
###
###   C:\cygwin64\bin\curl.exe -O http://linux1.bioconductor.org/BBS/3.2/bioc/src/contrib/GenomicFiles_1.6.0.tar.gz && C:\biocbld\bbs-3.2-bioc\R\bin\R.exe CMD INSTALL --merge-multiarch GenomicFiles_1.6.0.tar.gz && rm GenomicFiles_1.6.0.tar.gz
###
##############################################################################
##############################################################################
  % Total    % Received % Xferd  Average Speed   Time    Time     Time  Current
                                 Dload  Upload   Total   Spent    Left  Speed
  0     0    0     0    0     0      0      0 --:--:-- --:--:-- --:--:--     0
100  221k  100  221k    0     0  1916k      0 --:--:-- --:--:-- --:--:--  108M
install for i386
* installing to library 'C:/biocbld/bbs-3.2-bioc/R/library'
* installing *source* package 'GenomicFiles' ...
** R
** inst
** preparing package for lazy loading
** help
*** installing help indices
** building package indices
** installing vignettes
** testing if installed package can be loaded
install for x64
* installing to library 'C:/biocbld/bbs-3.2-bioc/R/library'
* installing *source* package 'GenomicFiles' ...
** testing if installed package can be loaded
* DONE (GenomicFiles)