Back to the "Multiple platform build/check report" A  B  C  D  E  F [G] H  I  J  K  L  M  N  O  P  Q  R  S  T  U  V  W  X  Y  Z 

BioC 3.2: CHECK report for GWASTools on oaxaca

This page was generated on 2015-10-27 17:39:47 -0400 (Tue, 27 Oct 2015).

Package 481/1104HostnameOS / ArchINSTALLBUILDCHECKBUILD BIN
GWASTools 1.16.1
Stephanie M. Gogarten , Adrienne Stilp
Snapshot Date: 2015-10-26 19:24:07 -0400 (Mon, 26 Oct 2015)
URL: https://hedgehog.fhcrc.org/bioconductor/branches/RELEASE_3_2/madman/Rpacks/GWASTools
Last Changed Rev: 109656 / Revision: 109947
Last Changed Date: 2015-10-15 13:30:57 -0400 (Thu, 15 Oct 2015)
linux1.bioconductor.org Linux (Ubuntu 14.04.2 LTS) / x86_64  OK  OK  OK UNNEEDED, same version exists in internal repository
windows1.bioconductor.org Windows Server 2012 R2 Enterprise SP1 (64-bit) / x64  OK  OK  OK  OK UNNEEDED, same version exists in internal repository
perceval Mac OS X Snow Leopard (10.6.8) / x86_64  OK  OK  OK  OK UNNEEDED, same version exists in internal repository
oaxaca Mac OS X Mavericks (10.9.5) / x86_64  OK  OK [ OK ] OK UNNEEDED, same version exists in internal repository

Summary

Package: GWASTools
Version: 1.16.1
Command: /Library/Frameworks/R.framework/Versions/Current/Resources/bin/R CMD check --no-vignettes --timings GWASTools_1.16.1.tar.gz
StartedAt: 2015-10-27 04:32:43 -0400 (Tue, 27 Oct 2015)
EndedAt: 2015-10-27 04:38:32 -0400 (Tue, 27 Oct 2015)
EllapsedTime: 349.0 seconds
RetCode: 0
Status:  OK 
CheckDir: GWASTools.Rcheck
Warnings: 0

Command output

##############################################################################
##############################################################################
###
### Running command:
###
###   /Library/Frameworks/R.framework/Versions/Current/Resources/bin/R CMD check --no-vignettes --timings GWASTools_1.16.1.tar.gz
###
##############################################################################
##############################################################################


* using log directory ‘/Users/biocbuild/bbs-3.2-bioc/meat/GWASTools.Rcheck’
* using R version 3.2.2 (2015-08-14)
* using platform: x86_64-apple-darwin13.4.0 (64-bit)
* using session charset: UTF-8
* using option ‘--no-vignettes’
* checking for file ‘GWASTools/DESCRIPTION’ ... OK
* checking extension type ... Package
* this is package ‘GWASTools’ version ‘1.16.1’
* checking package namespace information ... OK
* checking package dependencies ... OK
* checking if this is a source package ... OK
* checking if there is a namespace ... OK
* checking for hidden files and directories ... OK
* checking for portable file names ... OK
* checking for sufficient/correct file permissions ... OK
* checking whether package ‘GWASTools’ can be installed ... [11s/11s] OK
* checking installed package size ... OK
* checking package directory ... OK
* checking ‘build’ directory ... OK
* checking DESCRIPTION meta-information ... OK
* checking top-level files ... OK
* checking for left-over files ... OK
* checking index information ... OK
* checking package subdirectories ... OK
* checking R files for non-ASCII characters ... OK
* checking R files for syntax errors ... OK
* checking whether the package can be loaded ... OK
* checking whether the package can be loaded with stated dependencies ... OK
* checking whether the package can be unloaded cleanly ... OK
* checking whether the namespace can be loaded with stated dependencies ... OK
* checking whether the namespace can be unloaded cleanly ... OK
* checking dependencies in R code ... OK
* checking S3 generic/method consistency ... OK
* checking replacement functions ... OK
* checking foreign function calls ... OK
* checking R code for possible problems ... OK
* checking Rd files ... OK
* checking Rd metadata ... OK
* checking Rd cross-references ... OK
* checking for missing documentation entries ... OK
* checking for code/documentation mismatches ... OK
* checking Rd \usage sections ... OK
* checking Rd contents ... OK
* checking for unstated dependencies in examples ... OK
* checking contents of ‘data’ directory ... OK
* checking data for non-ASCII characters ... OK
* checking data for ASCII and uncompressed saves ... OK
* checking sizes of PDF files under ‘inst/doc’ ... OK
* checking installed files from ‘inst/doc’ ... OK
* checking files in ‘vignettes’ ... OK
* checking examples ... [41s/47s] OK
Examples with CPU or elapsed time > 5s
           user system elapsed
vcfWrite 10.406  0.214  15.064
* checking for unstated dependencies in ‘tests’ ... OK
* checking tests ...
  Running ‘test.R’ [168s/171s]
 [169s/172s] OK
* checking for unstated dependencies in vignettes ... OK
* checking package vignettes in ‘inst/doc’ ... OK
* checking running R code from vignettes ... SKIPPED
* checking re-building of vignette outputs ... SKIPPED
* checking PDF version of manual ... OK
* DONE

Status: OK

GWASTools.Rcheck/00install.out:

* installing *source* package ‘GWASTools’ ...
** R
** data
*** moving datasets to lazyload DB
** inst
** preparing package for lazy loading
Creating a generic function for ‘open’ from package ‘base’ in package ‘GWASTools’
Creating a generic function for ‘close’ from package ‘base’ in package ‘GWASTools’
** help
*** installing help indices
** building package indices
** installing vignettes
** testing if installed package can be loaded
* DONE (GWASTools)

GWASTools.Rcheck/GWASTools-Ex.timings:

nameusersystemelapsed
BAFfromClusterMeans1.2940.0431.515
BAFfromGenotypes0.0010.0000.001
GdsGenotypeReader-class0.0440.0020.069
GdsIntensityReader-class0.0220.0010.023
GdsReader-class0.0600.0070.148
GenotypeData-class0.210.010.27
HLA0.0030.0010.004
IntensityData-class0.0500.0020.052
MatrixGenotypeReader-class0.0030.0010.003
NcdfGenotypeReader-class0.0100.0010.025
NcdfIntensityReader-class0.0190.0010.033
NcdfReader-class0.0070.0010.009
ScanAnnotationDataFrame-class0.0990.0020.100
ScanAnnotationSQLite-class0.0760.0050.082
SnpAnnotationDataFrame-class0.1200.0030.123
SnpAnnotationSQLite-class0.0890.0050.096
alleleFrequency0.2340.0070.244
allequal0.0000.0000.001
anomDetectBAF1.1600.0071.199
anomDetectLOH0.6950.0070.701
anomIdentifyLowQuality0.8570.0080.867
anomSegStats0.3350.0330.381
apartSnpSelection0.0840.0040.102
assocCoxPH0.5550.0130.569
assocRegression0.8730.0130.886
batchTest1.5140.0281.544
centromeres0.0030.0000.004
chromIntensityPlot0.1050.0070.113
convertNcdfGds0.2600.0140.320
convertVcfGds0.0490.0040.077
createDataFile0.9780.0281.083
duplicateDiscordance0.5900.0260.616
duplicateDiscordanceAcrossDatasets0.1660.0020.169
duplicateDiscordanceProbability0.0010.0010.001
exactHWE0.2040.0120.230
findBAFvariance0.4760.0170.494
gdsSubset0.0230.0030.028
genoClusterPlot0.7500.0340.850
genotypeToCharacter0.0010.0010.002
getobj0.0020.0000.002
hetByScanChrom0.1830.0060.188
hetBySnpSex0.1720.0070.179
ibdPlot0.0390.0010.041
imputedDosageFile1.5440.0401.750
intensityOutliersPlot0.4810.0090.491
manhattanPlot0.0180.0010.020
meanIntensityByScanChrom0.4870.0030.491
mendelErr1.4720.0241.496
mendelList0.0150.0010.015
missingGenotypeByScanChrom0.1700.0020.173
missingGenotypeBySnpSex0.1690.0020.172
ncdfSubset0.0500.0020.052
pasteSorted0.0010.0000.000
pcaSnpFilters0.0030.0010.003
pedigreeCheck0.0640.0010.065
pedigreeDeleteDuplicates0.0090.0010.009
pedigreeMaxUnrelated0.0980.0010.099
pedigreePairwiseRelatedness0.0500.0010.051
plinkToNcdf2.6410.0402.704
plinkUtils4.0220.0734.102
pseudoautoIntensityPlot0.0580.0020.060
pseudoautosomal0.0020.0010.002
qqPlot0.0780.0030.082
qualityScoreByScan0.2710.0040.450
qualityScoreBySnp0.0340.0040.039
readWriteFirst0.0050.0020.057
relationsMeanVar0.0030.0000.002
saveas0.0020.0010.002
setMissingGenotypes0.0700.0030.073
simulateGenotypeMatrix0.4740.0100.484
simulateIntensityMatrix0.1060.0130.128
snpCorrelationPlot0.0150.0010.018
snpStats0.8040.0190.830
vcfWrite10.406 0.21415.064