DOSE 2.7.10 Guangchuang Yu
 | Snapshot Date: 2015-08-23 16:24:14 -0700 (Sun, 23 Aug 2015) |  | URL: https://hedgehog.fhcrc.org/bioconductor/trunk/madman/Rpacks/DOSE |  | Last Changed Rev: 107646 / Revision: 107696 |  | Last Changed Date: 2015-08-20 22:27:05 -0700 (Thu, 20 Aug 2015) |  
  | zin1  | Linux (Ubuntu 14.04.2 LTS) / x86_64  | [ OK ] |  OK  |  OK  |  |   | 
| perceval  | Mac OS X Snow Leopard (10.6.8) / x86_64  |  OK  |  OK  |  OK  |  OK  |   | 
| oaxaca  | Mac OS X Mavericks (10.9.5) / x86_64  |  OK  |  OK  |  OK  |  OK  |   | 
##############################################################################
##############################################################################
###
### Running command:
###
###   /home/biocbuild/bbs-3.2-bioc/R/bin/R CMD INSTALL DOSE
###
##############################################################################
##############################################################################
* installing to library ‘/home/biocbuild/bbs-3.2-bioc/R/library’
* installing *source* package ‘DOSE’ ...
** R
** data
** inst
** preparing package for lazy loading
** help
*** installing help indices
** building package indices
[1]
[2]
[3]
[4]
[5]
[6]
[7]
[8]
[9]
[10]
[11]
[12]
[13]
[14]
[15]
[16]
[17]
[18]
[19]
[20]
[21]
[22]
[23]
[24]
[25]
[26]
[27]
[28]
[29]
Warning: replacing previous import by ‘graph::.__C__dist’ when loading ‘topGO’
** installing vignettes
** testing if installed package can be loaded
* DONE (DOSE)