Back to the "Multiple platform build/check report" A  B  C [D] E  F  G  H  I  J  K  L  M  N  O  P  Q  R  S  T  U  V  W  X  Y  Z 

BioC 3.2: CHECK report for DAPAR on perceval

This page was generated on 2015-10-20 16:12:47 -0400 (Tue, 20 Oct 2015).

Package 248/1104HostnameOS / ArchINSTALLBUILDCHECKBUILD BIN
DAPAR 1.0.0
Samuel Wieczorek
Snapshot Date: 2015-10-19 19:24:09 -0400 (Mon, 19 Oct 2015)
URL: https://hedgehog.fhcrc.org/bioconductor/branches/RELEASE_3_2/madman/Rpacks/DAPAR
Last Changed Rev: 109589 / Revision: 109762
Last Changed Date: 2015-10-13 15:36:05 -0400 (Tue, 13 Oct 2015)
linux1.bioconductor.org Linux (Ubuntu 14.04.2 LTS) / x86_64  OK  OK  OK UNNEEDED, same version exists in internal repository
windows1.bioconductor.org Windows Server 2012 R2 Enterprise SP1 (64-bit) / x64  OK  OK  OK  OK UNNEEDED, same version exists in internal repository
perceval Mac OS X Snow Leopard (10.6.8) / x86_64  OK  OK [ OK ] OK UNNEEDED, same version exists in internal repository
oaxaca Mac OS X Mavericks (10.9.5) / x86_64  OK  OK  OK  OK UNNEEDED, same version exists in internal repository

Summary

Package: DAPAR
Version: 1.0.0
Command: /Library/Frameworks/R.framework/Versions/Current/Resources/bin/R CMD check --no-vignettes --timings DAPAR_1.0.0.tar.gz
StartedAt: 2015-10-20 07:12:12 -0400 (Tue, 20 Oct 2015)
EndedAt: 2015-10-20 07:16:39 -0400 (Tue, 20 Oct 2015)
EllapsedTime: 267.5 seconds
RetCode: 0
Status:  OK 
CheckDir: DAPAR.Rcheck
Warnings: 0

Command output

##############################################################################
##############################################################################
###
### Running command:
###
###   /Library/Frameworks/R.framework/Versions/Current/Resources/bin/R CMD check --no-vignettes --timings DAPAR_1.0.0.tar.gz
###
##############################################################################
##############################################################################


* using log directory ‘/Users/biocbuild/bbs-3.2-bioc/meat/DAPAR.Rcheck’
* using R version 3.2.2 Patched (2015-10-08 r69496)
* using platform: x86_64-apple-darwin10.8.0 (64-bit)
* using session charset: UTF-8
* using option ‘--no-vignettes’
* checking for file ‘DAPAR/DESCRIPTION’ ... OK
* checking extension type ... Package
* this is package ‘DAPAR’ version ‘1.0.0’
* checking package namespace information ... OK
* checking package dependencies ... OK
* checking if this is a source package ... OK
* checking if there is a namespace ... OK
* checking for hidden files and directories ... OK
* checking for portable file names ... OK
* checking for sufficient/correct file permissions ... OK
* checking whether package ‘DAPAR’ can be installed ... [26s/28s] OK
* checking installed package size ... OK
* checking package directory ... OK
* checking ‘build’ directory ... OK
* checking DESCRIPTION meta-information ... OK
* checking top-level files ... OK
* checking for left-over files ... OK
* checking index information ... OK
* checking package subdirectories ... OK
* checking R files for non-ASCII characters ... OK
* checking R files for syntax errors ... OK
* checking whether the package can be loaded ... OK
* checking whether the package can be loaded with stated dependencies ... OK
* checking whether the package can be unloaded cleanly ... OK
* checking whether the namespace can be loaded with stated dependencies ... OK
* checking whether the namespace can be unloaded cleanly ... OK
* checking dependencies in R code ... OK
* checking S3 generic/method consistency ... OK
* checking replacement functions ... OK
* checking foreign function calls ... OK
* checking R code for possible problems ... NOTE
boxPlotD: no visible global function definition for ‘exprs’
boxPlotD: no visible global function definition for ‘pData’
corrMatrixD: no visible global function definition for ‘pData’
corrMatrixD: no visible global function definition for ‘exprs’
createMSnset: no visible global function definition for ‘exprs<-’
createMSnset: no visible global function definition for ‘exprs’
densityPlotD: no visible global function definition for ‘pData’
densityPlotD: no visible global function definition for ‘exprs’
diffAna: no visible global function definition for ‘exprs’
diffAnaLimma: no visible global function definition for ‘exprs’
diffAnaLimma: no visible global function definition for ‘pData’
diffAnaWelch: no visible global function definition for ‘exprs’
getIndicesConditions: no visible global function definition for ‘pData’
getNumberOfEmptyLines: no visible global function definition for
  ‘exprs’
getPaletteForLabels: no visible global function definition for ‘pData’
getPourcentageOfMV: no visible global function definition for ‘exprs’
heatmapD: no visible global function definition for ‘exprs’
mvFilter: no visible global function definition for ‘pData’
mvFilter: no visible global function definition for ‘exprs’
mvHisto: no visible global function definition for ‘pData’
mvHisto: no visible global function definition for ‘exprs’
mvImage: no visible global function definition for ‘pData’
mvImage: no visible global function definition for ‘exprs’
mvImage: no visible global function definition for ‘exprs<-’
mvImputation: no visible global function definition for ‘exprs’
mvImputation: no visible global function definition for ‘exprs<-’
mvPerLinesHisto: no visible global function definition for ‘exprs’
mvPerLinesHisto: no visible global function definition for ‘pData’
mvTypePlot: no visible global function definition for ‘exprs’
mvTypePlot: no visible global function definition for ‘pData’
normalizeD: no visible global function definition for ‘exprs’
normalizeD: no visible global function definition for ‘exprs<-’
normalizeD: no visible global function definition for ‘pData’
varianceDistD: no visible global function definition for ‘pData’
varianceDistD: no visible global function definition for ‘exprs’
writeMSnsetToExcel: no visible global function definition for ‘exprs’
writeMSnsetToExcel: no visible global function definition for ‘pData’
* checking Rd files ... OK
* checking Rd metadata ... OK
* checking Rd cross-references ... OK
* checking for missing documentation entries ... OK
* checking for code/documentation mismatches ... OK
* checking Rd \usage sections ... OK
* checking Rd contents ... OK
* checking for unstated dependencies in examples ... OK
* checking contents of ‘data’ directory ... OK
* checking data for non-ASCII characters ... OK
* checking data for ASCII and uncompressed saves ... OK
* checking sizes of PDF files under ‘inst/doc’ ... OK
* checking installed files from ‘inst/doc’ ... OK
* checking files in ‘vignettes’ ... OK
* checking examples ... [24s/24s] OK
* checking for unstated dependencies in ‘tests’ ... OK
* checking tests ...
  Running ‘testthat.R’ [11s/11s]
 [11s/12s] OK
* checking for unstated dependencies in vignettes ... OK
* checking package vignettes in ‘inst/doc’ ... OK
* checking running R code from vignettes ... SKIPPED
* checking re-building of vignette outputs ... SKIPPED
* checking PDF version of manual ... OK
* DONE

Status: 1 NOTE
See
  ‘/Users/biocbuild/bbs-3.2-bioc/meat/DAPAR.Rcheck/00check.log’
for details.


DAPAR.Rcheck/00install.out:

* installing *source* package ‘DAPAR’ ...
** R
** data
** inst
** preparing package for lazy loading
** help
*** installing help indices
** building package indices
** installing vignettes
** testing if installed package can be loaded
* DONE (DAPAR)

DAPAR.Rcheck/DAPAR-Ex.timings:

nameusersystemelapsed
boxPlotD0.1690.0240.194
corrMatrixD0.3820.0120.424
createMSnset0.1790.0110.189
densityPlotD0.1660.0140.181
diffAna0.8120.0621.034
diffAnaComputeFDR0.2820.0130.296
diffAnaGetSignificant0.1510.0110.165
diffAnaLimma0.1410.0100.152
diffAnaSave0.1370.0100.147
diffAnaVolcanoplot0.1450.0100.160
diffAnaWelch0.1420.0090.154
getIndicesConditions0.1360.0090.146
getNumberOfEmptyLines0.1450.0090.155
getPaletteForLabels0.1390.0090.149
getPourcentageOfMV0.1670.0130.183
heatmapD0.0460.0030.050
mvFilter0.5770.0180.594
mvHisto0.1430.0110.156
mvImage4.0610.2544.323
mvImputation0.1690.0120.182
mvPerLinesHisto0.1620.0120.252
mvPieChart0.1540.0100.170
mvTypePlot0.2920.0140.383
normalizeD0.1430.0090.153
varianceDistD0.5220.0280.882
writeMSnsetToExcel3.5620.3923.606