Back to the "Multiple platform build/check report" A  B [C] D  E  F  G  H  I  J  K  L  M  N  O  P  Q  R  S  T  U  V  W  X  Y  Z 

BioC 3.2: CHECK report for ChIPpeakAnno on zin1

This page was generated on 2015-08-13 11:00:56 -0700 (Thu, 13 Aug 2015).

Package 161/1064HostnameOS / ArchINSTALLBUILDCHECKBUILD BIN
ChIPpeakAnno 3.3.3
Lihua Julie Zhu , Jianhong Ou
Snapshot Date: 2015-08-12 16:24:12 -0700 (Wed, 12 Aug 2015)
URL: https://hedgehog.fhcrc.org/bioconductor/trunk/madman/Rpacks/ChIPpeakAnno
Last Changed Rev: 107075 / Revision: 107359
Last Changed Date: 2015-08-04 07:31:10 -0700 (Tue, 04 Aug 2015)
zin1 Linux (Ubuntu 14.04.2 LTS) / x86_64  OK  OK [ OK ]UNNEEDED, same version exists in internal repository
perceval Mac OS X Snow Leopard (10.6.8) / x86_64  OK  OK  OK  OK UNNEEDED, same version exists in internal repository
oaxaca Mac OS X Mavericks (10.9.5) / x86_64  OK  OK  OK  OK UNNEEDED, same version exists in internal repository

Summary

Package: ChIPpeakAnno
Version: 3.3.3
Command: /home/biocbuild/bbs-3.2-bioc/R/bin/R CMD check --no-vignettes --timings ChIPpeakAnno_3.3.3.tar.gz
StartedAt: 2015-08-12 22:28:52 -0700 (Wed, 12 Aug 2015)
EndedAt: 2015-08-12 22:33:06 -0700 (Wed, 12 Aug 2015)
EllapsedTime: 254.2 seconds
RetCode: 0
Status:  OK 
CheckDir: ChIPpeakAnno.Rcheck
Warnings: 0

Command output

##############################################################################
##############################################################################
###
### Running command:
###
###   /home/biocbuild/bbs-3.2-bioc/R/bin/R CMD check --no-vignettes --timings ChIPpeakAnno_3.3.3.tar.gz
###
##############################################################################
##############################################################################


* using log directory ‘/home/biocbuild/bbs-3.2-bioc/meat/ChIPpeakAnno.Rcheck’
* using R version 3.2.2 beta (2015-08-05 r68859)
* using platform: x86_64-pc-linux-gnu (64-bit)
* using session charset: UTF-8
* using option ‘--no-vignettes’
* checking for file ‘ChIPpeakAnno/DESCRIPTION’ ... OK
* checking extension type ... Package
* this is package ‘ChIPpeakAnno’ version ‘3.3.3’
* checking package namespace information ... OK
* checking package dependencies ... NOTE
Depends: includes the non-default packages:
  ‘grid’ ‘VennDiagram’ ‘biomaRt’ ‘IRanges’ ‘Biostrings’ ‘GenomicRanges’
Adding so many packages to the search path is excessive and importing
selectively is preferable.
* checking if this is a source package ... OK
* checking if there is a namespace ... OK
* checking for hidden files and directories ... OK
* checking for portable file names ... OK
* checking for sufficient/correct file permissions ... OK
* checking whether package ‘ChIPpeakAnno’ can be installed ... [18s/18s] OK
* checking installed package size ... NOTE
  installed size is 12.6Mb
  sub-directories of 1Mb or more:
    data      9.7Mb
    extdata   2.1Mb
* checking package directory ... OK
* checking ‘build’ directory ... OK
* checking DESCRIPTION meta-information ... NOTE
Malformed Title field: should not end in a period.
Malformed Description field: should contain one or more complete sentences.
* checking top-level files ... OK
* checking for left-over files ... OK
* checking index information ... OK
* checking package subdirectories ... OK
* checking R files for non-ASCII characters ... OK
* checking R files for syntax errors ... OK
* checking whether the package can be loaded ... OK
* checking whether the package can be loaded with stated dependencies ... OK
* checking whether the package can be unloaded cleanly ... OK
* checking whether the namespace can be loaded with stated dependencies ... OK
* checking whether the namespace can be unloaded cleanly ... OK
* checking dependencies in R code ... OK
* checking S3 generic/method consistency ... OK
* checking replacement functions ... OK
* checking foreign function calls ... OK
* checking R code for possible problems ... NOTE
annotatePeakInBatch: no visible global function definition for
  ‘seqlevels’
assignChromosomeRegion : formatSeqnames: no visible global function
  definition for ‘seqlevels’
assignChromosomeRegion : formatSeqnames: no visible global function
  definition for ‘seqlevels<-’
assignChromosomeRegion: no visible global function definition for
  ‘seqlengths’
assignChromosomeRegion: no visible global function definition for
  ‘seqlevels’
assignChromosomeRegion: no visible global function definition for
  ‘keepSeqlevels’
findOverlappingPeaks: no visible global function definition for
  ‘DataFrame’
formatSeqnames: no visible global function definition for ‘seqlevels’
formatSeqnames: no visible global function definition for ‘seqlevels<-’
getAllPeakSequence: no visible global function definition for
  ‘seqlevels’
getAllPeakSequence: no visible global function definition for
  ‘seqlengths’
getAllPeakSequence: no visible global function definition for
  ‘seqlengths<-’
getEnrichedGO: no visible global function definition for ‘mappedkeys’
getEnrichedGO : <anonymous>: no visible global function definition for
  ‘GOID’
getEnrichedGO : <anonymous>: no visible global function definition for
  ‘Term’
getEnrichedGO : <anonymous>: no visible global function definition for
  ‘Definition’
getEnrichedGO : <anonymous>: no visible global function definition for
  ‘Ontology’
getEnrichedPATH: no visible global function definition for ‘mappedkeys’
mergePlusMinusPeaks: no visible global function definition for
  ‘rowMins’
mergePlusMinusPeaks: no visible global function definition for
  ‘rowMaxs’
* checking Rd files ... OK
* checking Rd metadata ... OK
* checking Rd cross-references ... OK
* checking for missing documentation entries ... OK
* checking for code/documentation mismatches ... OK
* checking Rd \usage sections ... OK
* checking Rd contents ... OK
* checking for unstated dependencies in examples ... OK
* checking contents of ‘data’ directory ... OK
* checking data for non-ASCII characters ... OK
* checking data for ASCII and uncompressed saves ... OK
* checking sizes of PDF files under ‘inst/doc’ ... OK
* checking installed files from ‘inst/doc’ ... OK
* checking files in ‘vignettes’ ... OK
* checking examples ... [23s/23s] OK
* checking for unstated dependencies in ‘tests’ ... OK
* checking tests ...
  Running ‘runTests.R’ [45s/54s]
 [46s/54s] OK
* checking for unstated dependencies in vignettes ... OK
* checking package vignettes in ‘inst/doc’ ... OK
* checking running R code from vignettes ... SKIPPED
* checking re-building of vignette outputs ... SKIPPED
* checking PDF version of manual ... OK
* DONE

Status: 4 NOTEs
See
  ‘/home/biocbuild/bbs-3.2-bioc/meat/ChIPpeakAnno.Rcheck/00check.log’
for details.


ChIPpeakAnno.Rcheck/00install.out:

* installing *source* package ‘ChIPpeakAnno’ ...
** R
** data
** inst
** preparing package for lazy loading
No methods found in "matrixStats" for requests: makeGRangesFromDataFrame
** help
*** installing help indices
** building package indices
** installing vignettes
** testing if installed package can be loaded
No methods found in "matrixStats" for requests: makeGRangesFromDataFrame
* DONE (ChIPpeakAnno)

ChIPpeakAnno.Rcheck/ChIPpeakAnno-Ex.timings:

nameusersystemelapsed
BED2RangedData0.0390.0000.042
ChIPpeakAnno-package0.5650.0120.577
ExonPlusUtr.human.GRCh374.1450.0204.162
GFF2RangedData0.0140.0000.014
Peaks.Ste12.Replicate10.0260.0000.025
Peaks.Ste12.Replicate20.0220.0000.022
Peaks.Ste12.Replicate30.0170.0040.021
TSS.human.GRCh370.1310.0040.142
TSS.human.GRCh380.5050.0120.516
TSS.human.NCBI360.2010.0040.206
TSS.mouse.GRCm380.4910.0080.498
TSS.mouse.NCBIM370.1120.0000.112
TSS.rat.RGSC3.40.090.000.09
TSS.rat.Rnor_5.00.0840.0000.084
TSS.zebrafish.Zv80.0850.0000.085
TSS.zebrafish.Zv90.1080.0000.109
addAncestors1.2400.0321.278
addGeneIDs2.3550.0562.410
annotatePeakInBatch0.8510.0360.886
annotatedPeak0.0960.0000.096
assignChromosomeRegion0.0020.0000.003
binOverFeature0.3930.0040.396
condenseMatrixByColnames0.0190.0000.020
convert2EntrezID0.3820.0000.381
countPatternInSeqs0.1270.0000.127
egOrgMap0.0010.0000.001
enrichedGO0.0030.0000.003
findOverlappingPeaks0.0020.0000.002
findOverlapsOfPeaks0.4970.0080.504
getAllPeakSequence0.5910.0040.613
getAnnotation0.0010.0000.001
getEnrichedGO0.0160.0000.016
getEnrichedPATH0.0010.0000.001
getGeneSeq0.0030.0000.003
getUniqueGOidCount0.0010.0000.002
getVennCounts0.0020.0000.002
hyperGtest0.0020.0000.002
makeVennDiagram0.0040.0000.004
mergePlusMinusPeaks0.0020.0000.001
myPeakList0.0330.0040.040
peaksNearBDP0.0010.0000.001
summarizePatternInPeaks0.6160.0040.620
toGRanges0.0410.0000.041
translatePattern0.0010.0000.001
write2FASTA0.0360.0000.036