| CNORode 1.11.0 David Henriques
 
 | Snapshot Date: 2015-08-19 16:24:33 -0700 (Wed, 19 Aug 2015) |  | URL: https://hedgehog.fhcrc.org/bioconductor/trunk/madman/Rpacks/CNORode |  | Last Changed Rev: 102594 / Revision: 107602 |  | Last Changed Date: 2015-04-16 13:02:44 -0700 (Thu, 16 Apr 2015) | 
 | zin1 | Linux (Ubuntu 14.04.2 LTS) / x86_64 | OK | OK | OK |  |  | 
| moscato1 | Windows Server 2008 R2 Enterprise SP1 (64-bit) / x64 | OK | OK | OK | [ OK ] |  | 
| perceval | Mac OS X Snow Leopard (10.6.8) / x86_64 | OK | OK | OK | OK |  | 
| oaxaca | Mac OS X Mavericks (10.9.5) / x86_64 | OK | OK | OK | OK |  | 
##############################################################################
##############################################################################
###
### Running command:
###
###   cd CNORode.buildbin-libdir/CNORode && zip -r ../../CNORode_1.11.0.zip . & cd ../..
###
##############################################################################
##############################################################################
  adding: data/ (256 bytes security) (stored 0%)
  adding: data/ToyCNOlist.RData (188 bytes security) (deflated 3%)
  adding: data/ToyIndices.RData (188 bytes security) (stored 0%)
  adding: data/ToyModel.RData (188 bytes security) (stored 0%)
  adding: DESCRIPTION (188 bytes security) (deflated 32%)
  adding: doc/ (256 bytes security) (stored 0%)
  adding: doc/CNORode-vignette.pdf (188 bytes security) (deflated 10%)
  adding: doc/CNORode-vignette.R (188 bytes security) (deflated 72%)
  adding: doc/CNORode-vignette.Rnw (188 bytes security) (deflated 60%)
  adding: doc/index.html (188 bytes security) (deflated 63%)
  adding: doc/ToyModelMMB_FeedbackAnd.csv (188 bytes security) (deflated 78%)
  adding: doc/ToyModelMMB_FeedbackAnd.sif (188 bytes security) (deflated 42%)
  adding: help/ (256 bytes security) (stored 0%)
  adding: help/aliases.rds (188 bytes security) (stored 0%)
  adding: help/AnIndex (188 bytes security) (deflated 66%)
  adding: help/CNORode.rdb (188 bytes security) (deflated 1%)
  adding: help/CNORode.rdx (188 bytes security) (stored 0%)
  adding: help/paths.rds (188 bytes security) (stored 0%)
  adding: html/ (256 bytes security) (stored 0%)
  adding: html/00Index.html (188 bytes security) (deflated 71%)
  adding: html/R.css (188 bytes security) (deflated 75%)
  adding: INDEX (188 bytes security) (deflated 69%)
  adding: libs/ (256 bytes security) (stored 0%)
  adding: libs/i386/ (256 bytes security) (stored 0%)
  adding: libs/i386/CNORode.dll (188 bytes security) (deflated 58%)
  adding: libs/x64/ (256 bytes security) (stored 0%)
  adding: libs/x64/CNORode.dll (188 bytes security) (deflated 56%)
  adding: MD5 (188 bytes security) (deflated 44%)
  adding: Meta/ (256 bytes security) (stored 0%)
  adding: Meta/data.rds (188 bytes security) (stored 0%)
  adding: Meta/hsearch.rds (188 bytes security) (stored 0%)
  adding: Meta/links.rds (188 bytes security) (stored 0%)
  adding: Meta/nsInfo.rds (188 bytes security) (stored 0%)
  adding: Meta/package.rds (188 bytes security) (stored 0%)
  adding: Meta/Rd.rds (188 bytes security) (stored 0%)
  adding: Meta/vignette.rds (188 bytes security) (stored 0%)
  adding: NAMESPACE (188 bytes security) (deflated 58%)
  adding: NEWS.Rd (188 bytes security) (deflated 30%)
  adding: R/ (256 bytes security) (stored 0%)
  adding: R/CNORode (188 bytes security) (deflated 41%)
  adding: R/CNORode.rdb (188 bytes security) (deflated 1%)
  adding: R/CNORode.rdx (188 bytes security) (stored 0%)