Back to the "Multiple platform build/check report" A  B [C] D  E  F  G  H  I  J  K  L  M  N  O  P  Q  R  S  T  U  V  W  X  Y  Z 

BioC 3.2: CHECK report for CAGEr on linux1.bioconductor.org

This page was generated on 2015-10-27 17:25:48 -0400 (Tue, 27 Oct 2015).

Package 132/1104HostnameOS / ArchINSTALLBUILDCHECKBUILD BIN
CAGEr 1.12.0
Vanja Haberle
Snapshot Date: 2015-10-26 19:24:07 -0400 (Mon, 26 Oct 2015)
URL: https://hedgehog.fhcrc.org/bioconductor/branches/RELEASE_3_2/madman/Rpacks/CAGEr
Last Changed Rev: 109589 / Revision: 109947
Last Changed Date: 2015-10-13 15:36:05 -0400 (Tue, 13 Oct 2015)
linux1.bioconductor.org Linux (Ubuntu 14.04.2 LTS) / x86_64  OK  OK [ OK ]UNNEEDED, same version exists in internal repository
windows1.bioconductor.org Windows Server 2012 R2 Enterprise SP1 (64-bit) / x64  OK  OK  OK  OK UNNEEDED, same version exists in internal repository
perceval Mac OS X Snow Leopard (10.6.8) / x86_64  OK  OK  OK  OK UNNEEDED, same version exists in internal repository
oaxaca Mac OS X Mavericks (10.9.5) / x86_64  OK  OK  OK  OK UNNEEDED, same version exists in internal repository

Summary

Package: CAGEr
Version: 1.12.0
Command: /home/biocbuild/bbs-3.2-bioc/R/bin/R CMD check --no-vignettes --timings CAGEr_1.12.0.tar.gz
StartedAt: 2015-10-27 01:38:26 -0400 (Tue, 27 Oct 2015)
EndedAt: 2015-10-27 01:42:00 -0400 (Tue, 27 Oct 2015)
EllapsedTime: 214.7 seconds
RetCode: 0
Status:  OK 
CheckDir: CAGEr.Rcheck
Warnings: 0

Command output

##############################################################################
##############################################################################
###
### Running command:
###
###   /home/biocbuild/bbs-3.2-bioc/R/bin/R CMD check --no-vignettes --timings CAGEr_1.12.0.tar.gz
###
##############################################################################
##############################################################################


* using log directory ‘/home/biocbuild/bbs-3.2-bioc/meat/CAGEr.Rcheck’
* using R version 3.2.2 (2015-08-14)
* using platform: x86_64-pc-linux-gnu (64-bit)
* using session charset: UTF-8
* using option ‘--no-vignettes’
* checking for file ‘CAGEr/DESCRIPTION’ ... OK
* this is package ‘CAGEr’ version ‘1.12.0’
* checking package namespace information ... OK
* checking package dependencies ... OK
* checking if this is a source package ... OK
* checking if there is a namespace ... OK
* checking for hidden files and directories ... OK
* checking for portable file names ... OK
* checking for sufficient/correct file permissions ... OK
* checking whether package ‘CAGEr’ can be installed ... [16s/16s] OK
* checking installed package size ... OK
* checking package directory ... OK
* checking ‘build’ directory ... OK
* checking DESCRIPTION meta-information ... OK
* checking top-level files ... OK
* checking for left-over files ... OK
* checking index information ... OK
* checking package subdirectories ... OK
* checking R files for non-ASCII characters ... OK
* checking R files for syntax errors ... OK
* checking whether the package can be loaded ... OK
* checking whether the package can be loaded with stated dependencies ... OK
* checking whether the package can be unloaded cleanly ... OK
* checking whether the namespace can be loaded with stated dependencies ... OK
* checking whether the namespace can be unloaded cleanly ... OK
* checking dependencies in R code ... NOTE
'library' or 'require' call to ‘parallel’ in package code.
  Please use :: or requireNamespace() instead.
  See section 'Suggested packages' in the 'Writing R Extensions' manual.
* checking S3 generic/method consistency ... OK
* checking replacement functions ... OK
* checking foreign function calls ... OK
* checking R code for possible problems ... NOTE
.cluster.ctss.strand: no visible binding for global variable ‘tpm’
.cluster.ctss.strand: no visible global function definition for ‘Rle’
.ctss2clusters: no visible global function definition for ‘detectCores’
.ctss2clusters: no visible global function definition for ‘mclapply’
.ctss2clusters : <anonymous>: no visible binding for global variable
  ‘chr’
.ctss2clusters.predef: no visible global function definition for
  ‘detectCores’
.ctss2clusters.predef: no visible global function definition for
  ‘mclapply’
.ctss2clusters.predef : <anonymous>: no visible binding for global
  variable ‘chr’
.distclu: no visible binding for global variable ‘tpm’
.distclu: no visible global function definition for ‘mclapply’
.estimate.G.addition.and.correct: no visible binding for global
  variable ‘removedG’
.estimate.G.addition.and.correct: no visible binding for global
  variable ‘pos’
.estimate.G.addition.and.correct: no visible binding for global
  variable ‘V1’
.estimate.G.addition.and.correct: no visible binding for global
  variable ‘V2’
.estimate.G.addition.and.correct: no visible binding for global
  variable ‘nr_tags’
.fit.power.law.to.reverse.cumulative: no visible binding for global
  variable ‘num’
.fit.power.law.to.reverse.cumulative: no visible binding for global
  variable ‘nr_tags’
.get.quant.pos: no visible global function definition for ‘detectCores’
.get.quant.pos: no visible global function definition for ‘mclapply’
.getCumsum: no visible global function definition for ‘detectCores’
.getCumsum: no visible global function definition for ‘mclapply’
.getCumsum : <anonymous>: no visible binding for global variable ‘chr’
.getCumsumChr: no visible global function definition for ‘Rle’
.getCumsumChr2: no visible binding for global variable ‘chr’
.getTotalTagCount: no visible binding for global variable ‘tpm’
.getTotalTagCount: no visible binding for global variable
  ‘consensus.cluster’
.make.consensus.clusters: no visible binding for global variable ‘tpm’
.paraclu: no visible binding for global variable ‘tpm’
.paraclu3: no visible global function definition for ‘detectCores’
.paraclu3 : <anonymous>: no visible binding for global variable ‘chr’
.paraclu3: no visible global function definition for ‘mclapply’
.paraclu3: no visible binding for global variable ‘chr’
.paraclu3: no visible binding for global variable ‘max_d’
.paraclu3: no visible binding for global variable ‘min_d’
.paraclu3: no visible binding for global variable ‘tpm’
.plotReverseCumulative: no visible binding for global variable ‘num’
.plotReverseCumulative: no visible binding for global variable
  ‘nr_tags’
.predefined.clusters: no visible binding for global variable ‘tpm’
.predefined.clusters: no visible global function definition for
  ‘mclapply’
.remove.added.G : <anonymous>: no visible binding for global variable
  ‘chr’
.remove.added.G: no visible binding for global variable ‘removedG’
.remove.added.G: no visible binding for global variable ‘chr’
.remove.added.G: no visible binding for global variable ‘pos’
.remove.added.G: no visible binding for global variable ‘nr_tags’
.remove.added.G: no visible binding for global variable ‘tag_count’
.reverse.cumsum: no visible global function definition for
  ‘detectCores’
.reverse.cumsum: no visible global function definition for ‘mclapply’
.score.promoter.shifting: no visible global function definition for
  ‘detectCores’
.score.promoter.shifting: no visible global function definition for
  ‘mclapply’
.summarize.clusters: no visible binding for global variable ‘chr’
.summarize.clusters: no visible binding for global variable ‘pos’
.summarize.clusters: no visible binding for global variable ‘tpm’
.summarize.clusters: no visible binding for global variable ‘cluster’
.summarize.clusters: no visible binding for global variable ‘nr_ctss’
.summarize.clusters.predef: no visible binding for global variable
  ‘chr’
.summarize.clusters.predef: no visible binding for global variable
  ‘pos’
.summarize.clusters.predef: no visible binding for global variable
  ‘tpm’
.summarize.clusters.predef: no visible binding for global variable
  ‘cluster’
aggregateTagClusters,CAGEset: no visible binding for global variable
  ‘consensus.cluster’
aggregateTagClusters,CAGEset: no visible binding for global variable
  ‘chr’
aggregateTagClusters,CAGEset: no visible binding for global variable
  ‘tpm’
cumulativeCTSSdistribution,CAGEset: no visible binding for global
  variable ‘tpm’
extractExpressionClass,CAGEset: no visible binding for global variable
  ‘expression_class’
getCTSS,CAGEset: no visible global function definition for ‘seqlengths’
getCTSS,CAGEset: no visible binding for global variable ‘tag_count’
getCTSS,CAGEset: no visible binding for global variable ‘chr’
getCTSS,CAGEset: no visible binding for global variable ‘pos’
getShiftingPromoters,CAGEset: no visible binding for global variable
  ‘groupX.tpm’
getShiftingPromoters,CAGEset: no visible binding for global variable
  ‘groupY.tpm’
getShiftingPromoters,CAGEset: no visible binding for global variable
  ‘shifting.score’
getShiftingPromoters,CAGEset: no visible binding for global variable
  ‘fdr.KS’
importPublicData,character-character-ANY-character: no visible binding
  for global variable ‘ENCODEtissueCAGEfly’
importPublicData,character-character-ANY-character: no visible binding
  for global variable ‘ENCODEhumanCellLinesSamples’
importPublicData,character-character-ANY-character: no visible binding
  for global variable ‘FANTOMhumanSamples’
importPublicData,character-character-ANY-character: no visible binding
  for global variable ‘FANTOMmouseSamples’
importPublicData,character-character-ANY-character: no visible binding
  for global variable ‘FANTOM5humanSamples’
importPublicData,character-character-ANY-character: no visible binding
  for global variable ‘FANTOM5mouseSamples’
importPublicData,character-character-ANY-character: no visible binding
  for global variable ‘ZebrafishSamples’
importPublicData,character-character-ANY-character: no visible binding
  for global variable ‘ZebrafishCAGE’
scoreShift,CAGEset-character-character: no visible global function
  definition for ‘detectCores’
scoreShift,CAGEset-character-character: no visible global function
  definition for ‘mclapply’
scoreShift,CAGEset-character-character : <anonymous>: no visible
  binding for global variable ‘consensus.cluster’
scoreShift,CAGEset-character-character : <anonymous> : <anonymous>: no
  visible global function definition for ‘Rle’
scoreShift,CAGEset-character-character: no visible binding for global
  variable ‘tagcount’
* checking Rd files ... OK
* checking Rd metadata ... OK
* checking Rd cross-references ... OK
* checking for missing documentation entries ... OK
* checking for code/documentation mismatches ... OK
* checking Rd \usage sections ... OK
* checking Rd contents ... OK
* checking for unstated dependencies in examples ... OK
* checking contents of ‘data’ directory ... OK
* checking data for non-ASCII characters ... OK
* checking data for ASCII and uncompressed saves ... OK
* checking installed files from ‘inst/doc’ ... OK
* checking files in ‘vignettes’ ... OK
* checking examples ... [69s/74s] OK
Examples with CPU or elapsed time > 5s
                   user system elapsed
importPublicData 41.548   0.62  47.269
* checking for unstated dependencies in vignettes ... OK
* checking package vignettes in ‘inst/doc’ ... OK
* checking running R code from vignettes ... SKIPPED
* checking re-building of vignette outputs ... SKIPPED
* checking PDF version of manual ... OK
* DONE

Status: 2 NOTEs
See
  ‘/home/biocbuild/bbs-3.2-bioc/meat/CAGEr.Rcheck/00check.log’
for details.


CAGEr.Rcheck/00install.out:

* installing *source* package ‘CAGEr’ ...
** R
** data
** inst
** preparing package for lazy loading
** help
*** installing help indices
** building package indices
** installing vignettes
** testing if installed package can be loaded
* DONE (CAGEr)

CAGEr.Rcheck/CAGEr-Ex.timings:

nameusersystemelapsed
CAGEset-class0.0020.0000.002
CTSSclusteringMethod0.0170.0040.020
CTSScoordinates0.0230.0000.023
CTSSnormalizedTpm0.0230.0040.027
CTSStagCount0.0270.0000.027
aggregateTagClusters0.6390.0000.640
clusterCTSS2.5150.0722.588
consensusClusters0.0220.0000.022
consensusClustersTpm0.0210.0000.020
cumulativeCTSSdistribution4.4110.2404.658
exportCTSStoBedGraph0.340.000.34
exportToBed0.3670.0040.371
expressionClasses0.0220.0000.022
extractExpressionClass0.0280.0000.027
genomeName0.0160.0040.020
getCTSS0.0760.0080.084
getExpressionProfiles0.1950.0040.199
getShiftingPromoters0.0240.0000.024
importPublicData41.548 0.62047.269
inputFiles0.0360.0000.036
inputFilesType0.0360.0000.036
librarySizes0.0310.0040.036
mergeCAGEsets0.2890.0000.288
mergeSamples0.0480.0000.048
normalizeTagCount0.0750.0000.075
plotCorrelation4.6450.1124.772
plotExpressionProfiles0.1830.0040.188
plotInterquantileWidth0.0310.0000.031
plotReverseCumulatives0.0480.0000.048
quantilePositions2.3220.0002.326
sampleLabels0.0320.0000.033
scoreShift3.7990.0003.803
setColors0.0150.0040.020
tagClusters0.0220.0000.022