BrowserViz 1.1.7 Paul Shannon
Snapshot Date: 2015-08-23 16:24:14 -0700 (Sun, 23 Aug 2015) | URL: https://hedgehog.fhcrc.org/bioconductor/trunk/madman/Rpacks/BrowserViz | Last Changed Rev: 107545 / Revision: 107696 | Last Changed Date: 2015-08-18 11:08:21 -0700 (Tue, 18 Aug 2015) |
| zin1 | Linux (Ubuntu 14.04.2 LTS) / x86_64 | OK | [ OK ] | WARNINGS | | ![UNNEEDED, same version exists in internal repository UNNEEDED, same version exists in internal repository](../120px-Blue_Light_Icon.svg.png) |
perceval | Mac OS X Snow Leopard (10.6.8) / x86_64 | OK | OK | ERROR | OK | |
oaxaca | Mac OS X Mavericks (10.9.5) / x86_64 | OK | OK | ERROR | OK | |
##############################################################################
##############################################################################
###
### Running command:
###
### /home/biocbuild/bbs-3.2-bioc/R/bin/R CMD build --keep-empty-dirs --no-resave-data BrowserViz
###
##############################################################################
##############################################################################
* checking for file ‘BrowserViz/DESCRIPTION’ ... OK
* preparing ‘BrowserViz’:
* checking DESCRIPTION meta-information ... OK
* installing the package to build vignettes
* creating vignettes ... OK
* checking for LF line-endings in source and make files
* checking for empty or unneeded directories
* building ‘BrowserViz_1.1.7.tar.gz’