BeadDataPackR 1.21.1 Mike Smith
 | Snapshot Date: 2015-08-19 16:24:33 -0700 (Wed, 19 Aug 2015) |  | URL: https://hedgehog.fhcrc.org/bioconductor/trunk/madman/Rpacks/BeadDataPackR |  | Last Changed Rev: 105651 / Revision: 107602 |  | Last Changed Date: 2015-06-30 02:34:19 -0700 (Tue, 30 Jun 2015) |  
  | zin1  | Linux (Ubuntu 14.04.2 LTS) / x86_64  |  OK  |  OK  |  OK  |  |   | 
| moscato1  | Windows Server 2008 R2 Enterprise SP1 (64-bit) / x64  |  OK  |  OK  |  OK  | [ OK ] |   | 
| perceval  | Mac OS X Snow Leopard (10.6.8) / x86_64  |  OK  |  OK  |  OK  |  OK  |   | 
| oaxaca  | Mac OS X Mavericks (10.9.5) / x86_64  |  OK  |  OK  |  OK  |  OK  |   | 
##############################################################################
##############################################################################
###
### Running command:
###
###   cd BeadDataPackR.buildbin-libdir/BeadDataPackR && zip -r ../../BeadDataPackR_1.21.1.zip . & cd ../..
###
##############################################################################
##############################################################################
  adding: CITATION (188 bytes security) (deflated 43%)
  adding: DESCRIPTION (188 bytes security) (deflated 35%)
  adding: doc/ (256 bytes security) (stored 0%)
  adding: doc/BeadDataPackR.pdf (188 bytes security) (deflated 7%)
  adding: doc/BeadDataPackR.rnw (188 bytes security) (deflated 62%)
  adding: doc/index.html (188 bytes security) (deflated 59%)
  adding: extdata/ (256 bytes security) (stored 0%)
  adding: extdata/example.bab (188 bytes security) (deflated 29%)
  adding: extdata/example.txt (188 bytes security) (deflated 65%)
  adding: extdata/example_Grn.locs (188 bytes security) (deflated 28%)
  adding: help/ (256 bytes security) (stored 0%)
  adding: help/aliases.rds (188 bytes security) (stored 0%)
  adding: help/AnIndex (188 bytes security) (deflated 55%)
  adding: help/BeadDataPackR.rdb (188 bytes security) (deflated 0%)
  adding: help/BeadDataPackR.rdx (188 bytes security) (stored 0%)
  adding: help/paths.rds (188 bytes security) (stored 0%)
  adding: html/ (256 bytes security) (stored 0%)
  adding: html/00Index.html (188 bytes security) (deflated 59%)
  adding: html/R.css (188 bytes security) (deflated 75%)
  adding: INDEX (188 bytes security) (deflated 56%)
  adding: libs/ (256 bytes security) (stored 0%)
  adding: libs/i386/ (256 bytes security) (stored 0%)
  adding: libs/i386/BeadDataPackR.dll (188 bytes security) (deflated 53%)
  adding: libs/x64/ (256 bytes security) (stored 0%)
  adding: libs/x64/BeadDataPackR.dll (188 bytes security) (deflated 54%)
  adding: MD5 (188 bytes security) (deflated 44%)
  adding: Meta/ (256 bytes security) (stored 0%)
  adding: Meta/hsearch.rds (188 bytes security) (stored 0%)
  adding: Meta/links.rds (188 bytes security) (stored 0%)
  adding: Meta/nsInfo.rds (188 bytes security) (stored 0%)
  adding: Meta/package.rds (188 bytes security) (stored 0%)
  adding: Meta/Rd.rds (188 bytes security) (stored 0%)
  adding: Meta/vignette.rds (188 bytes security) (stored 0%)
  adding: NAMESPACE (188 bytes security) (deflated 25%)
  adding: NEWS (188 bytes security) (deflated 55%)
  adding: R/ (256 bytes security) (stored 0%)
  adding: R/BeadDataPackR (188 bytes security) (deflated 41%)
  adding: R/BeadDataPackR.rdb (188 bytes security) (deflated 4%)
  adding: R/BeadDataPackR.rdx (188 bytes security) (stored 0%)