| rpx 1.5.1 Laurent Gatto
 
 | Snapshot Date: 2015-08-23 16:24:14 -0700 (Sun, 23 Aug 2015) |  | URL: https://hedgehog.fhcrc.org/bioconductor/trunk/madman/Rpacks/rpx |  | Last Changed Rev: 105687 / Revision: 107696 |  | Last Changed Date: 2015-06-30 14:52:45 -0700 (Tue, 30 Jun 2015) | 
 | zin1 | Linux (Ubuntu 14.04.2 LTS) / x86_64 | OK | [ OK ] | OK |  |  | 
| perceval | Mac OS X Snow Leopard (10.6.8) / x86_64 | OK | OK | OK | OK |  | 
| oaxaca | Mac OS X Mavericks (10.9.5) / x86_64 | OK | OK | OK | OK |  | 
##############################################################################
##############################################################################
###
### Running command:
###
###   /home/biocbuild/bbs-3.2-bioc/R/bin/R CMD build --keep-empty-dirs --no-resave-data rpx
###
##############################################################################
##############################################################################
* checking for file ‘rpx/DESCRIPTION’ ... OK
* preparing ‘rpx’:
* checking DESCRIPTION meta-information ... OK
* installing the package to build vignettes
* creating vignettes ... OK
* checking for LF line-endings in source and make files
* checking for empty or unneeded directories
* building ‘rpx_1.5.1.tar.gz’