| pcaMethods 1.59.0 Henning Redestig
 
 | Snapshot Date: 2015-08-23 16:24:14 -0700 (Sun, 23 Aug 2015) |  | URL: https://hedgehog.fhcrc.org/bioconductor/trunk/madman/Rpacks/pcaMethods |  | Last Changed Rev: 102594 / Revision: 107696 |  | Last Changed Date: 2015-04-16 13:02:44 -0700 (Thu, 16 Apr 2015) | 
 | zin1 | Linux (Ubuntu 14.04.2 LTS) / x86_64 | [ OK ] | OK | OK |  |  | 
| perceval | Mac OS X Snow Leopard (10.6.8) / x86_64 | OK | OK | OK | OK |  | 
| oaxaca | Mac OS X Mavericks (10.9.5) / x86_64 | OK | OK | OK | OK |  | 
##############################################################################
##############################################################################
###
### Running command:
###
###   /home/biocbuild/bbs-3.2-bioc/R/bin/R CMD INSTALL pcaMethods
###
##############################################################################
##############################################################################
* installing to library ‘/home/biocbuild/bbs-3.2-bioc/R/library’
* installing *source* package ‘pcaMethods’ ...
** libs
g++ -I/home/biocbuild/bbs-3.2-bioc/R/include -DNDEBUG  -I/usr/local/include -I"/home/biocbuild/bbs-3.2-bioc/R/library/Rcpp/include"   -fpic  -g -O2  -Wall -c RcppExports.cpp -o RcppExports.o
g++ -I/home/biocbuild/bbs-3.2-bioc/R/include -DNDEBUG  -I/usr/local/include -I"/home/biocbuild/bbs-3.2-bioc/R/library/Rcpp/include"   -fpic  -g -O2  -Wall -c nipals.cpp -o nipals.o
g++ -shared -L/home/biocbuild/bbs-3.2-bioc/R/lib -L/usr/local/lib -o pcaMethods.so RcppExports.o nipals.o -L/home/biocbuild/bbs-3.2-bioc/R/lib -lR
installing to /home/biocbuild/bbs-3.2-bioc/R/library/pcaMethods/libs
** R
** data
** inst
** preparing package for lazy loading
Creating a new generic function for ‘loadings’ in package ‘pcaMethods’
Creating a generic function for ‘print’ from package ‘base’ in package ‘pcaMethods’
Creating a generic function for ‘biplot’ from package ‘stats’ in package ‘pcaMethods’
Creating a generic function for ‘summary’ from package ‘base’ in package ‘pcaMethods’
Creating a generic function for ‘predict’ from package ‘stats’ in package ‘pcaMethods’
Creating a generic function for ‘resid’ from package ‘stats’ in package ‘pcaMethods’
Creating a generic function for ‘fitted’ from package ‘stats’ in package ‘pcaMethods’
Creating a generic function for ‘plot’ from package ‘graphics’ in package ‘pcaMethods’
** help
*** installing help indices
** building package indices
** installing vignettes
   ‘missingValues.Rnw’ 
   ‘outliers.Rnw’ 
   ‘pcaMethods.Rnw’ 
** testing if installed package can be loaded
* DONE (pcaMethods)