| oligoClasses 1.31.1 Benilton Carvalho  and Robert Scharpf
 
 | Snapshot Date: 2015-08-23 16:24:14 -0700 (Sun, 23 Aug 2015) |  | URL: https://hedgehog.fhcrc.org/bioconductor/trunk/madman/Rpacks/oligoClasses |  | Last Changed Rev: 103675 / Revision: 107696 |  | Last Changed Date: 2015-05-11 21:24:18 -0700 (Mon, 11 May 2015) | 
 | zin1 | Linux (Ubuntu 14.04.2 LTS) / x86_64 | OK | OK | OK |  |  | 
| perceval | Mac OS X Snow Leopard (10.6.8) / x86_64 | OK | OK | [ OK ] | OK |  | 
| oaxaca | Mac OS X Mavericks (10.9.5) / x86_64 | OK | OK | OK | OK |  | 
##############################################################################
##############################################################################
###
### Running command:
###
###   /Library/Frameworks/R.framework/Versions/Current/Resources/bin/R CMD check --no-vignettes --timings oligoClasses_1.31.1.tar.gz
###
##############################################################################
##############################################################################
* using log directory ‘/Users/biocbuild/bbs-3.2-bioc/meat/oligoClasses.Rcheck’
* using R version 3.2.2 Patched (2015-08-14 r69078)
* using platform: x86_64-apple-darwin10.8.0 (64-bit)
* using session charset: UTF-8
* using option ‘--no-vignettes’
* checking for file ‘oligoClasses/DESCRIPTION’ ... OK
* this is package ‘oligoClasses’ version ‘1.31.1’
* checking package namespace information ... OK
* checking package dependencies ... NOTE
Packages which this enhances but not available for checking:
  ‘doMC’ ‘doMPI’ ‘doRedis’
* checking if this is a source package ... OK
* checking if there is a namespace ... OK
* checking for hidden files and directories ... OK
* checking for portable file names ... OK
* checking for sufficient/correct file permissions ... OK
* checking whether package ‘oligoClasses’ can be installed ... [17s/17s] OK
* checking installed package size ... OK
* checking package directory ... OK
* checking DESCRIPTION meta-information ... OK
* checking top-level files ... OK
* checking for left-over files ... OK
* checking index information ... OK
* checking package subdirectories ... OK
* checking R files for non-ASCII characters ... OK
* checking R files for syntax errors ... OK
* checking whether the package can be loaded ... OK
* checking whether the package can be loaded with stated dependencies ... OK
* checking whether the package can be unloaded cleanly ... OK
* checking whether the namespace can be loaded with stated dependencies ... OK
* checking whether the namespace can be unloaded cleanly ... OK
* checking dependencies in R code ... NOTE
Unexported object imported by a ':::' call: ‘Biobase:::assayDataEnvLock’
  See the note in ?`:::` about the use of this operator.
* checking S3 generic/method consistency ... OK
* checking replacement functions ... OK
* checking foreign function calls ... OK
* checking R code for possible problems ... NOTE
getSequenceLengths: no visible binding for global variable ‘seqlengths’
chromosome,gSetList : .local: no visible global function definition for
  ‘chromosomeList’
coerce,CNSet-CopyNumberSet: no visible global function definition for
  ‘totalCopynumber’
geometry,FeatureSet: no visible global function definition for ‘getPD’
* checking Rd files ... OK
* checking Rd metadata ... OK
* checking Rd cross-references ... OK
* checking for missing documentation entries ... OK
* checking for code/documentation mismatches ... OK
* checking Rd \usage sections ... OK
* checking Rd contents ... OK
* checking for unstated dependencies in examples ... OK
* checking contents of ‘data’ directory ... OK
* checking data for non-ASCII characters ... OK
* checking data for ASCII and uncompressed saves ... OK
* checking line endings in Makefiles ... OK
* checking for GNU extensions in Makefiles ... OK
* checking files in ‘vignettes’ ... OK
* checking examples ... [25s/37s] OK
Examples with CPU or elapsed time > 5s
                                user system elapsed
GenomeAnnotatedDataFrame-class 2.331  0.417  13.525
* checking for unstated dependencies in ‘tests’ ... OK
* checking tests ...
  Running ‘doRUnit.R’ [36s/37s]
 [37s/38s] OK
* checking PDF version of manual ... OK
* DONE
Status: 3 NOTEs
See
  ‘/Users/biocbuild/bbs-3.2-bioc/meat/oligoClasses.Rcheck/00check.log’
for details.
 
* installing *source* package ‘oligoClasses’ ...
** R
** data
** inst
** preparing package for lazy loading
Creating a generic function for ‘open’ from package ‘base’ in package ‘oligoClasses’
Creating a generic function for ‘close’ from package ‘base’ in package ‘oligoClasses’
** help
*** installing help indices
** building package indices
** installing vignettes
** testing if installed package can be loaded
* DONE (oligoClasses)