| interactiveDisplay 1.7.2 Shawn Balcome
 
 | Snapshot Date: 2015-08-23 16:24:14 -0700 (Sun, 23 Aug 2015) |  | URL: https://hedgehog.fhcrc.org/bioconductor/trunk/madman/Rpacks/interactiveDisplay |  | Last Changed Rev: 105062 / Revision: 107696 |  | Last Changed Date: 2015-06-16 22:42:08 -0700 (Tue, 16 Jun 2015) | 
 | zin1 | Linux (Ubuntu 14.04.2 LTS) / x86_64 | [ OK ] | OK | OK |  |  | 
| perceval | Mac OS X Snow Leopard (10.6.8) / x86_64 | OK | OK | OK | OK |  | 
| oaxaca | Mac OS X Mavericks (10.9.5) / x86_64 | OK | OK | OK | OK |  | 
##############################################################################
##############################################################################
###
### Running command:
###
###   /home/biocbuild/bbs-3.2-bioc/R/bin/R CMD INSTALL interactiveDisplay
###
##############################################################################
##############################################################################
* installing to library ‘/home/biocbuild/bbs-3.2-bioc/R/library’
* installing *source* package ‘interactiveDisplay’ ...
** R
** data
** inst
** preparing package for lazy loading
Note: the specification for S3 class “AsIs” in package ‘RJSONIO’ seems equivalent to one from package ‘BiocGenerics’: not turning on duplicate class definitions for this class.
Bioconductor version 3.2 (BiocInstaller 1.19.13), ?biocLite for help
in method for ‘display’ with signature ‘object="GRanges"’: no definition for class “GRanges”
in method for ‘display’ with signature ‘object="GRangesList"’: no definition for class “GRangesList”
in method for ‘display’ with signature ‘object="RangedSummarizedExperiment"’: no definition for class “RangedSummarizedExperiment”
in method for ‘display’ with signature ‘object="MRexperiment"’: no definition for class “MRexperiment”
** help
*** installing help indices
** building package indices
** installing vignettes
   ‘interactiveDisplay.Rnw’ 
** testing if installed package can be loaded
Note: the specification for S3 class “AsIs” in package ‘RJSONIO’ seems equivalent to one from package ‘BiocGenerics’: not turning on duplicate class definitions for this class.
* DONE (interactiveDisplay)