iPAC 1.13.0 Gregory Ryslik
 | Snapshot Date: 2015-08-23 16:24:14 -0700 (Sun, 23 Aug 2015) |  | URL: https://hedgehog.fhcrc.org/bioconductor/trunk/madman/Rpacks/iPAC |  | Last Changed Rev: 102594 / Revision: 107696 |  | Last Changed Date: 2015-04-16 13:02:44 -0700 (Thu, 16 Apr 2015) |  
  | zin1  | Linux (Ubuntu 14.04.2 LTS) / x86_64  | [ OK ] |  OK  |  OK  |  |   | 
| perceval  | Mac OS X Snow Leopard (10.6.8) / x86_64  |  OK  |  OK  |  OK  |  OK  |   | 
| oaxaca  | Mac OS X Mavericks (10.9.5) / x86_64  |  OK  |  OK  |  OK  |  OK  |   | 
##############################################################################
##############################################################################
###
### Running command:
###
###   /home/biocbuild/bbs-3.2-bioc/R/bin/R CMD INSTALL iPAC
###
##############################################################################
##############################################################################
* installing to library ‘/home/biocbuild/bbs-3.2-bioc/R/library’
* installing *source* package ‘iPAC’ ...
** R
** data
** inst
** preparing package for lazy loading
** help
*** installing help indices
** building package indices
** installing vignettes
** testing if installed package can be loaded
* DONE (iPAC)