| hiAnnotator 1.3.2 Nirav V Malani
 
 | Snapshot Date: 2015-08-23 16:24:14 -0700 (Sun, 23 Aug 2015) |  | URL: https://hedgehog.fhcrc.org/bioconductor/trunk/madman/Rpacks/hiAnnotator |  | Last Changed Rev: 104284 / Revision: 107696 |  | Last Changed Date: 2015-05-27 11:39:12 -0700 (Wed, 27 May 2015) | 
 | zin1 | Linux (Ubuntu 14.04.2 LTS) / x86_64 | OK | OK | OK |  |  | 
| perceval | Mac OS X Snow Leopard (10.6.8) / x86_64 | OK | [ OK ] | OK | OK |  | 
| oaxaca | Mac OS X Mavericks (10.9.5) / x86_64 | OK | OK | OK | OK |  | 
##############################################################################
##############################################################################
###
### Running command:
###
###   /Library/Frameworks/R.framework/Versions/Current/Resources/bin/R CMD build --keep-empty-dirs --no-resave-data hiAnnotator
###
##############################################################################
##############################################################################
* checking for file ‘hiAnnotator/DESCRIPTION’ ... OK
* preparing ‘hiAnnotator’:
* checking DESCRIPTION meta-information ... OK
* installing the package to build vignettes
* creating vignettes ... OK
* checking for LF line-endings in source and make files
* checking for empty or unneeded directories
* looking to see if a ‘data/datalist’ file should be added
* building ‘hiAnnotator_1.3.2.tar.gz’