| graph 1.47.2 Bioconductor Package Maintainer
 
 | Snapshot Date: 2015-08-23 16:24:14 -0700 (Sun, 23 Aug 2015) |  | URL: https://hedgehog.fhcrc.org/bioconductor/trunk/madman/Rpacks/graph |  | Last Changed Rev: 104759 / Revision: 107696 |  | Last Changed Date: 2015-06-09 14:26:38 -0700 (Tue, 09 Jun 2015) | 
 | zin1 | Linux (Ubuntu 14.04.2 LTS) / x86_64 | [ OK ] | OK | WARNINGS |  |  | 
| perceval | Mac OS X Snow Leopard (10.6.8) / x86_64 | OK | OK | WARNINGS | OK |  | 
| oaxaca | Mac OS X Mavericks (10.9.5) / x86_64 | OK | OK | WARNINGS | OK |  | 
##############################################################################
##############################################################################
###
### Running command:
###
###   /home/biocbuild/bbs-3.2-bioc/R/bin/R CMD INSTALL graph
###
##############################################################################
##############################################################################
* installing to library ‘/home/biocbuild/bbs-3.2-bioc/R/library’
* installing *source* package ‘graph’ ...
** libs
gcc -std=gnu99 -I/home/biocbuild/bbs-3.2-bioc/R/include -DNDEBUG  -I/usr/local/include    -fpic  -g -O2  -Wall -c graph.c -o graph.o
gcc -std=gnu99 -shared -L/home/biocbuild/bbs-3.2-bioc/R/lib -L/usr/local/lib -o graph.so graph.o -L/home/biocbuild/bbs-3.2-bioc/R/lib -lR
mv graph.so BioC_graph.so
installing to /home/biocbuild/bbs-3.2-bioc/R/library/graph/libs
** R
** data
** inst
** preparing package for lazy loading
** help
*** installing help indices
** building package indices
** installing vignettes
** testing if installed package can be loaded
* DONE (graph)