| codelink 1.37.6 Diego Diez
 
 | Snapshot Date: 2015-08-23 16:24:14 -0700 (Sun, 23 Aug 2015) |  | URL: https://hedgehog.fhcrc.org/bioconductor/trunk/madman/Rpacks/codelink |  | Last Changed Rev: 106726 / Revision: 107696 |  | Last Changed Date: 2015-07-24 01:21:39 -0700 (Fri, 24 Jul 2015) | 
 | zin1 | Linux (Ubuntu 14.04.2 LTS) / x86_64 | ERROR | ERROR | skipped |  |  | 
| perceval | Mac OS X Snow Leopard (10.6.8) / x86_64 | ERROR | [ ERROR ] | skipped | skipped |  | 
| oaxaca | Mac OS X Mavericks (10.9.5) / x86_64 | ERROR | ERROR | skipped | skipped |  | 
##############################################################################
##############################################################################
###
### Running command:
###
###   /Library/Frameworks/R.framework/Versions/Current/Resources/bin/R CMD build --keep-empty-dirs --no-resave-data codelink
###
##############################################################################
##############################################################################
* checking for file ‘codelink/DESCRIPTION’ ... OK
* preparing ‘codelink’:
* checking DESCRIPTION meta-information ... OK
* installing the package to build vignettes
      -----------------------------------
* installing *source* package ‘codelink’ ...
** R
Error in parse(outFile) : 
  /private/tmp/RtmpsJ0Ewp/Rbuilda8221d28cd4b/codelink/R/CodelinkSet-tools.R:51:1: unexpected input
50:                 stop("Ni is missing. Choose intensity Spot or Raw")
51: <<
    ^
ERROR: unable to collate and parse R files for package ‘codelink’
* removing ‘/private/tmp/RtmpsJ0Ewp/Rinsta82261be05e1/codelink’
      -----------------------------------
ERROR: package installation failed