| aroma.light 2.5.2 Henrik Bengtsson
 
 | Snapshot Date: 2015-08-23 16:24:14 -0700 (Sun, 23 Aug 2015) |  | URL: https://hedgehog.fhcrc.org/bioconductor/trunk/madman/Rpacks/aroma.light |  | Last Changed Rev: 105052 / Revision: 107696 |  | Last Changed Date: 2015-06-16 18:03:37 -0700 (Tue, 16 Jun 2015) | 
 | zin1 | Linux (Ubuntu 14.04.2 LTS) / x86_64 | OK | OK | OK |  |  | 
| perceval | Mac OS X Snow Leopard (10.6.8) / x86_64 | OK | [ OK ] | OK | OK |  | 
| oaxaca | Mac OS X Mavericks (10.9.5) / x86_64 | OK | OK | OK | OK |  | 
##############################################################################
##############################################################################
###
### Running command:
###
###   /Library/Frameworks/R.framework/Versions/Current/Resources/bin/R CMD build --keep-empty-dirs --no-resave-data aroma.light
###
##############################################################################
##############################################################################
* checking for file ‘aroma.light/DESCRIPTION’ ... OK
* preparing ‘aroma.light’:
* checking DESCRIPTION meta-information ... OK
* checking for LF line-endings in source and make files
* checking for empty or unneeded directories
* building ‘aroma.light_2.5.2.tar.gz’