| XVector 0.9.3 H. Pages
 
 | Snapshot Date: 2015-08-23 16:24:14 -0700 (Sun, 23 Aug 2015) |  | URL: https://hedgehog.fhcrc.org/bioconductor/trunk/madman/Rpacks/XVector |  | Last Changed Rev: 107678 / Revision: 107696 |  | Last Changed Date: 2015-08-21 16:24:06 -0700 (Fri, 21 Aug 2015) | 
 | zin1 | Linux (Ubuntu 14.04.2 LTS) / x86_64 | OK | OK | WARNINGS |  |  | 
| perceval | Mac OS X Snow Leopard (10.6.8) / x86_64 | [ OK ] | OK | WARNINGS | OK |  | 
| oaxaca | Mac OS X Mavericks (10.9.5) / x86_64 | OK | OK | WARNINGS | OK |  | 
##############################################################################
##############################################################################
###
### Running command:
###
###   /Library/Frameworks/R.framework/Versions/Current/Resources/bin/R CMD INSTALL XVector
###
##############################################################################
##############################################################################
* installing to library ‘/Library/Frameworks/R.framework/Versions/3.2/Resources/library’
* installing *source* package ‘XVector’ ...
** libs
llvm-gcc-4.2 -arch x86_64 -std=gnu99 -I/Library/Frameworks/R.framework/Resources/include -DNDEBUG  -I/usr/local/include -I"/Library/Frameworks/R.framework/Versions/3.2/Resources/library/S4Vectors/include" -I"/Library/Frameworks/R.framework/Versions/3.2/Resources/library/IRanges/include"   -fPIC  -mtune=core2 -g -O2 -Wall  -c IRanges_stubs.c -o IRanges_stubs.o
llvm-gcc-4.2 -arch x86_64 -std=gnu99 -I/Library/Frameworks/R.framework/Resources/include -DNDEBUG  -I/usr/local/include -I"/Library/Frameworks/R.framework/Versions/3.2/Resources/library/S4Vectors/include" -I"/Library/Frameworks/R.framework/Versions/3.2/Resources/library/IRanges/include"   -fPIC  -mtune=core2 -g -O2 -Wall  -c Ocopy_byteblocks.c -o Ocopy_byteblocks.o
llvm-gcc-4.2 -arch x86_64 -std=gnu99 -I/Library/Frameworks/R.framework/Resources/include -DNDEBUG  -I/usr/local/include -I"/Library/Frameworks/R.framework/Versions/3.2/Resources/library/S4Vectors/include" -I"/Library/Frameworks/R.framework/Versions/3.2/Resources/library/IRanges/include"   -fPIC  -mtune=core2 -g -O2 -Wall  -c R_init_XVector.c -o R_init_XVector.o
llvm-gcc-4.2 -arch x86_64 -std=gnu99 -I/Library/Frameworks/R.framework/Resources/include -DNDEBUG  -I/usr/local/include -I"/Library/Frameworks/R.framework/Versions/3.2/Resources/library/S4Vectors/include" -I"/Library/Frameworks/R.framework/Versions/3.2/Resources/library/IRanges/include"   -fPIC  -mtune=core2 -g -O2 -Wall  -c S4Vectors_stubs.c -o S4Vectors_stubs.o
llvm-gcc-4.2 -arch x86_64 -std=gnu99 -I/Library/Frameworks/R.framework/Resources/include -DNDEBUG  -I/usr/local/include -I"/Library/Frameworks/R.framework/Versions/3.2/Resources/library/S4Vectors/include" -I"/Library/Frameworks/R.framework/Versions/3.2/Resources/library/IRanges/include"   -fPIC  -mtune=core2 -g -O2 -Wall  -c SharedDouble_class.c -o SharedDouble_class.o
llvm-gcc-4.2 -arch x86_64 -std=gnu99 -I/Library/Frameworks/R.framework/Resources/include -DNDEBUG  -I/usr/local/include -I"/Library/Frameworks/R.framework/Versions/3.2/Resources/library/S4Vectors/include" -I"/Library/Frameworks/R.framework/Versions/3.2/Resources/library/IRanges/include"   -fPIC  -mtune=core2 -g -O2 -Wall  -c SharedInteger_class.c -o SharedInteger_class.o
llvm-gcc-4.2 -arch x86_64 -std=gnu99 -I/Library/Frameworks/R.framework/Resources/include -DNDEBUG  -I/usr/local/include -I"/Library/Frameworks/R.framework/Versions/3.2/Resources/library/S4Vectors/include" -I"/Library/Frameworks/R.framework/Versions/3.2/Resources/library/IRanges/include"   -fPIC  -mtune=core2 -g -O2 -Wall  -c SharedRaw_class.c -o SharedRaw_class.o
llvm-gcc-4.2 -arch x86_64 -std=gnu99 -I/Library/Frameworks/R.framework/Resources/include -DNDEBUG  -I/usr/local/include -I"/Library/Frameworks/R.framework/Versions/3.2/Resources/library/S4Vectors/include" -I"/Library/Frameworks/R.framework/Versions/3.2/Resources/library/IRanges/include"   -fPIC  -mtune=core2 -g -O2 -Wall  -c SharedVector_class.c -o SharedVector_class.o
llvm-gcc-4.2 -arch x86_64 -std=gnu99 -I/Library/Frameworks/R.framework/Resources/include -DNDEBUG  -I/usr/local/include -I"/Library/Frameworks/R.framework/Versions/3.2/Resources/library/S4Vectors/include" -I"/Library/Frameworks/R.framework/Versions/3.2/Resources/library/IRanges/include"   -fPIC  -mtune=core2 -g -O2 -Wall  -c XRawList_comparison.c -o XRawList_comparison.o
llvm-gcc-4.2 -arch x86_64 -std=gnu99 -I/Library/Frameworks/R.framework/Resources/include -DNDEBUG  -I/usr/local/include -I"/Library/Frameworks/R.framework/Versions/3.2/Resources/library/S4Vectors/include" -I"/Library/Frameworks/R.framework/Versions/3.2/Resources/library/IRanges/include"   -fPIC  -mtune=core2 -g -O2 -Wall  -c XVectorList_class.c -o XVectorList_class.o
llvm-gcc-4.2 -arch x86_64 -std=gnu99 -I/Library/Frameworks/R.framework/Resources/include -DNDEBUG  -I/usr/local/include -I"/Library/Frameworks/R.framework/Versions/3.2/Resources/library/S4Vectors/include" -I"/Library/Frameworks/R.framework/Versions/3.2/Resources/library/IRanges/include"   -fPIC  -mtune=core2 -g -O2 -Wall  -c XVector_class.c -o XVector_class.o
llvm-gcc-4.2 -arch x86_64 -std=gnu99 -I/Library/Frameworks/R.framework/Resources/include -DNDEBUG  -I/usr/local/include -I"/Library/Frameworks/R.framework/Versions/3.2/Resources/library/S4Vectors/include" -I"/Library/Frameworks/R.framework/Versions/3.2/Resources/library/IRanges/include"   -fPIC  -mtune=core2 -g -O2 -Wall  -c io_utils.c -o io_utils.o
llvm-gcc-4.2 -arch x86_64 -std=gnu99 -I/Library/Frameworks/R.framework/Resources/include -DNDEBUG  -I/usr/local/include -I"/Library/Frameworks/R.framework/Versions/3.2/Resources/library/S4Vectors/include" -I"/Library/Frameworks/R.framework/Versions/3.2/Resources/library/IRanges/include"   -fPIC  -mtune=core2 -g -O2 -Wall  -c slice_methods.c -o slice_methods.o
llvm-gcc-4.2 -arch x86_64 -std=gnu99 -I/Library/Frameworks/R.framework/Resources/include -DNDEBUG  -I/usr/local/include -I"/Library/Frameworks/R.framework/Versions/3.2/Resources/library/S4Vectors/include" -I"/Library/Frameworks/R.framework/Versions/3.2/Resources/library/IRanges/include"   -fPIC  -mtune=core2 -g -O2 -Wall  -c vector_copy.c -o vector_copy.o
llvm-gcc-4.2 -arch x86_64 -std=gnu99 -I/Library/Frameworks/R.framework/Resources/include -DNDEBUG  -I/usr/local/include -I"/Library/Frameworks/R.framework/Versions/3.2/Resources/library/S4Vectors/include" -I"/Library/Frameworks/R.framework/Versions/3.2/Resources/library/IRanges/include"   -fPIC  -mtune=core2 -g -O2 -Wall  -c view_summarization_methods.c -o view_summarization_methods.o
llvm-gcc-4.2 -arch x86_64 -std=gnu99 -dynamiclib -Wl,-headerpad_max_install_names -undefined dynamic_lookup -single_module -multiply_defined suppress -L/Library/Frameworks/R.framework/Resources/lib -L/usr/local/lib -L/usr/local/lib -o XVector.so IRanges_stubs.o Ocopy_byteblocks.o R_init_XVector.o S4Vectors_stubs.o SharedDouble_class.o SharedInteger_class.o SharedRaw_class.o SharedVector_class.o XRawList_comparison.o XVectorList_class.o XVector_class.o io_utils.o slice_methods.o vector_copy.o view_summarization_methods.o -lz -F/Library/Frameworks/R.framework/.. -framework R -Wl,-framework -Wl,CoreFoundation
installing to /Library/Frameworks/R.framework/Versions/3.2/Resources/library/XVector/libs
** R
** inst
** preparing package for lazy loading
Creating a generic function for ‘toString’ from package ‘base’ in package ‘XVector’
** help
*** installing help indices
** building package indices
** testing if installed package can be loaded
* DONE (XVector)