| SJava 0.95.1 Martin Morgan
 
 | Snapshot Date: 2015-08-23 16:24:14 -0700 (Sun, 23 Aug 2015) |  | URL: https://hedgehog.fhcrc.org/bioconductor/trunk/madman/Rpacks/SJava |  | Last Changed Rev: 104487 / Revision: 107696 |  | Last Changed Date: 2015-06-02 16:33:12 -0700 (Tue, 02 Jun 2015) | 
 | zin1 | Linux (Ubuntu 14.04.2 LTS) / x86_64 | OK | [ OK ] | OK |  |  | 
| perceval | Mac OS X Snow Leopard (10.6.8) / x86_64 | ...NOT SUPPORTED...NOT SUPPORTED...NOT SUPPORTED... | 
| oaxaca | Mac OS X Mavericks (10.9.5) / x86_64 | ...NOT SUPPORTED...NOT SUPPORTED...NOT SUPPORTED... | 
##############################################################################
##############################################################################
###
### Running command:
###
###   /home/biocbuild/bbs-3.2-bioc/R/bin/R CMD build --keep-empty-dirs --no-resave-data SJava
###
##############################################################################
##############################################################################
* checking for file ‘SJava/DESCRIPTION’ ... OK
* preparing ‘SJava’:
* checking DESCRIPTION meta-information ... OK
* cleaning src
* running ‘cleanup’
* checking for LF line-endings in source and make files
* checking for empty or unneeded directories
* building ‘SJava_0.95.1.tar.gz’