| MSnbase 1.17.14 Laurent Gatto
 
 | Snapshot Date: 2015-08-23 16:24:14 -0700 (Sun, 23 Aug 2015) |  | URL: https://hedgehog.fhcrc.org/bioconductor/trunk/madman/Rpacks/MSnbase |  | Last Changed Rev: 107498 / Revision: 107696 |  | Last Changed Date: 2015-08-17 03:14:13 -0700 (Mon, 17 Aug 2015) | 
 | zin1 | Linux (Ubuntu 14.04.2 LTS) / x86_64 | [ OK ] | OK | OK |  |  | 
| perceval | Mac OS X Snow Leopard (10.6.8) / x86_64 | OK | TIMEOUT | skipped | skipped |  | 
| oaxaca | Mac OS X Mavericks (10.9.5) / x86_64 | OK | OK | OK | OK |  | 
##############################################################################
##############################################################################
###
### Running command:
###
###   /home/biocbuild/bbs-3.2-bioc/R/bin/R CMD INSTALL MSnbase
###
##############################################################################
##############################################################################
* installing to library ‘/home/biocbuild/bbs-3.2-bioc/R/library’
* installing *source* package ‘MSnbase’ ...
** libs
g++ -I/home/biocbuild/bbs-3.2-bioc/R/include -DNDEBUG  -I/usr/local/include -I"/home/biocbuild/bbs-3.2-bioc/R/library/Rcpp/include"   -fpic  -g -O2  -Wall -c RcppExports.cpp -o RcppExports.o
g++ -I/home/biocbuild/bbs-3.2-bioc/R/include -DNDEBUG  -I/usr/local/include -I"/home/biocbuild/bbs-3.2-bioc/R/library/Rcpp/include"   -fpic  -g -O2  -Wall -c imp_neighbour_avg.cpp -o imp_neighbour_avg.o
g++ -shared -L/home/biocbuild/bbs-3.2-bioc/R/lib -L/usr/local/lib -o MSnbase.so RcppExports.o imp_neighbour_avg.o -L/home/biocbuild/bbs-3.2-bioc/R/lib -lR
installing to /home/biocbuild/bbs-3.2-bioc/R/library/MSnbase/libs
** R
** data
*** moving datasets to lazyload DB
** inst
** preparing package for lazy loading
Creating a new generic function for ‘smooth’ in package ‘MSnbase’
Creating a generic function for ‘lengths’ from package ‘base’ in package ‘MSnbase’
Creating a generic function for ‘t’ from package ‘base’ in package ‘MSnbase’
Creating a generic function for ‘scale’ from package ‘base’ in package ‘MSnbase’
in method for ‘coerce’ with signature ‘"IBSpectra","MSnSet"’: no definition for class “IBSpectra”
Creating a generic function for ‘split’ from package ‘base’ in package ‘MSnbase’
** help
*** installing help indices
** building package indices
** installing vignettes
   ‘MSnbase-demo.Rnw’ 
   ‘MSnbase-development.Rnw’ 
   ‘MSnbase-io.Rnw’ 
** testing if installed package can be loaded
* DONE (MSnbase)