| GOSemSim 1.27.4 Guangchuang Yu
 
 | Snapshot Date: 2015-08-23 16:24:14 -0700 (Sun, 23 Aug 2015) |  | URL: https://hedgehog.fhcrc.org/bioconductor/trunk/madman/Rpacks/GOSemSim |  | Last Changed Rev: 106942 / Revision: 107696 |  | Last Changed Date: 2015-07-30 20:01:48 -0700 (Thu, 30 Jul 2015) | 
 | zin1 | Linux (Ubuntu 14.04.2 LTS) / x86_64 | [ OK ] | OK | OK |  |  | 
| perceval | Mac OS X Snow Leopard (10.6.8) / x86_64 | OK | OK | OK | OK |  | 
| oaxaca | Mac OS X Mavericks (10.9.5) / x86_64 | OK | OK | OK | OK |  | 
##############################################################################
##############################################################################
###
### Running command:
###
###   /home/biocbuild/bbs-3.2-bioc/R/bin/R CMD INSTALL GOSemSim
###
##############################################################################
##############################################################################
* installing to library ‘/home/biocbuild/bbs-3.2-bioc/R/library’
* installing *source* package ‘GOSemSim’ ...
** libs
g++ -I/home/biocbuild/bbs-3.2-bioc/R/include -DNDEBUG  -I/usr/local/include -I"/home/biocbuild/bbs-3.2-bioc/R/library/Rcpp/include"   -fpic  -g -O2  -Wall -c ICmethod.cpp -o ICmethod.o
ICmethod.cpp: In function ‘Rcpp::NumericMatrix infoContentMethod_cpp(Rcpp::StringVector&, Rcpp::StringVector&, Rcpp::List&, Rcpp::NumericVector&, const string&, const string&)’:
ICmethod.cpp:82:40: warning: comparison between signed and unsigned integer expressions [-Wsign-compare]
     for (std::size_t i=0; i < ic_.size(); i++ ) {
                                        ^
ICmethod.cpp:88:40: warning: comparison between signed and unsigned integer expressions [-Wsign-compare]
     for (std::size_t i=0; i < ic_.size(); i++ ) {
                                        ^
ICmethod.cpp:107:41: warning: comparison between signed and unsigned integer expressions [-Wsign-compare]
     for (std::size_t i=0; i < anc_.size(); i++ ) {
                                         ^
ICmethod.cpp:118:42: warning: comparison between signed and unsigned integer expressions [-Wsign-compare]
   for ( std::size_t i = 0; i < id1_.size(); i++ ) {
                                          ^
ICmethod.cpp:125:46: warning: comparison between signed and unsigned integer expressions [-Wsign-compare]
       for ( std::size_t j = 0; j < id2_.size(); j++ ) {
                                              ^
ICmethod.cpp:152:46: warning: comparison between signed and unsigned integer expressions [-Wsign-compare]
       for ( std::size_t j = 0; j < id2_.size(); j++ ) {
                                              ^
g++ -I/home/biocbuild/bbs-3.2-bioc/R/include -DNDEBUG  -I/usr/local/include -I"/home/biocbuild/bbs-3.2-bioc/R/library/Rcpp/include"   -fpic  -g -O2  -Wall -c RcppExports.cpp -o RcppExports.o
g++ -shared -L/home/biocbuild/bbs-3.2-bioc/R/lib -L/usr/local/lib -o GOSemSim.so ICmethod.o RcppExports.o -L/home/biocbuild/bbs-3.2-bioc/R/lib -lR
installing to /home/biocbuild/bbs-3.2-bioc/R/library/GOSemSim/libs
** R
** data
** inst
** preparing package for lazy loading
** help
*** installing help indices
** building package indices
** installing vignettes
** testing if installed package can be loaded
* DONE (GOSemSim)