| EBarrays 2.33.0 Ming Yuan
 
 | Snapshot Date: 2015-08-23 16:24:14 -0700 (Sun, 23 Aug 2015) |  | URL: https://hedgehog.fhcrc.org/bioconductor/trunk/madman/Rpacks/EBarrays |  | Last Changed Rev: 102594 / Revision: 107696 |  | Last Changed Date: 2015-04-16 13:02:44 -0700 (Thu, 16 Apr 2015) | 
 | zin1 | Linux (Ubuntu 14.04.2 LTS) / x86_64 | OK | OK | OK |  |  | 
| perceval | Mac OS X Snow Leopard (10.6.8) / x86_64 | OK | OK | OK | OK |  | 
| oaxaca | Mac OS X Mavericks (10.9.5) / x86_64 | OK | OK | OK | [ OK ] |  | 
##############################################################################
##############################################################################
###
### Running command:
###
###   rm -rf EBarrays.buildbin-libdir && mkdir EBarrays.buildbin-libdir && /Users/biocbuild/BBS/utils/build-universal.sh EBarrays_2.33.0.tar.gz /Library/Frameworks/R.framework/Versions/Current/Resources/bin/R EBarrays.buildbin-libdir
###
##############################################################################
##############################################################################
>>>>>>> 
>>>>>>> INSTALLATION WITH 'R CMD INSTALL --preclean --no-multiarch --library=EBarrays.buildbin-libdir EBarrays_2.33.0.tar.gz'
>>>>>>> 
* installing *source* package ‘EBarrays’ ...
** libs
clang -I/Library/Frameworks/R.framework/Resources/include -DNDEBUG  -I/usr/local/include -I/usr/local/include/freetype2 -I/opt/X11/include    -fPIC  -Wall -mtune=core2 -g -O2  -c ebarrays.c -o ebarrays.o
clang -dynamiclib -Wl,-headerpad_max_install_names -undefined dynamic_lookup -single_module -multiply_defined suppress -L/Library/Frameworks/R.framework/Resources/lib -L/usr/local/lib -o EBarrays.so ebarrays.o -F/Library/Frameworks/R.framework/.. -framework R -Wl,-framework -Wl,CoreFoundation
installing to /Users/biocbuild/bbs-3.2-bioc/meat/EBarrays.buildbin-libdir/EBarrays/libs
** R
** data
** demo
** inst
** preparing package for lazy loading
** help
*** installing help indices
** building package indices
** installing vignettes
** testing if installed package can be loaded
* DONE (EBarrays)
>>>>>>> 
>>>>>>> FIXING LINKS FOR EBarrays.buildbin-libdir/EBarrays/libs//EBarrays.so
>>>>>>> 
install_name_tool -change "/usr/local/lib/libgcc_s.1.dylib" "/Library/Frameworks/R.framework/Versions/3.2/Resources/lib/libgcc_s.1.dylib" "EBarrays.buildbin-libdir/EBarrays/libs//EBarrays.so"
install_name_tool -change "/usr/local/lib/libgfortran.3.dylib" "/Library/Frameworks/R.framework/Versions/3.2/Resources/lib/libgfortran.3.dylib" "EBarrays.buildbin-libdir/EBarrays/libs//EBarrays.so"
install_name_tool -change "/usr/local/lib/libreadline.5.2.dylib" "/Library/Frameworks/R.framework/Versions/3.2/Resources/lib/libreadline.5.2.dylib" "EBarrays.buildbin-libdir/EBarrays/libs//EBarrays.so"
install_name_tool -change "/usr/local/lib/libreadline.dylib" "/Library/Frameworks/R.framework/Versions/3.2/Resources/lib/libreadline.dylib" "EBarrays.buildbin-libdir/EBarrays/libs//EBarrays.so"
install_name_tool -change "/usr/local/lib/libquadmath.0.dylib" "/Library/Frameworks/R.framework/Versions/3.2/Resources/lib/libquadmath.0.dylib" "EBarrays.buildbin-libdir/EBarrays/libs//EBarrays.so"