DEXSeq 1.15.10 Alejandro Reyes
 | Snapshot Date: 2015-08-23 16:24:14 -0700 (Sun, 23 Aug 2015) |  | URL: https://hedgehog.fhcrc.org/bioconductor/trunk/madman/Rpacks/DEXSeq |  | Last Changed Rev: 106920 / Revision: 107696 |  | Last Changed Date: 2015-07-30 09:03:53 -0700 (Thu, 30 Jul 2015) |  
  | zin1  | Linux (Ubuntu 14.04.2 LTS) / x86_64  |  OK  | [ OK ] |  OK  |  |   | 
| perceval  | Mac OS X Snow Leopard (10.6.8) / x86_64  |  OK  |  OK  |  OK  |  OK  |   | 
| oaxaca  | Mac OS X Mavericks (10.9.5) / x86_64  |  OK  |  OK  |  OK  |  OK  |   | 
##############################################################################
##############################################################################
###
### Running command:
###
###   /home/biocbuild/bbs-3.2-bioc/R/bin/R CMD build --keep-empty-dirs --no-resave-data DEXSeq
###
##############################################################################
##############################################################################
* checking for file ‘DEXSeq/DESCRIPTION’ ... OK
* preparing ‘DEXSeq’:
* checking DESCRIPTION meta-information ... OK
* installing the package to build vignettes
* creating vignettes ... OK
* checking for LF line-endings in source and make files
* checking for empty or unneeded directories
* building ‘DEXSeq_1.15.10.tar.gz’