| DESeq 1.21.0 Simon Anders
 
 | Snapshot Date: 2015-08-23 16:24:14 -0700 (Sun, 23 Aug 2015) |  | URL: https://hedgehog.fhcrc.org/bioconductor/trunk/madman/Rpacks/DESeq |  | Last Changed Rev: 102594 / Revision: 107696 |  | Last Changed Date: 2015-04-16 13:02:44 -0700 (Thu, 16 Apr 2015) | 
 | zin1 | Linux (Ubuntu 14.04.2 LTS) / x86_64 | OK | OK | OK |  |  | 
| perceval | Mac OS X Snow Leopard (10.6.8) / x86_64 | OK | OK | OK | [ OK ] |  | 
| oaxaca | Mac OS X Mavericks (10.9.5) / x86_64 | OK | OK | OK | OK |  | 
##############################################################################
##############################################################################
###
### Running command:
###
###   rm -rf DESeq.buildbin-libdir && mkdir DESeq.buildbin-libdir && /Users/biocbuild/BBS/utils/build-universal.sh DESeq_1.21.0.tar.gz /Library/Frameworks/R.framework/Versions/Current/Resources/bin/R DESeq.buildbin-libdir
###
##############################################################################
##############################################################################
>>>>>>> 
>>>>>>> INSTALLATION WITH 'R CMD INSTALL --preclean --no-multiarch --library=DESeq.buildbin-libdir DESeq_1.21.0.tar.gz'
>>>>>>> 
* installing *source* package ‘DESeq’ ...
** libs
llvm-gcc-4.2 -arch x86_64 -std=gnu99 -I/Library/Frameworks/R.framework/Resources/include -DNDEBUG  -I/usr/local/include    -fPIC  -mtune=core2 -g -O2 -Wall  -c pval.c -o pval.o
pval.c: In function ‘add_from_both_sides’:
pval.c:26: warning: unused variable ‘esttotalperlength’
llvm-gcc-4.2 -arch x86_64 -std=gnu99 -dynamiclib -Wl,-headerpad_max_install_names -undefined dynamic_lookup -single_module -multiply_defined suppress -L/Library/Frameworks/R.framework/Resources/lib -L/usr/local/lib -L/usr/local/lib -o DESeq.so pval.o -F/Library/Frameworks/R.framework/.. -framework R -Wl,-framework -Wl,CoreFoundation
installing to /Users/biocbuild/bbs-3.2-bioc/meat/DESeq.buildbin-libdir/DESeq/libs
** R
** inst
** preparing package for lazy loading
** help
*** installing help indices
** building package indices
** installing vignettes
** testing if installed package can be loaded
* DONE (DESeq)
>>>>>>> 
>>>>>>> FIXING LINKS FOR DESeq.buildbin-libdir/DESeq/libs//DESeq.so
>>>>>>> 
install_name_tool -change "/usr/local/lib/libgcc_s.1.dylib" "/Library/Frameworks/R.framework/Versions/3.2/Resources/lib/libgcc_s.1.dylib" "DESeq.buildbin-libdir/DESeq/libs//DESeq.so"
install_name_tool -change "/usr/local/lib/libgfortran.2.dylib" "/Library/Frameworks/R.framework/Versions/3.2/Resources/lib/libgfortran.2.dylib" "DESeq.buildbin-libdir/DESeq/libs//DESeq.so"
install_name_tool -change "/usr/local/lib/libreadline.5.2.dylib" "/Library/Frameworks/R.framework/Versions/3.2/Resources/lib/libreadline.5.2.dylib" "DESeq.buildbin-libdir/DESeq/libs//DESeq.so"
install_name_tool -change "/usr/local/lib/libreadline.dylib" "/Library/Frameworks/R.framework/Versions/3.2/Resources/lib/libreadline.dylib" "DESeq.buildbin-libdir/DESeq/libs//DESeq.so"