| BeadDataPackR 1.21.1 Mike Smith
 
 | Snapshot Date: 2015-08-23 16:24:14 -0700 (Sun, 23 Aug 2015) |  | URL: https://hedgehog.fhcrc.org/bioconductor/trunk/madman/Rpacks/BeadDataPackR |  | Last Changed Rev: 105651 / Revision: 107696 |  | Last Changed Date: 2015-06-30 02:34:19 -0700 (Tue, 30 Jun 2015) | 
 | zin1 | Linux (Ubuntu 14.04.2 LTS) / x86_64 | [ OK ] | OK | OK |  |  | 
| perceval | Mac OS X Snow Leopard (10.6.8) / x86_64 | OK | OK | OK | OK |  | 
| oaxaca | Mac OS X Mavericks (10.9.5) / x86_64 | OK | OK | OK | OK |  | 
##############################################################################
##############################################################################
###
### Running command:
###
###   /home/biocbuild/bbs-3.2-bioc/R/bin/R CMD INSTALL BeadDataPackR
###
##############################################################################
##############################################################################
* installing to library ‘/home/biocbuild/bbs-3.2-bioc/R/library’
* installing *source* package ‘BeadDataPackR’ ...
** libs
gcc -std=gnu99 -I/home/biocbuild/bbs-3.2-bioc/R/include -DNDEBUG  -I/usr/local/include    -fpic  -g -O2  -Wall -c BeadDataPackR.c -o BeadDataPackR.o
gcc -std=gnu99 -I/home/biocbuild/bbs-3.2-bioc/R/include -DNDEBUG  -I/usr/local/include    -fpic  -g -O2  -Wall -c R_init_BeadDataPackR.c -o R_init_BeadDataPackR.o
gcc -std=gnu99 -shared -L/home/biocbuild/bbs-3.2-bioc/R/lib -L/usr/local/lib -o BeadDataPackR.so BeadDataPackR.o R_init_BeadDataPackR.o -L/home/biocbuild/bbs-3.2-bioc/R/lib -lR
installing to /home/biocbuild/bbs-3.2-bioc/R/library/BeadDataPackR/libs
** R
** inst
** preparing package for lazy loading
** help
*** installing help indices
** building package indices
** installing vignettes
   ‘BeadDataPackR.rnw’ 
** testing if installed package can be loaded
* DONE (BeadDataPackR)