| Back to Build/check report for BioC 3.19 experimental data | 
 | 
This page was generated on 2024-10-17 14:51 -0400 (Thu, 17 Oct 2024).
| Hostname | OS | Arch (*) | R version | Installed pkgs | 
|---|---|---|---|---|
| nebbiolo1 | Linux (Ubuntu 22.04.3 LTS) | x86_64 | 4.4.1 (2024-06-14) -- "Race for Your Life" | 4763 | 
| Click on any hostname to see more info about the system (e.g. compilers) (*) as reported by 'uname -p', except on Windows and Mac OS X | ||||
| Package 360/430 | Hostname | OS / Arch | INSTALL | BUILD | CHECK | ||||||||
| sesameData 1.22.0  (landing page) Wanding Zhou 
 | nebbiolo1 | Linux (Ubuntu 22.04.3 LTS) / x86_64 | OK | OK | OK |  | |||||||
| To the developers/maintainers of the sesameData package: - Use the following Renviron settings to reproduce errors and warnings. - If 'R CMD check' started to fail recently on the Linux builder(s) over a missing dependency, add the missing dependency to 'Suggests:' in your DESCRIPTION file. See Renviron.bioc for more information. | 
| Package: sesameData | 
| Version: 1.22.0 | 
| Command: /home/biocbuild/bbs-3.19-bioc/R/bin/R CMD check --install=check:sesameData.install-out.txt --library=/home/biocbuild/bbs-3.19-bioc/R/site-library --timings sesameData_1.22.0.tar.gz | 
| StartedAt: 2024-10-17 12:05:47 -0400 (Thu, 17 Oct 2024) | 
| EndedAt: 2024-10-17 12:08:41 -0400 (Thu, 17 Oct 2024) | 
| EllapsedTime: 173.6 seconds | 
| RetCode: 0 | 
| Status: OK | 
| CheckDir: sesameData.Rcheck | 
| Warnings: 0 | 
##############################################################################
##############################################################################
###
### Running command:
###
###   /home/biocbuild/bbs-3.19-bioc/R/bin/R CMD check --install=check:sesameData.install-out.txt --library=/home/biocbuild/bbs-3.19-bioc/R/site-library --timings sesameData_1.22.0.tar.gz
###
##############################################################################
##############################################################################
* using log directory ‘/home/biocbuild/bbs-3.19-data-experiment/meat/sesameData.Rcheck’
* using R version 4.4.1 (2024-06-14)
* using platform: x86_64-pc-linux-gnu
* R was compiled by
    gcc (Ubuntu 11.4.0-1ubuntu1~22.04) 11.4.0
    GNU Fortran (Ubuntu 11.4.0-1ubuntu1~22.04) 11.4.0
* running under: Ubuntu 22.04.5 LTS
* using session charset: UTF-8
* checking for file ‘sesameData/DESCRIPTION’ ... OK
* checking extension type ... Package
* this is package ‘sesameData’ version ‘1.22.0’
* package encoding: UTF-8
* checking package namespace information ... OK
* checking package dependencies ... OK
* checking if this is a source package ... OK
* checking if there is a namespace ... OK
* checking for hidden files and directories ... OK
* checking for portable file names ... OK
* checking for sufficient/correct file permissions ... OK
* checking whether package ‘sesameData’ can be installed ... OK
* checking installed package size ... OK
* checking package directory ... OK
* checking ‘build’ directory ... OK
* checking DESCRIPTION meta-information ... OK
* checking top-level files ... OK
* checking for left-over files ... OK
* checking index information ... OK
* checking package subdirectories ... OK
* checking code files for non-ASCII characters ... OK
* checking R files for syntax errors ... OK
* checking whether the package can be loaded ... OK
* checking whether the package can be loaded with stated dependencies ... OK
* checking whether the package can be unloaded cleanly ... OK
* checking whether the namespace can be loaded with stated dependencies ... OK
* checking whether the namespace can be unloaded cleanly ... OK
* checking loading without being on the library search path ... OK
* checking whether startup messages can be suppressed ... OK
* checking dependencies in R code ... OK
* checking S3 generic/method consistency ... OK
* checking replacement functions ... OK
* checking foreign function calls ... OK
* checking R code for possible problems ... OK
* checking Rd files ... OK
* checking Rd metadata ... OK
* checking Rd cross-references ... OK
* checking for missing documentation entries ... OK
* checking for code/documentation mismatches ... OK
* checking Rd \usage sections ... OK
* checking Rd contents ... OK
* checking for unstated dependencies in examples ... OK
* checking R/sysdata.rda ... OK
* checking files in ‘vignettes’ ... OK
* checking examples ... OK
Examples with CPU (user + system) or elapsed time > 5s
                            user system elapsed
sesameData_annoProbes     20.618  0.941  22.762
inferPlatformFromProbeIDs  6.449  0.364   7.136
* checking for unstated dependencies in ‘tests’ ... OK
* checking tests ...
  Running ‘testthat.R’
 OK
* checking for unstated dependencies in vignettes ... OK
* checking package vignettes ... OK
* checking re-building of vignette outputs ... OK
* checking PDF version of manual ... OK
* DONE
Status: OK
sesameData.Rcheck/00install.out
############################################################################## ############################################################################## ### ### Running command: ### ### /home/biocbuild/bbs-3.19-bioc/R/bin/R CMD INSTALL sesameData ### ############################################################################## ############################################################################## * installing to library ‘/home/biocbuild/bbs-3.19-bioc/R/site-library’ * installing *source* package ‘sesameData’ ... ** using staged installation ** R ** inst ** byte-compile and prepare package for lazy loading ** help *** installing help indices ** building package indices ** installing vignettes ** testing if installed package can be loaded from temporary location ** testing if installed package can be loaded from final location ** testing if installed package keeps a record of temporary installation path * DONE (sesameData)
sesameData.Rcheck/tests/testthat.Rout
R version 4.4.1 (2024-06-14) -- "Race for Your Life"
Copyright (C) 2024 The R Foundation for Statistical Computing
Platform: x86_64-pc-linux-gnu
R is free software and comes with ABSOLUTELY NO WARRANTY.
You are welcome to redistribute it under certain conditions.
Type 'license()' or 'licence()' for distribution details.
R is a collaborative project with many contributors.
Type 'contributors()' for more information and
'citation()' on how to cite R or R packages in publications.
Type 'demo()' for some demos, 'help()' for on-line help, or
'help.start()' for an HTML browser interface to help.
Type 'q()' to quit R.
> library(testthat)
> library(sesame)
Loading required package: sesameData
Loading required package: ExperimentHub
Loading required package: BiocGenerics
Attaching package: 'BiocGenerics'
The following objects are masked from 'package:stats':
    IQR, mad, sd, var, xtabs
The following objects are masked from 'package:base':
    Filter, Find, Map, Position, Reduce, anyDuplicated, aperm, append,
    as.data.frame, basename, cbind, colnames, dirname, do.call,
    duplicated, eval, evalq, get, grep, grepl, intersect, is.unsorted,
    lapply, mapply, match, mget, order, paste, pmax, pmax.int, pmin,
    pmin.int, rank, rbind, rownames, sapply, setdiff, table, tapply,
    union, unique, unsplit, which.max, which.min
Loading required package: AnnotationHub
Loading required package: BiocFileCache
Loading required package: dbplyr
Loading sesameData.
----------------------------------------------------------
| SEnsible Step-wise Analysis of DNA MEthylation (SeSAMe)
| --------------------------------------------------------
| Please cache auxiliary data by "sesameDataCache()".
| This needs to be done only once per SeSAMe installation.
----------------------------------------------------------
> 
> test_check("sesameData")
[ FAIL 0 | WARN 0 | SKIP 0 | PASS 1 ]
> 
> proc.time()
   user  system elapsed 
 10.248   0.702  11.254 
sesameData.Rcheck/sesameData-Ex.timings
| name | user | system | elapsed | |
| inferPlatformFromProbeIDs | 6.449 | 0.364 | 7.136 | |
| sesameDataCache | 0.303 | 0.068 | 0.529 | |
| sesameDataCacheAll | 0.288 | 0.056 | 0.502 | |
| sesameDataGet | 2.001 | 0.256 | 2.573 | |
| sesameDataGet_resetEnv | 0.504 | 0.024 | 0.528 | |
| sesameDataHas | 0.001 | 0.000 | 0.001 | |
| sesameDataList | 0.027 | 0.000 | 0.027 | |
| sesameData_annoProbes | 20.618 | 0.941 | 22.762 | |
| sesameData_check_genome | 0 | 0 | 0 | |
| sesameData_check_platform | 0.000 | 0.000 | 0.001 | |
| sesameData_getGenomeInfo | 0.286 | 0.072 | 0.517 | |
| sesameData_getManifestGRanges | 0.313 | 0.059 | 0.545 | |
| sesameData_getProbesByGene | 0.806 | 0.073 | 1.036 | |
| sesameData_getProbesByRegion | 0.386 | 0.044 | 0.816 | |
| sesameData_getTxnGRanges | 1.685 | 0.019 | 1.704 | |
| sesameData_txnToGeneGRanges | 0.396 | 0.011 | 0.407 | |