| Back to Build/check report for BioC 3.19 experimental data | 
 | 
This page was generated on 2024-10-17 14:51 -0400 (Thu, 17 Oct 2024).
| Hostname | OS | Arch (*) | R version | Installed pkgs | 
|---|---|---|---|---|
| nebbiolo1 | Linux (Ubuntu 22.04.3 LTS) | x86_64 | 4.4.1 (2024-06-14) -- "Race for Your Life" | 4763 | 
| Click on any hostname to see more info about the system (e.g. compilers) (*) as reported by 'uname -p', except on Windows and Mac OS X | ||||
| Package 290/430 | Hostname | OS / Arch | INSTALL | BUILD | CHECK | ||||||||
| pepDat 1.24.0  (landing page) Renan Sauteraud 
 | nebbiolo1 | Linux (Ubuntu 22.04.3 LTS) / x86_64 | OK | OK | OK |  | |||||||
| To the developers/maintainers of the pepDat package: - Use the following Renviron settings to reproduce errors and warnings. - If 'R CMD check' started to fail recently on the Linux builder(s) over a missing dependency, add the missing dependency to 'Suggests:' in your DESCRIPTION file. See Renviron.bioc for more information. | 
| Package: pepDat | 
| Version: 1.24.0 | 
| Command: /home/biocbuild/bbs-3.19-bioc/R/bin/R CMD build --keep-empty-dirs --no-resave-data pepDat | 
| StartedAt: 2024-10-17 10:45:06 -0400 (Thu, 17 Oct 2024) | 
| EndedAt: 2024-10-17 10:45:21 -0400 (Thu, 17 Oct 2024) | 
| EllapsedTime: 14.6 seconds | 
| RetCode: 0 | 
| Status: OK | 
| PackageFile: pepDat_1.24.0.tar.gz | 
| PackageFileSize: 2.655 MiB | 
##############################################################################
##############################################################################
###
### Running command:
###
###   /home/biocbuild/bbs-3.19-bioc/R/bin/R CMD build --keep-empty-dirs --no-resave-data pepDat
###
##############################################################################
##############################################################################
* checking for file ‘pepDat/DESCRIPTION’ ... OK
* preparing ‘pepDat’:
* checking DESCRIPTION meta-information ... OK
* installing the package to build vignettes
* creating vignettes ... OK
* checking for LF line-endings in source and make files and shell scripts
* checking for empty or unneeded directories
* looking to see if a ‘data/datalist’ file should be added
  NB: this package now depends on R (>= 3.5.0)
  WARNING: Added dependency on R >= 3.5.0 because serialized objects in
  serialize/load version 3 cannot be read in older versions of R.
  File(s) containing such objects:
    ‘pepDat/data/pep_hxb2.rda’ ‘pepDat/data/pep_hxb2JPT.rda’
    ‘pepDat/data/pep_m239smE543.rda’ ‘pepDat/data/pep_mac239.rda’
* building ‘pepDat_1.24.0.tar.gz’