| Back to Build/check report for BioC 3.19 experimental data |
|
This page was generated on 2024-10-17 14:51 -0400 (Thu, 17 Oct 2024).
| Hostname | OS | Arch (*) | R version | Installed pkgs |
|---|---|---|---|---|
| nebbiolo1 | Linux (Ubuntu 22.04.3 LTS) | x86_64 | 4.4.1 (2024-06-14) -- "Race for Your Life" | 4763 |
| Click on any hostname to see more info about the system (e.g. compilers) (*) as reported by 'uname -p', except on Windows and Mac OS X | ||||
| Package 209/430 | Hostname | OS / Arch | INSTALL | BUILD | CHECK | ||||||||
| leukemiasEset 1.40.0 (landing page) Sara Aibar
| nebbiolo1 | Linux (Ubuntu 22.04.3 LTS) / x86_64 | OK | OK | OK | ||||||||
|
To the developers/maintainers of the leukemiasEset package: - Use the following Renviron settings to reproduce errors and warnings. - If 'R CMD check' started to fail recently on the Linux builder(s) over a missing dependency, add the missing dependency to 'Suggests:' in your DESCRIPTION file. See Renviron.bioc for more information. |
| Package: leukemiasEset |
| Version: 1.40.0 |
| Command: /home/biocbuild/bbs-3.19-bioc/R/bin/R CMD check --install=check:leukemiasEset.install-out.txt --library=/home/biocbuild/bbs-3.19-bioc/R/site-library --timings leukemiasEset_1.40.0.tar.gz |
| StartedAt: 2024-10-17 11:37:13 -0400 (Thu, 17 Oct 2024) |
| EndedAt: 2024-10-17 11:37:36 -0400 (Thu, 17 Oct 2024) |
| EllapsedTime: 23.3 seconds |
| RetCode: 0 |
| Status: OK |
| CheckDir: leukemiasEset.Rcheck |
| Warnings: 0 |
##############################################################################
##############################################################################
###
### Running command:
###
### /home/biocbuild/bbs-3.19-bioc/R/bin/R CMD check --install=check:leukemiasEset.install-out.txt --library=/home/biocbuild/bbs-3.19-bioc/R/site-library --timings leukemiasEset_1.40.0.tar.gz
###
##############################################################################
##############################################################################
* using log directory ‘/home/biocbuild/bbs-3.19-data-experiment/meat/leukemiasEset.Rcheck’
* using R version 4.4.1 (2024-06-14)
* using platform: x86_64-pc-linux-gnu
* R was compiled by
gcc (Ubuntu 11.4.0-1ubuntu1~22.04) 11.4.0
GNU Fortran (Ubuntu 11.4.0-1ubuntu1~22.04) 11.4.0
* running under: Ubuntu 22.04.5 LTS
* using session charset: UTF-8
* checking for file ‘leukemiasEset/DESCRIPTION’ ... OK
* checking extension type ... Package
* this is package ‘leukemiasEset’ version ‘1.40.0’
* checking package namespace information ... OK
* checking package dependencies ... OK
* checking if this is a source package ... OK
* checking if there is a namespace ... OK
* checking for hidden files and directories ... OK
* checking for portable file names ... OK
* checking for sufficient/correct file permissions ... OK
* checking whether package ‘leukemiasEset’ can be installed ... OK
* checking installed package size ... NOTE
installed size is 8.8Mb
sub-directories of 1Mb or more:
data 8.7Mb
* checking package directory ... OK
* checking DESCRIPTION meta-information ... NOTE
Malformed Title field: should not end in a period.
* checking top-level files ... OK
* checking for left-over files ... OK
* checking index information ... OK
* checking package subdirectories ... NOTE
Problems with news in ‘NEWS’:
Cannot process chunk/lines:
Package released
* checking whether the package can be loaded ... OK
* checking whether the package can be loaded with stated dependencies ... OK
* checking whether the package can be unloaded cleanly ... OK
* checking whether the namespace can be loaded with stated dependencies ... OK
* checking whether the namespace can be unloaded cleanly ... OK
* checking loading without being on the library search path ... OK
* checking Rd files ... NOTE
checkRd: (-1) leukemiasEset.Rd:57: Lost braces in \itemize; meant \describe ?
checkRd: (-1) leukemiasEset.Rd:58: Lost braces in \itemize; meant \describe ?
checkRd: (-1) leukemiasEset.Rd:59: Lost braces in \itemize; meant \describe ?
checkRd: (-1) leukemiasEset.Rd:60: Lost braces in \itemize; meant \describe ?
checkRd: (-1) leukemiasEset.Rd:61: Lost braces in \itemize; meant \describe ?
* checking Rd metadata ... OK
* checking Rd cross-references ... OK
* checking for missing documentation entries ... OK
* checking for code/documentation mismatches ... OK
* checking Rd \usage sections ... OK
* checking Rd contents ... OK
* checking for unstated dependencies in examples ... OK
* checking contents of ‘data’ directory ... OK
* checking data for non-ASCII characters ... OK
* checking data for ASCII and uncompressed saves ... OK
* checking examples ... OK
* checking PDF version of manual ... OK
* DONE
Status: 4 NOTEs
See
‘/home/biocbuild/bbs-3.19-data-experiment/meat/leukemiasEset.Rcheck/00check.log’
for details.
leukemiasEset.Rcheck/00install.out
############################################################################## ############################################################################## ### ### Running command: ### ### /home/biocbuild/bbs-3.19-bioc/R/bin/R CMD INSTALL leukemiasEset ### ############################################################################## ############################################################################## * installing to library ‘/home/biocbuild/bbs-3.19-bioc/R/site-library’ * installing *source* package ‘leukemiasEset’ ... ** using staged installation ** data ** help *** installing help indices ** building package indices ** testing if installed package can be loaded from temporary location ** testing if installed package can be loaded from final location ** testing if installed package keeps a record of temporary installation path * DONE (leukemiasEset)
leukemiasEset.Rcheck/leukemiasEset-Ex.timings
| name | user | system | elapsed | |
| leukemiasEset | 0.145 | 0.021 | 0.166 | |