| name | user | system | elapsed | 
| anoCar1.ensGene.LENGTH | 0.072 | 0.008 | 0.079 |  | 
| anoCar1.genscan.LENGTH | 0.048 | 0.000 | 0.048 |  | 
| anoCar1.xenoRefGene.LENGTH | 0.768 | 0.012 | 0.779 |  | 
| anoGam1.ensGene.LENGTH | 0.057 | 0.004 | 0.061 |  | 
| anoGam1.geneid.LENGTH | 0.040 | 0.004 | 0.044 |  | 
| anoGam1.genscan.LENGTH | 0.038 | 0.004 | 0.042 |  | 
| apiMel1.genscan.LENGTH | 0.033 | 0.004 | 0.037 |  | 
| apiMel2.ensGene.LENGTH | 0.078 | 0.012 | 0.090 |  | 
| apiMel2.geneid.LENGTH | 0.119 | 0.000 | 0.118 |  | 
| apiMel2.genscan.LENGTH | 0.032 | 0.000 | 0.033 |  | 
| aplCal1.xenoRefGene.LENGTH | 0.396 | 0.009 | 0.405 |  | 
| bosTau2.geneSymbol.LENGTH | 0.038 | 0.001 | 0.041 |  | 
| bosTau2.geneid.LENGTH | 0.268 | 0.021 | 0.290 |  | 
| bosTau2.genscan.LENGTH | 0.077 | 0.003 | 0.079 |  | 
| bosTau2.refGene.LENGTH | 0.036 | 0.003 | 0.038 |  | 
| bosTau2.sgpGene.LENGTH | 0.101 | 0.000 | 0.102 |  | 
| bosTau3.ensGene.LENGTH | 0.097 | 0.000 | 0.098 |  | 
| bosTau3.geneSymbol.LENGTH | 0.034 | 0.000 | 0.034 |  | 
| bosTau3.geneid.LENGTH | 0.104 | 0.008 | 0.112 |  | 
| bosTau3.genscan.LENGTH | 0.079 | 0.001 | 0.081 |  | 
| bosTau3.refGene.LENGTH | 0.031 | 0.001 | 0.033 |  | 
| bosTau3.sgpGene.LENGTH | 0.092 | 0.000 | 0.092 |  | 
| bosTau4.ensGene.LENGTH | 0.092 | 0.005 | 0.097 |  | 
| bosTau4.geneSymbol.LENGTH | 0.026 | 0.006 | 0.032 |  | 
| bosTau4.genscan.LENGTH | 0.068 | 0.000 | 0.068 |  | 
| bosTau4.nscanGene.LENGTH | 0.026 | 0.004 | 0.029 |  | 
| bosTau4.refGene.LENGTH | 0.028 | 0.003 | 0.032 |  | 
| braFlo1.xenoRefGene.LENGTH | 0.364 | 0.004 | 0.368 |  | 
| caeJap1.xenoRefGene.LENGTH | 0.344 | 0.000 | 0.344 |  | 
| caePb1.xenoRefGene.LENGTH | 0.402 | 0.003 | 0.406 |  | 
| caePb2.xenoRefGene.LENGTH | 0.397 | 0.000 | 0.397 |  | 
| caeRem2.xenoRefGene.LENGTH | 0.364 | 0.012 | 0.376 |  | 
| caeRem3.xenoRefGene.LENGTH | 0.324 | 0.004 | 0.328 |  | 
| calJac1.genscan.LENGTH | 0.173 | 0.000 | 0.173 |  | 
| calJac1.nscanGene.LENGTH | 0.109 | 0.000 | 0.109 |  | 
| calJac1.xenoRefGene.LENGTH | 0.632 | 0.004 | 0.636 |  | 
| canFam1.ensGene.LENGTH | 0.231 | 0.003 | 0.234 |  | 
| canFam1.geneSymbol.LENGTH | 0.005 | 0.000 | 0.005 |  | 
| canFam1.genscan.LENGTH | 0.063 | 0.000 | 0.063 |  | 
| canFam1.nscanGene.LENGTH | 0.064 | 0.004 | 0.068 |  | 
| canFam1.refGene.LENGTH | 0.005 | 0.000 | 0.006 |  | 
| canFam1.xenoRefGene.LENGTH | 0.554 | 0.004 | 0.558 |  | 
| canFam2.ensGene.LENGTH | 0.234 | 0.008 | 0.243 |  | 
| canFam2.geneSymbol.LENGTH | 0.002 | 0.003 | 0.005 |  | 
| canFam2.genscan.LENGTH | 0.056 | 0.000 | 0.056 |  | 
| canFam2.nscanGene.LENGTH | 0.063 | 0.000 | 0.063 |  | 
| canFam2.refGene.LENGTH | 0.005 | 0.000 | 0.006 |  | 
| canFam2.xenoRefGene.LENGTH | 0.544 | 0.000 | 0.544 |  | 
| cavPor3.ensGene.LENGTH | 0.081 | 0.000 | 0.082 |  | 
| cavPor3.genscan.LENGTH | 0.097 | 0.000 | 0.098 |  | 
| cavPor3.nscanGene.LENGTH | 0.068 | 0.000 | 0.069 |  | 
| cavPor3.xenoRefGene.LENGTH | 0.556 | 0.000 | 0.556 |  | 
| cb1.xenoRefGene.LENGTH | 0.378 | 0.001 | 0.379 |  | 
| cb3.xenoRefGene.LENGTH | 0.308 | 0.006 | 0.314 |  | 
| ce2.geneSymbol.LENGTH | 0.069 | 0.000 | 0.069 |  | 
| ce2.geneid.LENGTH | 0.059 | 0.000 | 0.059 |  | 
| ce2.refGene.LENGTH | 0.066 | 0.000 | 0.066 |  | 
| ce4.geneSymbol.LENGTH | 0.07 | 0.00 | 0.07 |  | 
| ce4.refGene.LENGTH | 0.063 | 0.000 | 0.062 |  | 
| ce4.xenoRefGene.LENGTH | 0.082 | 0.000 | 0.083 |  | 
| ce6.ensGene.LENGTH | 0.087 | 0.004 | 0.092 |  | 
| ce6.geneSymbol.LENGTH | 0.065 | 0.004 | 0.069 |  | 
| ce6.refGene.LENGTH | 0.064 | 0.000 | 0.065 |  | 
| ce6.xenoRefGene.LENGTH | 0.081 | 0.000 | 0.081 |  | 
| ci1.geneSymbol.LENGTH | 0.006 | 0.000 | 0.005 |  | 
| ci1.refGene.LENGTH | 0.004 | 0.000 | 0.005 |  | 
| ci1.xenoRefGene.LENGTH | 0.162 | 0.008 | 0.170 |  | 
| ci2.ensGene.LENGTH | 0.183 | 0.016 | 0.198 |  | 
| ci2.geneSymbol.LENGTH | 0.005 | 0.000 | 0.006 |  | 
| ci2.refGene.LENGTH | 0.005 | 0.000 | 0.005 |  | 
| ci2.xenoRefGene.LENGTH | 0.254 | 0.004 | 0.258 |  | 
| danRer3.ensGene.LENGTH | 0.102 | 0.000 | 0.102 |  | 
| danRer3.geneSymbol.LENGTH | 0.055 | 0.000 | 0.055 |  | 
| danRer3.refGene.LENGTH | 0.050 | 0.000 | 0.051 |  | 
| danRer4.ensGene.LENGTH | 0.107 | 0.004 | 0.111 |  | 
| danRer4.geneSymbol.LENGTH | 0.053 | 0.000 | 0.053 |  | 
| danRer4.genscan.LENGTH | 0.058 | 0.003 | 0.061 |  | 
| danRer4.nscanGene.LENGTH | 0.092 | 0.000 | 0.092 |  | 
| danRer4.refGene.LENGTH | 0.05 | 0.00 | 0.05 |  | 
| danRer5.ensGene.LENGTH | 0.112 | 0.000 | 0.112 |  | 
| danRer5.geneSymbol.LENGTH | 0.049 | 0.000 | 0.049 |  | 
| danRer5.refGene.LENGTH | 0.046 | 0.000 | 0.045 |  | 
| danRer5.vegaGene.LENGTH | 0.049 | 0.000 | 0.048 |  | 
| danRer5.vegaPseudoGene.LENGTH | 0.002 | 0.000 | 0.003 |  | 
| danRer6.ensGene.LENGTH | 0.105 | 0.001 | 0.106 |  | 
| danRer6.geneSymbol.LENGTH | 0.048 | 0.003 | 0.050 |  | 
| danRer6.refGene.LENGTH | 0.046 | 0.000 | 0.046 |  | 
| danRer6.xenoRefGene.LENGTH | 0.459 | 0.008 | 0.467 |  | 
| dm1.geneSymbol.LENGTH | 0.066 | 0.000 | 0.067 |  | 
| dm1.genscan.LENGTH | 0.025 | 0.000 | 0.026 |  | 
| dm1.refGene.LENGTH | 0.059 | 0.000 | 0.059 |  | 
| dm2.geneSymbol.LENGTH | 0.060 | 0.004 | 0.064 |  | 
| dm2.geneid.LENGTH | 0.037 | 0.000 | 0.037 |  | 
| dm2.genscan.LENGTH | 0.024 | 0.000 | 0.025 |  | 
| dm2.nscanGene.LENGTH | 0.047 | 0.004 | 0.051 |  | 
| dm2.refGene.LENGTH | 0.249 | 0.012 | 0.261 |  | 
| dm3.geneSymbol.LENGTH | 0.067 | 0.004 | 0.072 |  | 
| dm3.nscanPasaGene.LENGTH | 0.052 | 0.000 | 0.052 |  | 
| dm3.refGene.LENGTH | 0.07 | 0.00 | 0.07 |  | 
| downloadLengthFromUCSC | 0.001 | 0.000 | 0.000 |  | 
| dp2.genscan.LENGTH | 0.027 | 0.004 | 0.031 |  | 
| dp2.xenoRefGene.LENGTH | 0.193 | 0.000 | 0.193 |  | 
| dp3.geneid.LENGTH | 0.038 | 0.000 | 0.039 |  | 
| dp3.genscan.LENGTH | 0.022 | 0.003 | 0.026 |  | 
| dp3.xenoRefGene.LENGTH | 0.106 | 0.001 | 0.106 |  | 
| droAna1.geneid.LENGTH | 0.063 | 0.004 | 0.067 |  | 
| droAna1.genscan.LENGTH | 0.022 | 0.000 | 0.022 |  | 
| droAna1.xenoRefGene.LENGTH | 0.192 | 0.005 | 0.197 |  | 
| droAna2.genscan.LENGTH | 0.044 | 0.006 | 0.050 |  | 
| droAna2.xenoRefGene.LENGTH | 0.251 | 0.001 | 0.252 |  | 
| droEre1.genscan.LENGTH | 0.028 | 0.003 | 0.029 |  | 
| droEre1.xenoRefGene.LENGTH | 0.243 | 0.008 | 0.251 |  | 
| droGri1.genscan.LENGTH | 0.041 | 0.000 | 0.041 |  | 
| droGri1.xenoRefGene.LENGTH | 0.269 | 0.004 | 0.273 |  | 
| droMoj1.geneid.LENGTH | 0.123 | 0.000 | 0.123 |  | 
| droMoj1.genscan.LENGTH | 0.057 | 0.000 | 0.056 |  | 
| droMoj1.xenoRefGene.LENGTH | 0.206 | 0.000 | 0.205 |  | 
| droMoj2.genscan.LENGTH | 0.033 | 0.004 | 0.037 |  | 
| droMoj2.xenoRefGene.LENGTH | 0.263 | 0.000 | 0.264 |  | 
| droPer1.genscan.LENGTH | 0.042 | 0.000 | 0.042 |  | 
| droPer1.xenoRefGene.LENGTH | 0.363 | 0.012 | 0.374 |  | 
| droSec1.genscan.LENGTH | 0.030 | 0.000 | 0.029 |  | 
| droSec1.xenoRefGene.LENGTH | 0.250 | 0.000 | 0.251 |  | 
| droSim1.geneid.LENGTH | 0.038 | 0.000 | 0.039 |  | 
| droSim1.genscan.LENGTH | 0.025 | 0.000 | 0.025 |  | 
| droSim1.xenoRefGene.LENGTH | 0.213 | 0.001 | 0.215 |  | 
| droVir1.geneid.LENGTH | 0.097 | 0.003 | 0.098 |  | 
| droVir1.genscan.LENGTH | 0.042 | 0.000 | 0.041 |  | 
| droVir1.xenoRefGene.LENGTH | 0.218 | 0.000 | 0.218 |  | 
| droVir2.genscan.LENGTH | 0.033 | 0.003 | 0.037 |  | 
| droVir2.xenoRefGene.LENGTH | 0.246 | 0.001 | 0.245 |  | 
| droYak1.geneid.LENGTH | 0.044 | 0.000 | 0.043 |  | 
| droYak1.genscan.LENGTH | 0.026 | 0.003 | 0.030 |  | 
| droYak1.xenoRefGene.LENGTH | 0.209 | 0.008 | 0.218 |  | 
| droYak2.genscan.LENGTH | 0.026 | 0.003 | 0.029 |  | 
| droYak2.xenoRefGene.LENGTH | 0.244 | 0.001 | 0.246 |  | 
| equCab1.geneSymbol.LENGTH | 0.004 | 0.002 | 0.005 |  | 
| equCab1.geneid.LENGTH | 0.078 | 0.008 | 0.085 |  | 
| equCab1.nscanGene.LENGTH | 0.037 | 0.003 | 0.041 |  | 
| equCab1.refGene.LENGTH | 0.005 | 0.000 | 0.005 |  | 
| equCab1.sgpGene.LENGTH | 0.915 | 0.116 | 1.031 |  | 
| equCab2.ensGene.LENGTH | 0.082 | 0.007 | 0.091 |  | 
| equCab2.geneSymbol.LENGTH | 0.007 | 0.000 | 0.007 |  | 
| equCab2.nscanGene.LENGTH | 0.047 | 0.000 | 0.047 |  | 
| equCab2.refGene.LENGTH | 0.005 | 0.001 | 0.006 |  | 
| equCab2.xenoRefGene.LENGTH | 0.498 | 0.003 | 0.500 |  | 
| felCat3.ensGene.LENGTH | 0.092 | 0.003 | 0.095 |  | 
| felCat3.geneSymbol.LENGTH | 0.004 | 0.000 | 0.003 |  | 
| felCat3.geneid.LENGTH | 0.477 | 0.009 | 0.484 |  | 
| felCat3.genscan.LENGTH | 0.115 | 0.000 | 0.115 |  | 
| felCat3.nscanGene.LENGTH | 0.089 | 0.000 | 0.089 |  | 
| felCat3.refGene.LENGTH | 0.002 | 0.001 | 0.004 |  | 
| felCat3.sgpGene.LENGTH | 0.132 | 0.007 | 0.138 |  | 
| felCat3.xenoRefGene.LENGTH | 0.987 | 0.020 | 1.007 |  | 
| fr1.ensGene.LENGTH | 0.073 | 0.000 | 0.074 |  | 
| fr1.genscan.LENGTH | 0.054 | 0.004 | 0.058 |  | 
| fr2.ensGene.LENGTH | 0.127 | 0.004 | 0.131 |  | 
| galGal2.ensGene.LENGTH | 0.053 | 0.004 | 0.057 |  | 
| galGal2.geneSymbol.LENGTH | 0.017 | 0.000 | 0.018 |  | 
| galGal2.geneid.LENGTH | 0.038 | 0.000 | 0.039 |  | 
| galGal2.genscan.LENGTH | 0.052 | 0.000 | 0.052 |  | 
| galGal2.refGene.LENGTH | 0.016 | 0.000 | 0.016 |  | 
| galGal2.sgpGene.LENGTH | 0.043 | 0.004 | 0.047 |  | 
| galGal3.ensGene.LENGTH | 0.075 | 0.000 | 0.075 |  | 
| galGal3.geneSymbol.LENGTH | 0.013 | 0.004 | 0.017 |  | 
| galGal3.genscan.LENGTH | 0.041 | 0.007 | 0.049 |  | 
| galGal3.nscanGene.LENGTH | 0.073 | 0.000 | 0.074 |  | 
| galGal3.refGene.LENGTH | 0.015 | 0.000 | 0.015 |  | 
| galGal3.xenoRefGene.LENGTH | 0.461 | 0.000 | 0.461 |  | 
| gasAcu1.ensGene.LENGTH | 0.093 | 0.004 | 0.097 |  | 
| gasAcu1.nscanGene.LENGTH | 0.104 | 0.000 | 0.105 |  | 
| hg16.acembly.LENGTH | 0.635 | 0.008 | 0.642 |  | 
| hg16.ensGene.LENGTH | 0.073 | 0.000 | 0.073 |  | 
| hg16.exoniphy.LENGTH | 0.246 | 0.001 | 0.247 |  | 
| hg16.geneSymbol.LENGTH | 0.108 | 0.003 | 0.110 |  | 
| hg16.geneid.LENGTH | 0.045 | 0.004 | 0.050 |  | 
| hg16.genscan.LENGTH | 0.063 | 0.000 | 0.063 |  | 
| hg16.knownGene.LENGTH | 0.12 | 0.00 | 0.12 |  | 
| hg16.refGene.LENGTH | 0.093 | 0.000 | 0.093 |  | 
| hg16.sgpGene.LENGTH | 0.055 | 0.003 | 0.058 |  | 
| hg17.acembly.LENGTH | 0.577 | 0.013 | 0.589 |  | 
| hg17.acescan.LENGTH | 0.006 | 0.003 | 0.011 |  | 
| hg17.ccdsGene.LENGTH | 0.019 | 0.003 | 0.024 |  | 
| hg17.ensGene.LENGTH | 0.102 | 0.000 | 0.103 |  | 
| hg17.exoniphy.LENGTH | 0.397 | 0.004 | 0.401 |  | 
| hg17.geneSymbol.LENGTH | 0.100 | 0.000 | 0.099 |  | 
| hg17.geneid.LENGTH | 0.067 | 0.004 | 0.070 |  | 
| hg17.genscan.LENGTH | 0.062 | 0.000 | 0.063 |  | 
| hg17.knownGene.LENGTH | 0.108 | 0.000 | 0.108 |  | 
| hg17.refGene.LENGTH | 0.099 | 0.000 | 0.098 |  | 
| hg17.sgpGene.LENGTH | 0.069 | 0.000 | 0.069 |  | 
| hg17.vegaGene.LENGTH | 0.041 | 0.000 | 0.041 |  | 
| hg17.vegaPseudoGene.LENGTH | 0.017 | 0.001 | 0.018 |  | 
| hg17.xenoRefGene.LENGTH | 0.306 | 0.047 | 0.352 |  | 
| hg18.acembly.LENGTH | 0.422 | 0.004 | 0.427 |  | 
| hg18.acescan.LENGTH | 0.010 | 0.000 | 0.011 |  | 
| hg18.ccdsGene.LENGTH | 0.034 | 0.000 | 0.034 |  | 
| hg18.ensGene.LENGTH | 0.180 | 0.004 | 0.184 |  | 
| hg18.exoniphy.LENGTH | 0.439 | 0.000 | 0.439 |  | 
| hg18.geneSymbol.LENGTH | 0.103 | 0.000 | 0.104 |  | 
| hg18.geneid.LENGTH | 0.074 | 0.000 | 0.074 |  | 
| hg18.genscan.LENGTH | 0.064 | 0.000 | 0.064 |  | 
| hg18.knownGene.LENGTH | 0.651 | 0.004 | 0.655 |  | 
| hg18.knownGeneOld3.LENGTH | 0.068 | 0.000 | 0.068 |  | 
| hg18.refGene.LENGTH | 0.094 | 0.000 | 0.093 |  | 
| hg18.sgpGene.LENGTH | 0.081 | 0.000 | 0.080 |  | 
| hg18.sibGene.LENGTH | 0.335 | 0.000 | 0.335 |  | 
| hg18.xenoRefGene.LENGTH | 0.338 | 0.000 | 0.338 |  | 
| hg19.ccdsGene.LENGTH | 0.042 | 0.000 | 0.042 |  | 
| hg19.ensGene.LENGTH | 0.293 | 0.000 | 0.292 |  | 
| hg19.exoniphy.LENGTH | 0.424 | 0.000 | 0.424 |  | 
| hg19.geneSymbol.LENGTH | 0.099 | 0.000 | 0.100 |  | 
| hg19.knownGene.LENGTH | 0.168 | 0.000 | 0.169 |  | 
| hg19.nscanGene.LENGTH | 0.151 | 0.000 | 0.150 |  | 
| hg19.refGene.LENGTH | 0.103 | 0.000 | 0.103 |  | 
| hg19.xenoRefGene.LENGTH | 1.463 | 0.092 | 1.556 |  | 
| loxAfr3.xenoRefGene.LENGTH | 0.677 | 0.001 | 0.679 |  | 
| mm7.ensGene.LENGTH | 0.099 | 0.002 | 0.101 |  | 
| mm7.geneSymbol.LENGTH | 0.084 | 0.000 | 0.084 |  | 
| mm7.geneid.LENGTH | 0.074 | 0.000 | 0.074 |  | 
| mm7.genscan.LENGTH | 0.06 | 0.00 | 0.06 |  | 
| mm7.knownGene.LENGTH | 0.089 | 0.000 | 0.089 |  | 
| mm7.refGene.LENGTH | 0.078 | 0.003 | 0.081 |  | 
| mm7.sgpGene.LENGTH | 0.070 | 0.001 | 0.070 |  | 
| mm7.xenoRefGene.LENGTH | 0.273 | 0.000 | 0.273 |  | 
| mm8.ccdsGene.LENGTH | 0.021 | 0.000 | 0.022 |  | 
| mm8.ensGene.LENGTH | 0.073 | 0.000 | 0.074 |  | 
| mm8.geneSymbol.LENGTH | 0.080 | 0.004 | 0.084 |  | 
| mm8.geneid.LENGTH | 0.071 | 0.000 | 0.070 |  | 
| mm8.genscan.LENGTH | 0.058 | 0.000 | 0.058 |  | 
| mm8.knownGene.LENGTH | 0.092 | 0.003 | 0.097 |  | 
| mm8.nscanGene.LENGTH | 0.059 | 0.000 | 0.060 |  | 
| mm8.refGene.LENGTH | 0.08 | 0.00 | 0.08 |  | 
| mm8.sgpGene.LENGTH | 0.069 | 0.000 | 0.070 |  | 
| mm8.sibGene.LENGTH | 0.242 | 0.000 | 0.243 |  | 
| mm8.xenoRefGene.LENGTH | 0.321 | 0.000 | 0.320 |  | 
| mm9.acembly.LENGTH | 0.286 | 0.000 | 0.286 |  | 
| mm9.ccdsGene.LENGTH | 0.026 | 0.003 | 0.029 |  | 
| mm9.ensGene.LENGTH | 0.143 | 0.001 | 0.142 |  | 
| mm9.exoniphy.LENGTH | 0.425 | 0.000 | 0.424 |  | 
| mm9.geneSymbol.LENGTH | 0.091 | 0.000 | 0.090 |  | 
| mm9.geneid.LENGTH | 0.08 | 0.00 | 0.08 |  | 
| mm9.genscan.LENGTH | 0.063 | 0.000 | 0.063 |  | 
| mm9.knownGene.LENGTH | 0.106 | 0.000 | 0.106 |  | 
| mm9.nscanGene.LENGTH | 0.058 | 0.003 | 0.061 |  | 
| mm9.refGene.LENGTH | 0.085 | 0.001 | 0.084 |  | 
| mm9.sgpGene.LENGTH | 0.08 | 0.00 | 0.08 |  | 
| mm9.xenoRefGene.LENGTH | 0.344 | 0.004 | 0.347 |  | 
| monDom1.genscan.LENGTH | 0.064 | 0.000 | 0.064 |  | 
| monDom4.ensGene.LENGTH | 0.071 | 0.000 | 0.072 |  | 
| monDom4.geneSymbol.LENGTH | 0.000 | 0.004 | 0.004 |  | 
| monDom4.genscan.LENGTH | 0.050 | 0.003 | 0.054 |  | 
| monDom4.nscanGene.LENGTH | 0.053 | 0.000 | 0.054 |  | 
| monDom4.refGene.LENGTH | 0.002 | 0.001 | 0.004 |  | 
| monDom4.xenoRefGene.LENGTH | 0.343 | 0.002 | 0.345 |  | 
| monDom5.ensGene.LENGTH | 0.108 | 0.000 | 0.108 |  | 
| monDom5.geneSymbol.LENGTH | 0.003 | 0.000 | 0.004 |  | 
| monDom5.genscan.LENGTH | 0.052 | 0.004 | 0.056 |  | 
| monDom5.nscanGene.LENGTH | 0.11 | 0.00 | 0.11 |  | 
| monDom5.refGene.LENGTH | 0.003 | 0.000 | 0.004 |  | 
| monDom5.xenoRefGene.LENGTH | 0.566 | 0.012 | 0.579 |  | 
| ornAna1.ensGene.LENGTH | 0.093 | 0.001 | 0.095 |  | 
| ornAna1.geneSymbol.LENGTH | 0.001 | 0.003 | 0.002 |  | 
| ornAna1.refGene.LENGTH | 0.000 | 0.002 | 0.002 |  | 
| ornAna1.xenoRefGene.LENGTH | 0.554 | 0.005 | 0.559 |  | 
| oryLat2.ensGene.LENGTH | 0.076 | 0.004 | 0.081 |  | 
| oryLat2.geneSymbol.LENGTH | 0.000 | 0.004 | 0.004 |  | 
| oryLat2.refGene.LENGTH | 0.000 | 0.004 | 0.004 |  | 
| oryLat2.xenoRefGene.LENGTH | 0.491 | 0.000 | 0.492 |  | 
| panTro1.ensGene.LENGTH | 0.104 | 0.004 | 0.107 |  | 
| panTro1.geneid.LENGTH | 0.051 | 0.000 | 0.051 |  | 
| panTro1.genscan.LENGTH | 0.059 | 0.004 | 0.063 |  | 
| panTro1.xenoRefGene.LENGTH | 0.116 | 0.000 | 0.117 |  | 
| panTro2.ensGene.LENGTH | 0.110 | 0.004 | 0.115 |  | 
| panTro2.geneSymbol.LENGTH | 0.107 | 0.019 | 0.126 |  | 
| panTro2.genscan.LENGTH | 0.303 | 0.029 | 0.330 |  | 
| panTro2.nscanGene.LENGTH | 0.062 | 0.000 | 0.062 |  | 
| panTro2.refGene.LENGTH | 0.098 | 0.003 | 0.103 |  | 
| panTro2.xenoRefGene.LENGTH | 0.475 | 0.003 | 0.479 |  | 
| petMar1.xenoRefGene.LENGTH | 0.258 | 0.001 | 0.257 |  | 
| ponAbe2.ensGene.LENGTH | 0.082 | 0.003 | 0.085 |  | 
| ponAbe2.geneSymbol.LENGTH | 0.014 | 0.001 | 0.013 |  | 
| ponAbe2.genscan.LENGTH | 0.059 | 0.004 | 0.063 |  | 
| ponAbe2.nscanGene.LENGTH | 0.063 | 0.000 | 0.062 |  | 
| ponAbe2.refGene.LENGTH | 0.012 | 0.000 | 0.012 |  | 
| ponAbe2.xenoRefGene.LENGTH | 0.602 | 0.000 | 0.601 |  | 
| priPac1.xenoRefGene.LENGTH | 0.337 | 0.001 | 0.338 |  | 
| rheMac2.ensGene.LENGTH | 0.125 | 0.003 | 0.126 |  | 
| rheMac2.geneSymbol.LENGTH | 0.006 | 0.000 | 0.005 |  | 
| rheMac2.geneid.LENGTH | 0.073 | 0.001 | 0.074 |  | 
| rheMac2.nscanGene.LENGTH | 0.059 | 0.002 | 0.061 |  | 
| rheMac2.refGene.LENGTH | 0.005 | 0.000 | 0.005 |  | 
| rheMac2.sgpGene.LENGTH | 0.067 | 0.004 | 0.071 |  | 
| rheMac2.xenoRefGene.LENGTH | 0.443 | 0.004 | 0.446 |  | 
| rn3.ensGene.LENGTH | 0.1 | 0.0 | 0.1 |  | 
| rn3.geneSymbol.LENGTH | 0.056 | 0.000 | 0.056 |  | 
| rn3.geneid.LENGTH | 0.053 | 0.000 | 0.053 |  | 
| rn3.genscan.LENGTH | 0.066 | 0.000 | 0.066 |  | 
| rn3.knownGene.LENGTH | 0.020 | 0.005 | 0.025 |  | 
| rn3.nscanGene.LENGTH | 0.055 | 0.006 | 0.061 |  | 
| rn3.refGene.LENGTH | 0.052 | 0.000 | 0.052 |  | 
| rn3.sgpGene.LENGTH | 0.054 | 0.004 | 0.057 |  | 
| rn3.xenoRefGene.LENGTH | 0.506 | 0.008 | 0.514 |  | 
| rn4.ensGene.LENGTH | 0.123 | 0.004 | 0.128 |  | 
| rn4.geneSymbol.LENGTH | 0.055 | 0.001 | 0.056 |  | 
| rn4.geneid.LENGTH | 0.085 | 0.002 | 0.087 |  | 
| rn4.genscan.LENGTH | 0.059 | 0.004 | 0.063 |  | 
| rn4.knownGene.LENGTH | 0.021 | 0.004 | 0.025 |  | 
| rn4.nscanGene.LENGTH | 0.053 | 0.001 | 0.055 |  | 
| rn4.refGene.LENGTH | 0.050 | 0.002 | 0.052 |  | 
| rn4.sgpGene.LENGTH | 0.084 | 0.000 | 0.083 |  | 
| rn4.xenoRefGene.LENGTH | 0.338 | 0.000 | 0.338 |  | 
| sacCer1.ensGene.LENGTH | 0.015 | 0.004 | 0.019 |  | 
| sacCer2.ensGene.LENGTH | 0.018 | 0.000 | 0.018 |  | 
| strPur1.geneSymbol.LENGTH | 0.005 | 0.000 | 0.005 |  | 
| strPur1.genscan.LENGTH | 0.056 | 0.008 | 0.064 |  | 
| strPur1.refGene.LENGTH | 0.004 | 0.000 | 0.004 |  | 
| strPur1.xenoRefGene.LENGTH | 0.440 | 0.008 | 0.447 |  | 
| strPur2.geneSymbol.LENGTH | 0.004 | 0.000 | 0.004 |  | 
| strPur2.genscan.LENGTH | 0.108 | 0.000 | 0.108 |  | 
| strPur2.refGene.LENGTH | 0.004 | 0.000 | 0.004 |  | 
| strPur2.xenoRefGene.LENGTH | 0.643 | 0.003 | 0.647 |  | 
| supportedGeneIDs | 3.628 | 0.559 | 7.544 |  | 
| supportedGenomes | 0.275 | 0.048 | 1.435 |  | 
| taeGut1.ensGene.LENGTH | 0.057 | 0.004 | 0.062 |  | 
| taeGut1.geneSymbol.LENGTH | 0.003 | 0.000 | 0.003 |  | 
| taeGut1.genscan.LENGTH | 0.031 | 0.000 | 0.031 |  | 
| taeGut1.nscanGene.LENGTH | 0.024 | 0.000 | 0.024 |  | 
| taeGut1.refGene.LENGTH | 0.002 | 0.000 | 0.003 |  | 
| taeGut1.xenoRefGene.LENGTH | 0.379 | 0.004 | 0.383 |  | 
| tetNig1.ensGene.LENGTH | 0.08 | 0.00 | 0.08 |  | 
| tetNig1.geneid.LENGTH | 0.057 | 0.004 | 0.062 |  | 
| tetNig1.genscan.LENGTH | 0.048 | 0.000 | 0.048 |  | 
| tetNig1.nscanGene.LENGTH | 0.065 | 0.000 | 0.065 |  | 
| tetNig2.ensGene.LENGTH | 0.070 | 0.000 | 0.071 |  | 
| unfactor | 0.003 | 0.004 | 0.007 |  | 
| xenTro1.genscan.LENGTH | 0.080 | 0.000 | 0.081 |  | 
| xenTro2.ensGene.LENGTH | 0.079 | 0.004 | 0.083 |  | 
| xenTro2.geneSymbol.LENGTH | 0.027 | 0.004 | 0.030 |  | 
| xenTro2.genscan.LENGTH | 0.070 | 0.000 | 0.069 |  | 
| xenTro2.refGene.LENGTH | 0.028 | 0.000 | 0.029 |  |