| Back to Build/check report for BioC 3.19 experimental data |
|
This page was generated on 2024-10-17 14:51 -0400 (Thu, 17 Oct 2024).
| Hostname | OS | Arch (*) | R version | Installed pkgs |
|---|---|---|---|---|
| nebbiolo1 | Linux (Ubuntu 22.04.3 LTS) | x86_64 | 4.4.1 (2024-06-14) -- "Race for Your Life" | 4763 |
| Click on any hostname to see more info about the system (e.g. compilers) (*) as reported by 'uname -p', except on Windows and Mac OS X | ||||
| Package 28/430 | Hostname | OS / Arch | INSTALL | BUILD | CHECK | ||||||||
| biotmleData 1.28.0 (landing page) Nima Hejazi
| nebbiolo1 | Linux (Ubuntu 22.04.3 LTS) / x86_64 | OK | OK | WARNINGS | ||||||||
|
To the developers/maintainers of the biotmleData package: - Use the following Renviron settings to reproduce errors and warnings. - If 'R CMD check' started to fail recently on the Linux builder(s) over a missing dependency, add the missing dependency to 'Suggests:' in your DESCRIPTION file. See Renviron.bioc for more information. |
| Package: biotmleData |
| Version: 1.28.0 |
| Command: /home/biocbuild/bbs-3.19-bioc/R/bin/R CMD build --keep-empty-dirs --no-resave-data biotmleData |
| StartedAt: 2024-10-17 10:13:15 -0400 (Thu, 17 Oct 2024) |
| EndedAt: 2024-10-17 10:13:18 -0400 (Thu, 17 Oct 2024) |
| EllapsedTime: 3.0 seconds |
| RetCode: 0 |
| Status: OK |
| PackageFile: biotmleData_1.28.0.tar.gz |
| PackageFileSize: 30.67 MiB |
##############################################################################
##############################################################################
###
### Running command:
###
### /home/biocbuild/bbs-3.19-bioc/R/bin/R CMD build --keep-empty-dirs --no-resave-data biotmleData
###
##############################################################################
##############################################################################
* checking for file ‘biotmleData/DESCRIPTION’ ... OK
* preparing ‘biotmleData’:
* checking DESCRIPTION meta-information ... OK
* checking for LF line-endings in source and make files and shell scripts
* checking for empty or unneeded directories
NB: this package now depends on R (>= 3.5.0)
WARNING: Added dependency on R >= 3.5.0 because serialized objects in
serialize/load version 3 cannot be read in older versions of R.
File(s) containing such objects:
‘biotmleData/data/illuminaData.rda’
‘biotmleData/data/rnaseqtmleOut.rda’
* building ‘biotmleData_1.28.0.tar.gz’