| Back to Build/check report for BioC 3.19 experimental data |
|
This page was generated on 2024-10-17 14:51 -0400 (Thu, 17 Oct 2024).
| Hostname | OS | Arch (*) | R version | Installed pkgs |
|---|---|---|---|---|
| nebbiolo1 | Linux (Ubuntu 22.04.3 LTS) | x86_64 | 4.4.1 (2024-06-14) -- "Race for Your Life" | 4763 |
| Click on any hostname to see more info about the system (e.g. compilers) (*) as reported by 'uname -p', except on Windows and Mac OS X | ||||
| Package 368/430 | Hostname | OS / Arch | INSTALL | BUILD | CHECK | ||||||||
| SingleCellMultiModal 1.16.0 (landing page) Marcel Ramos
| nebbiolo1 | Linux (Ubuntu 22.04.3 LTS) / x86_64 | OK | OK | OK | ||||||||
|
To the developers/maintainers of the SingleCellMultiModal package: - Use the following Renviron settings to reproduce errors and warnings. - If 'R CMD check' started to fail recently on the Linux builder(s) over a missing dependency, add the missing dependency to 'Suggests:' in your DESCRIPTION file. See Renviron.bioc for more information. |
| Package: SingleCellMultiModal |
| Version: 1.16.0 |
| Command: /home/biocbuild/bbs-3.19-bioc/R/bin/R CMD check --install=check:SingleCellMultiModal.install-out.txt --library=/home/biocbuild/bbs-3.19-bioc/R/site-library --timings SingleCellMultiModal_1.16.0.tar.gz |
| StartedAt: 2024-10-17 12:06:46 -0400 (Thu, 17 Oct 2024) |
| EndedAt: 2024-10-17 12:19:28 -0400 (Thu, 17 Oct 2024) |
| EllapsedTime: 761.8 seconds |
| RetCode: 0 |
| Status: OK |
| CheckDir: SingleCellMultiModal.Rcheck |
| Warnings: 0 |
##############################################################################
##############################################################################
###
### Running command:
###
### /home/biocbuild/bbs-3.19-bioc/R/bin/R CMD check --install=check:SingleCellMultiModal.install-out.txt --library=/home/biocbuild/bbs-3.19-bioc/R/site-library --timings SingleCellMultiModal_1.16.0.tar.gz
###
##############################################################################
##############################################################################
* using log directory ‘/home/biocbuild/bbs-3.19-data-experiment/meat/SingleCellMultiModal.Rcheck’
* using R version 4.4.1 (2024-06-14)
* using platform: x86_64-pc-linux-gnu
* R was compiled by
gcc (Ubuntu 11.4.0-1ubuntu1~22.04) 11.4.0
GNU Fortran (Ubuntu 11.4.0-1ubuntu1~22.04) 11.4.0
* running under: Ubuntu 22.04.5 LTS
* using session charset: UTF-8
* checking for file ‘SingleCellMultiModal/DESCRIPTION’ ... OK
* checking extension type ... Package
* this is package ‘SingleCellMultiModal’ version ‘1.16.0’
* package encoding: UTF-8
* checking package namespace information ... OK
* checking package dependencies ... OK
* checking if this is a source package ... OK
* checking if there is a namespace ... OK
* checking for hidden files and directories ... OK
* checking for portable file names ... OK
* checking for sufficient/correct file permissions ... OK
* checking whether package ‘SingleCellMultiModal’ can be installed ... OK
* checking installed package size ... OK
* checking package directory ... OK
* checking ‘build’ directory ... OK
* checking DESCRIPTION meta-information ... OK
* checking top-level files ... OK
* checking for left-over files ... OK
* checking index information ... OK
* checking package subdirectories ... OK
* checking code files for non-ASCII characters ... OK
* checking R files for syntax errors ... OK
* checking whether the package can be loaded ... OK
* checking whether the package can be loaded with stated dependencies ... OK
* checking whether the package can be unloaded cleanly ... OK
* checking whether the namespace can be loaded with stated dependencies ... OK
* checking whether the namespace can be unloaded cleanly ... OK
* checking loading without being on the library search path ... OK
* checking dependencies in R code ... OK
* checking S3 generic/method consistency ... OK
* checking replacement functions ... OK
* checking foreign function calls ... OK
* checking R code for possible problems ... NOTE
.CITEseqMaeToSce: no visible global function definition for ‘altExps<-’
.CITEseqMaeToSce: no visible global function definition for ‘altExp’
.CITEseqMaeToSce: no visible global function definition for ‘assays<-’
.CITEseqMaeToSce: no visible global function definition for ‘altExp<-’
.CITEseqMaeToSce: no visible global function definition for
‘SimpleList’
Undefined global functions or variables:
SimpleList altExp altExp<- altExps<- assays<-
* checking Rd files ... NOTE
checkRd: (-1) scNMT.Rd:69: Lost braces
69 | \item{met_}} - DNA methylation
| ^
checkRd: (-1) scNMT.Rd:82: Lost braces
82 | url{https://github.com/BIRSBiointegration/Hackathon/tree/master/scNMT-seq}
| ^
* checking Rd metadata ... OK
* checking Rd cross-references ... OK
* checking for missing documentation entries ... OK
* checking for code/documentation mismatches ... OK
* checking Rd \usage sections ... OK
* checking Rd contents ... OK
* checking for unstated dependencies in examples ... OK
* checking files in ‘vignettes’ ... OK
* checking examples ... OK
Examples with CPU (user + system) or elapsed time > 5s
user system elapsed
CITEseq 12.168 2.000 14.858
SingleCellMultiModal 3.916 0.540 5.352
scNMT 3.890 0.565 5.116
* checking for unstated dependencies in vignettes ... OK
* checking package vignettes ... OK
* checking re-building of vignette outputs ... OK
* checking PDF version of manual ... OK
* DONE
Status: 2 NOTEs
See
‘/home/biocbuild/bbs-3.19-data-experiment/meat/SingleCellMultiModal.Rcheck/00check.log’
for details.
SingleCellMultiModal.Rcheck/00install.out
############################################################################## ############################################################################## ### ### Running command: ### ### /home/biocbuild/bbs-3.19-bioc/R/bin/R CMD INSTALL SingleCellMultiModal ### ############################################################################## ############################################################################## * installing to library ‘/home/biocbuild/bbs-3.19-bioc/R/site-library’ * installing *source* package ‘SingleCellMultiModal’ ... ** using staged installation ** R ** inst ** byte-compile and prepare package for lazy loading ** help *** installing help indices ** building package indices ** installing vignettes ** testing if installed package can be loaded from temporary location ** testing if installed package can be loaded from final location ** testing if installed package keeps a record of temporary installation path * DONE (SingleCellMultiModal)
SingleCellMultiModal.Rcheck/SingleCellMultiModal-Ex.timings
| name | user | system | elapsed | |
| CITEseq | 12.168 | 2.000 | 14.858 | |
| GTseq | 0.840 | 0.109 | 1.206 | |
| SCoPE2 | 1.063 | 0.140 | 1.506 | |
| SingleCellMultiModal-package | 0.004 | 0.007 | 0.011 | |
| SingleCellMultiModal | 3.916 | 0.540 | 5.352 | |
| ontomap | 0.003 | 0.000 | 0.004 | |
| scMultiome | 1.262 | 0.165 | 1.756 | |
| scNMT | 3.890 | 0.565 | 5.116 | |
| scmmCache | 0.000 | 0.002 | 0.001 | |
| seqFISH | 1.564 | 0.176 | 2.110 | |