| Back to Build/check report for BioC 3.19 experimental data | 
 | 
This page was generated on 2024-10-17 14:51 -0400 (Thu, 17 Oct 2024).
| Hostname | OS | Arch (*) | R version | Installed pkgs | 
|---|---|---|---|---|
| nebbiolo1 | Linux (Ubuntu 22.04.3 LTS) | x86_64 | 4.4.1 (2024-06-14) -- "Race for Your Life" | 4763 | 
| Click on any hostname to see more info about the system (e.g. compilers) (*) as reported by 'uname -p', except on Windows and Mac OS X | ||||
| Package 52/430 | Hostname | OS / Arch | INSTALL | BUILD | CHECK | ||||||||
| ChAMPdata 2.36.0  (landing page) Yuan Tian 
 | nebbiolo1 | Linux (Ubuntu 22.04.3 LTS) / x86_64 | OK | OK | WARNINGS |  | |||||||
| To the developers/maintainers of the ChAMPdata package: - Use the following Renviron settings to reproduce errors and warnings. - If 'R CMD check' started to fail recently on the Linux builder(s) over a missing dependency, add the missing dependency to 'Suggests:' in your DESCRIPTION file. See Renviron.bioc for more information. | 
| Package: ChAMPdata | 
| Version: 2.36.0 | 
| Command: /home/biocbuild/bbs-3.19-bioc/R/bin/R CMD build --keep-empty-dirs --no-resave-data ChAMPdata | 
| StartedAt: 2024-10-17 10:15:20 -0400 (Thu, 17 Oct 2024) | 
| EndedAt: 2024-10-17 10:16:19 -0400 (Thu, 17 Oct 2024) | 
| EllapsedTime: 58.2 seconds | 
| RetCode: 0 | 
| Status: OK | 
| PackageFile: ChAMPdata_2.36.0.tar.gz | 
| PackageFileSize: 667.1 MiB | 
##############################################################################
##############################################################################
###
### Running command:
###
###   /home/biocbuild/bbs-3.19-bioc/R/bin/R CMD build --keep-empty-dirs --no-resave-data ChAMPdata
###
##############################################################################
##############################################################################
* checking for file ‘ChAMPdata/DESCRIPTION’ ... OK
* preparing ‘ChAMPdata’:
* checking DESCRIPTION meta-information ... OK
* checking for LF line-endings in source and make files and shell scripts
* checking for empty or unneeded directories
* looking to see if a ‘data/datalist’ file should be added
  NB: this package now depends on R (>= 3.5.0)
  WARNING: Added dependency on R >= 3.5.0 because serialized objects in
  serialize/load version 3 cannot be read in older versions of R.
  File(s) containing such objects:
    ‘ChAMPdata/data/illumina450Gr.rda’
    ‘ChAMPdata/data/illuminaEPICGr.rda’
* building ‘ChAMPdata_2.36.0.tar.gz’