| Back to Build/check report for BioC 3.19 experimental data | 
 | 
This page was generated on 2024-10-17 14:51 -0400 (Thu, 17 Oct 2024).
| Hostname | OS | Arch (*) | R version | Installed pkgs | 
|---|---|---|---|---|
| nebbiolo1 | Linux (Ubuntu 22.04.3 LTS) | x86_64 | 4.4.1 (2024-06-14) -- "Race for Your Life" | 4763 | 
| Click on any hostname to see more info about the system (e.g. compilers) (*) as reported by 'uname -p', except on Windows and Mac OS X | ||||
| Package 32/430 | Hostname | OS / Arch | INSTALL | BUILD | CHECK | ||||||||
| BloodCancerMultiOmics2017 1.24.0  (landing page) Malgorzata Oles 
 | nebbiolo1 | Linux (Ubuntu 22.04.3 LTS) / x86_64 | OK | OK | WARNINGS |  | |||||||
| To the developers/maintainers of the BloodCancerMultiOmics2017 package: - Use the following Renviron settings to reproduce errors and warnings. - If 'R CMD check' started to fail recently on the Linux builder(s) over a missing dependency, add the missing dependency to 'Suggests:' in your DESCRIPTION file. See Renviron.bioc for more information. | 
| Package: BloodCancerMultiOmics2017 | 
| Version: 1.24.0 | 
| Command: /home/biocbuild/bbs-3.19-bioc/R/bin/R CMD build --keep-empty-dirs --no-resave-data BloodCancerMultiOmics2017 | 
| StartedAt: 2024-10-17 10:13:38 -0400 (Thu, 17 Oct 2024) | 
| EndedAt: 2024-10-17 10:42:15 -0400 (Thu, 17 Oct 2024) | 
| EllapsedTime: 1717.0 seconds | 
| RetCode: 0 | 
| Status: OK | 
| PackageFile: BloodCancerMultiOmics2017_1.24.0.tar.gz | 
| PackageFileSize: 50.97 MiB | 
############################################################################## ############################################################################## ### ### Running command: ### ### /home/biocbuild/bbs-3.19-bioc/R/bin/R CMD build --keep-empty-dirs --no-resave-data BloodCancerMultiOmics2017 ### ############################################################################## ############################################################################## * checking for file ‘BloodCancerMultiOmics2017/DESCRIPTION’ ... OK * preparing ‘BloodCancerMultiOmics2017’: * checking DESCRIPTION meta-information ... OK * installing the package to build vignettes * creating vignettes ... OK * checking for LF line-endings in source and make files and shell scripts * checking for empty or unneeded directories * building ‘BloodCancerMultiOmics2017_1.24.0.tar.gz’