| Back to Build/check report for BioC 3.19 experimental data | 
 | 
This page was generated on 2024-10-17 14:51 -0400 (Thu, 17 Oct 2024).
| Hostname | OS | Arch (*) | R version | Installed pkgs | 
|---|---|---|---|---|
| nebbiolo1 | Linux (Ubuntu 22.04.3 LTS) | x86_64 | 4.4.1 (2024-06-14) -- "Race for Your Life" | 4763 | 
| Click on any hostname to see more info about the system (e.g. compilers) (*) as reported by 'uname -p', except on Windows and Mac OS X | ||||
| Package 27/430 | Hostname | OS / Arch | INSTALL | BUILD | CHECK | ||||||||
| BioPlex 1.10.0  (landing page) Ludwig Geistlinger 
 | nebbiolo1 | Linux (Ubuntu 22.04.3 LTS) / x86_64 | OK | OK | OK |  | |||||||
| To the developers/maintainers of the BioPlex package: - Use the following Renviron settings to reproduce errors and warnings. - If 'R CMD check' started to fail recently on the Linux builder(s) over a missing dependency, add the missing dependency to 'Suggests:' in your DESCRIPTION file. See Renviron.bioc for more information. | 
| Package: BioPlex | 
| Version: 1.10.0 | 
| Command: /home/biocbuild/bbs-3.19-bioc/R/bin/R CMD check --install=check:BioPlex.install-out.txt --library=/home/biocbuild/bbs-3.19-bioc/R/site-library --timings BioPlex_1.10.0.tar.gz | 
| StartedAt: 2024-10-17 11:02:40 -0400 (Thu, 17 Oct 2024) | 
| EndedAt: 2024-10-17 11:09:01 -0400 (Thu, 17 Oct 2024) | 
| EllapsedTime: 380.7 seconds | 
| RetCode: 0 | 
| Status: OK | 
| CheckDir: BioPlex.Rcheck | 
| Warnings: 0 | 
##############################################################################
##############################################################################
###
### Running command:
###
###   /home/biocbuild/bbs-3.19-bioc/R/bin/R CMD check --install=check:BioPlex.install-out.txt --library=/home/biocbuild/bbs-3.19-bioc/R/site-library --timings BioPlex_1.10.0.tar.gz
###
##############################################################################
##############################################################################
* using log directory ‘/home/biocbuild/bbs-3.19-data-experiment/meat/BioPlex.Rcheck’
* using R version 4.4.1 (2024-06-14)
* using platform: x86_64-pc-linux-gnu
* R was compiled by
    gcc (Ubuntu 11.4.0-1ubuntu1~22.04) 11.4.0
    GNU Fortran (Ubuntu 11.4.0-1ubuntu1~22.04) 11.4.0
* running under: Ubuntu 22.04.5 LTS
* using session charset: UTF-8
* checking for file ‘BioPlex/DESCRIPTION’ ... OK
* this is package ‘BioPlex’ version ‘1.10.0’
* package encoding: UTF-8
* checking package namespace information ... OK
* checking package dependencies ... OK
* checking if this is a source package ... OK
* checking if there is a namespace ... OK
* checking for hidden files and directories ... OK
* checking for portable file names ... OK
* checking for sufficient/correct file permissions ... OK
* checking whether package ‘BioPlex’ can be installed ... OK
* checking installed package size ... OK
* checking package directory ... OK
* checking ‘build’ directory ... OK
* checking DESCRIPTION meta-information ... OK
* checking top-level files ... OK
* checking for left-over files ... OK
* checking index information ... OK
* checking package subdirectories ... OK
* checking code files for non-ASCII characters ... OK
* checking R files for syntax errors ... OK
* checking whether the package can be loaded ... OK
* checking whether the package can be loaded with stated dependencies ... OK
* checking whether the package can be unloaded cleanly ... OK
* checking whether the namespace can be loaded with stated dependencies ... OK
* checking whether the namespace can be unloaded cleanly ... OK
* checking loading without being on the library search path ... OK
* checking dependencies in R code ... OK
* checking S3 generic/method consistency ... OK
* checking replacement functions ... OK
* checking foreign function calls ... OK
* checking R code for possible problems ... NOTE
getCorum: no visible binding for global variable ‘Organism’
Undefined global functions or variables:
  Organism
* checking Rd files ... OK
* checking Rd metadata ... OK
* checking Rd cross-references ... OK
* checking for missing documentation entries ... OK
* checking for code/documentation mismatches ... OK
* checking Rd \usage sections ... OK
* checking Rd contents ... OK
* checking for unstated dependencies in examples ... OK
* checking files in ‘vignettes’ ... OK
* checking examples ... OK
Examples with CPU (user + system) or elapsed time > 5s
                                    user system elapsed
ccleProteome2SummarizedExperiment 35.167  1.780  37.263
annotatePFAM                      14.126  1.072  17.745
bioplex2graph                      7.068  0.559   8.001
mapSummarizedExperimentOntoGraph   6.363  0.488   6.980
hasSubunit                         6.027  0.712   7.221
corum2graphlist                    5.796  0.508   6.593
* checking for unstated dependencies in vignettes ... OK
* checking package vignettes ... OK
* checking re-building of vignette outputs ... OK
* checking PDF version of manual ... OK
* DONE
Status: 1 NOTE
See
  ‘/home/biocbuild/bbs-3.19-data-experiment/meat/BioPlex.Rcheck/00check.log’
for details.
BioPlex.Rcheck/00install.out
############################################################################## ############################################################################## ### ### Running command: ### ### /home/biocbuild/bbs-3.19-bioc/R/bin/R CMD INSTALL BioPlex ### ############################################################################## ############################################################################## * installing to library ‘/home/biocbuild/bbs-3.19-bioc/R/site-library’ * installing *source* package ‘BioPlex’ ... ** using staged installation ** R ** inst ** byte-compile and prepare package for lazy loading ** help *** installing help indices ** building package indices ** installing vignettes ** testing if installed package can be loaded from temporary location ** testing if installed package can be loaded from final location ** testing if installed package keeps a record of temporary installation path * DONE (BioPlex)
BioPlex.Rcheck/BioPlex-Ex.timings
| name | user | system | elapsed | |
| annotatePFAM | 14.126 | 1.072 | 17.745 | |
| bioplex2graph | 7.068 | 0.559 | 8.001 | |
| ccleProteome2SummarizedExperiment | 35.167 | 1.780 | 37.263 | |
| corum2graphlist | 5.796 | 0.508 | 6.593 | |
| corum2list | 1.518 | 0.155 | 2.184 | |
| getBioPlex | 1.327 | 0.132 | 2.500 | |
| getBioplexProteome | 0.213 | 0.015 | 0.495 | |
| getCorum | 1.740 | 0.160 | 2.162 | |
| getGSE122425 | 0.373 | 0.016 | 0.390 | |
| getHEK293GenomeTrack | 0.260 | 0.024 | 0.469 | |
| hasSubunit | 6.027 | 0.712 | 7.221 | |
| mapSummarizedExperimentOntoGraph | 6.363 | 0.488 | 6.980 | |