Back to Multiple platform build/check report for BioC 3.19: simplified long |
|
This page was generated on 2024-06-28 17:42 -0400 (Fri, 28 Jun 2024).
Hostname | OS | Arch (*) | R version | Installed pkgs |
---|---|---|---|---|
nebbiolo1 | Linux (Ubuntu 22.04.3 LTS) | x86_64 | 4.4.0 (2024-04-24) -- "Puppy Cup" | 4760 |
palomino3 | Windows Server 2022 Datacenter | x64 | 4.4.0 (2024-04-24 ucrt) -- "Puppy Cup" | 4494 |
merida1 | macOS 12.7.4 Monterey | x86_64 | 4.4.0 (2024-04-24) -- "Puppy Cup" | 4508 |
kjohnson1 | macOS 13.6.6 Ventura | arm64 | 4.4.0 (2024-04-24) -- "Puppy Cup" | 4466 |
palomino7 | Windows Server 2022 Datacenter | x64 | 4.4.1 (2024-06-14 ucrt) -- "Race for Your Life" | 4362 |
Click on any hostname to see more info about the system (e.g. compilers) (*) as reported by 'uname -p', except on Windows and Mac OS X |
Package 2211/2300 | Hostname | OS / Arch | INSTALL | BUILD | CHECK | BUILD BIN | ||||||||
trio 3.42.0 (landing page) Holger Schwender
| nebbiolo1 | Linux (Ubuntu 22.04.3 LTS) / x86_64 | OK | OK | OK | ![]() | ||||||||
palomino3 | Windows Server 2022 Datacenter / x64 | OK | OK | OK | OK | ![]() | ||||||||
merida1 | macOS 12.7.4 Monterey / x86_64 | OK | OK | OK | OK | ![]() | ||||||||
kjohnson1 | macOS 13.6.6 Ventura / arm64 | OK | OK | OK | NA | |||||||||
palomino7 | Windows Server 2022 Datacenter / x64 | OK | OK | OK | OK | |||||||||
To the developers/maintainers of the trio package: - Allow up to 24 hours (and sometimes 48 hours) for your latest push to git@git.bioconductor.org:packages/trio.git to reflect on this report. See Troubleshooting Build Report for more information. - Use the following Renviron settings to reproduce errors and warnings. - If 'R CMD check' started to fail recently on the Linux builder(s) over a missing dependency, add the missing dependency to 'Suggests:' in your DESCRIPTION file. See Renviron.bioc for more information. |
Package: trio |
Version: 3.42.0 |
Command: F:\biocbuild\bbs-3.19-bioc\R\bin\R.exe CMD check --no-multiarch --install=check:trio.install-out.txt --library=F:\biocbuild\bbs-3.19-bioc\R\library --no-vignettes --timings trio_3.42.0.tar.gz |
StartedAt: 2024-06-27 07:09:20 -0400 (Thu, 27 Jun 2024) |
EndedAt: 2024-06-27 07:12:25 -0400 (Thu, 27 Jun 2024) |
EllapsedTime: 184.2 seconds |
RetCode: 0 |
Status: OK |
CheckDir: trio.Rcheck |
Warnings: 0 |
############################################################################## ############################################################################## ### ### Running command: ### ### F:\biocbuild\bbs-3.19-bioc\R\bin\R.exe CMD check --no-multiarch --install=check:trio.install-out.txt --library=F:\biocbuild\bbs-3.19-bioc\R\library --no-vignettes --timings trio_3.42.0.tar.gz ### ############################################################################## ############################################################################## * using log directory 'F:/biocbuild/bbs-3.19-bioc/meat/trio.Rcheck' * using R version 4.4.0 (2024-04-24 ucrt) * using platform: x86_64-w64-mingw32 * R was compiled by gcc.exe (GCC) 13.2.0 GNU Fortran (GCC) 13.2.0 * running under: Windows Server 2022 x64 (build 20348) * using session charset: UTF-8 * using option '--no-vignettes' * checking for file 'trio/DESCRIPTION' ... OK * checking extension type ... Package * this is package 'trio' version '3.42.0' * checking package namespace information ... OK * checking package dependencies ... OK * checking if this is a source package ... OK * checking if there is a namespace ... OK * checking for hidden files and directories ... OK * checking for portable file names ... OK * checking whether package 'trio' can be installed ... OK * checking installed package size ... OK * checking package directory ... OK * checking 'build' directory ... OK * checking DESCRIPTION meta-information ... OK * checking top-level files ... OK * checking for left-over files ... OK * checking index information ... OK * checking package subdirectories ... OK * checking code files for non-ASCII characters ... OK * checking R files for syntax errors ... OK * checking whether the package can be loaded ... OK * checking whether the package can be loaded with stated dependencies ... OK * checking whether the package can be unloaded cleanly ... OK * checking whether the namespace can be loaded with stated dependencies ... OK * checking whether the namespace can be unloaded cleanly ... OK * checking whether startup messages can be suppressed ... OK * checking dependencies in R code ... OK * checking S3 generic/method consistency ... OK * checking replacement functions ... OK * checking foreign function calls ... NOTE Foreign function call to a different package: .C("clogreg", ..., PACKAGE = "LogicReg") See chapter 'System and foreign language interfaces' in the 'Writing R Extensions' manual. * checking R code for possible problems ... NOTE .onAttach: no visible global function definition for 'winMenuAdd' .onAttach: no visible global function definition for 'winMenuAddItem' Undefined global functions or variables: winMenuAdd winMenuAddItem Consider adding importFrom("utils", "winMenuAdd", "winMenuAddItem") to your NAMESPACE file. * checking Rd files ... OK * checking Rd metadata ... OK * checking Rd cross-references ... OK * checking for missing documentation entries ... OK * checking for code/documentation mismatches ... OK * checking Rd \usage sections ... OK * checking Rd contents ... OK * checking for unstated dependencies in examples ... OK * checking contents of 'data' directory ... OK * checking data for non-ASCII characters ... OK * checking data for ASCII and uncompressed saves ... OK * checking sizes of PDF files under 'inst/doc' ... OK * checking installed files from 'inst/doc' ... OK * checking files in 'vignettes' ... OK * checking examples ... OK Examples with CPU (user + system) or elapsed time > 5s user system elapsed print.trioFS 8.09 0.14 8.30 trioFS 7.12 0.16 7.28 trio.permTest 6.97 0.15 7.13 colGxGPerms 5.59 0.39 6.00 plot.trioLR 4.53 0.21 7.91 * checking for unstated dependencies in vignettes ... OK * checking package vignettes ... OK * checking running R code from vignettes ... SKIPPED * checking re-building of vignette outputs ... SKIPPED * checking PDF version of manual ... OK * DONE Status: 2 NOTEs See 'F:/biocbuild/bbs-3.19-bioc/meat/trio.Rcheck/00check.log' for details.
trio.Rcheck/00install.out
############################################################################## ############################################################################## ### ### Running command: ### ### F:\biocbuild\bbs-3.19-bioc\R\bin\R.exe CMD INSTALL trio ### ############################################################################## ############################################################################## * installing to library 'F:/biocbuild/bbs-3.19-bioc/R/library' * installing *source* package 'trio' ... ** using staged installation ** R ** data ** inst ** byte-compile and prepare package for lazy loading ** help *** installing help indices ** building package indices ** installing vignettes ** testing if installed package can be loaded from temporary location ** testing if installed package can be loaded from final location ** testing if installed package keeps a record of temporary installation path * DONE (trio)
trio.Rcheck/trio-Ex.timings
name | user | system | elapsed | |
allelicTDT | 0.05 | 0.00 | 0.05 | |
colEMlrt | 0.09 | 0.02 | 0.11 | |
colGxE | 0 | 0 | 0 | |
colGxGPerms | 5.59 | 0.39 | 6.00 | |
colPOlrt | 0.02 | 0.00 | 0.05 | |
colTDTmaxTest | 0.06 | 0.00 | 0.06 | |
colTDTsam | 0.03 | 0.00 | 0.20 | |
findLDblocks | 0.00 | 0.03 | 0.03 | |
getLD | 0.03 | 0.01 | 0.05 | |
getMatPseudo | 0 | 0 | 0 | |
lrControl | 0 | 0 | 0 | |
ped2geno | 0 | 0 | 0 | |
plot.LDblocks | 0.03 | 0.02 | 0.05 | |
plot.getLD | 0.04 | 0.00 | 0.03 | |
plot.trioLR | 4.53 | 0.21 | 7.91 | |
poly4root | 0 | 0 | 0 | |
print.colGxE | 0.08 | 0.00 | 0.08 | |
print.trioFS | 8.09 | 0.14 | 8.30 | |
print.trioLR | 3.20 | 0.08 | 3.28 | |
probTDT | 0.06 | 0.03 | 0.09 | |
read.pedfile | 0 | 0 | 0 | |
removeSNPs | 0.02 | 0.00 | 0.02 | |
scoreTDT | 0.03 | 0.00 | 0.03 | |
tdt | 0.02 | 0.00 | 0.01 | |
tdtGxG | 1.42 | 0.12 | 1.55 | |
trio.check | 0.68 | 0.02 | 0.68 | |
trio.data | 0 | 0 | 0 | |
trio.permTest | 6.97 | 0.15 | 7.13 | |
trio.power | 0.01 | 0.00 | 0.02 | |
trio.prepare | 2.86 | 0.11 | 2.97 | |
trio.sim | 0.38 | 0.00 | 0.38 | |
trioFS | 7.12 | 0.16 | 7.28 | |
trioLR | 2.52 | 0.03 | 2.54 | |