| Back to Multiple platform build/check report for BioC 3.19: simplified long |
|
This page was generated on 2024-10-18 20:41 -0400 (Fri, 18 Oct 2024).
| Hostname | OS | Arch (*) | R version | Installed pkgs |
|---|---|---|---|---|
| nebbiolo1 | Linux (Ubuntu 22.04.3 LTS) | x86_64 | 4.4.1 (2024-06-14) -- "Race for Your Life" | 4763 |
| palomino7 | Windows Server 2022 Datacenter | x64 | 4.4.1 (2024-06-14 ucrt) -- "Race for Your Life" | 4500 |
| merida1 | macOS 12.7.5 Monterey | x86_64 | 4.4.1 (2024-06-14) -- "Race for Your Life" | 4530 |
| kjohnson1 | macOS 13.6.6 Ventura | arm64 | 4.4.1 (2024-06-14) -- "Race for Your Life" | 4480 |
| Click on any hostname to see more info about the system (e.g. compilers) (*) as reported by 'uname -p', except on Windows and Mac OS X | ||||
| Package 2159/2300 | Hostname | OS / Arch | INSTALL | BUILD | CHECK | BUILD BIN | ||||||||
| tidySummarizedExperiment 1.14.0 (landing page) Stefano Mangiola
| nebbiolo1 | Linux (Ubuntu 22.04.3 LTS) / x86_64 | OK | OK | OK | |||||||||
| palomino7 | Windows Server 2022 Datacenter / x64 | OK | OK | OK | OK | |||||||||
| merida1 | macOS 12.7.5 Monterey / x86_64 | OK | OK | OK | OK | |||||||||
| kjohnson1 | macOS 13.6.6 Ventura / arm64 | OK | OK | OK | NA | |||||||||
|
To the developers/maintainers of the tidySummarizedExperiment package: - Allow up to 24 hours (and sometimes 48 hours) for your latest push to git@git.bioconductor.org:packages/tidySummarizedExperiment.git to reflect on this report. See Troubleshooting Build Report for more information. - Use the following Renviron settings to reproduce errors and warnings. - If 'R CMD check' started to fail recently on the Linux builder(s) over a missing dependency, add the missing dependency to 'Suggests:' in your DESCRIPTION file. See Renviron.bioc for more information. |
| Package: tidySummarizedExperiment |
| Version: 1.14.0 |
| Command: /Library/Frameworks/R.framework/Resources/bin/R CMD check --install=check:tidySummarizedExperiment.install-out.txt --library=/Library/Frameworks/R.framework/Resources/library --no-vignettes --timings tidySummarizedExperiment_1.14.0.tar.gz |
| StartedAt: 2024-10-17 14:21:51 -0400 (Thu, 17 Oct 2024) |
| EndedAt: 2024-10-17 14:32:24 -0400 (Thu, 17 Oct 2024) |
| EllapsedTime: 633.0 seconds |
| RetCode: 0 |
| Status: OK |
| CheckDir: tidySummarizedExperiment.Rcheck |
| Warnings: 0 |
##############################################################################
##############################################################################
###
### Running command:
###
### /Library/Frameworks/R.framework/Resources/bin/R CMD check --install=check:tidySummarizedExperiment.install-out.txt --library=/Library/Frameworks/R.framework/Resources/library --no-vignettes --timings tidySummarizedExperiment_1.14.0.tar.gz
###
##############################################################################
##############################################################################
* using log directory ‘/Users/biocbuild/bbs-3.19-bioc/meat/tidySummarizedExperiment.Rcheck’
* using R version 4.4.1 (2024-06-14)
* using platform: x86_64-apple-darwin20
* R was compiled by
Apple clang version 14.0.0 (clang-1400.0.29.202)
GNU Fortran (GCC) 12.2.0
* running under: macOS Monterey 12.7.6
* using session charset: UTF-8
* using option ‘--no-vignettes’
* checking for file ‘tidySummarizedExperiment/DESCRIPTION’ ... OK
* checking extension type ... Package
* this is package ‘tidySummarizedExperiment’ version ‘1.14.0’
* package encoding: UTF-8
* checking package namespace information ... OK
* checking package dependencies ... OK
* checking if this is a source package ... OK
* checking if there is a namespace ... OK
* checking for hidden files and directories ... OK
* checking for portable file names ... OK
* checking for sufficient/correct file permissions ... OK
* checking whether package ‘tidySummarizedExperiment’ can be installed ... OK
* checking installed package size ... OK
* checking package directory ... OK
* checking ‘build’ directory ... OK
* checking DESCRIPTION meta-information ... OK
* checking top-level files ... OK
* checking for left-over files ... OK
* checking index information ... OK
* checking package subdirectories ... OK
* checking code files for non-ASCII characters ... OK
* checking R files for syntax errors ... OK
* checking whether the package can be loaded ... OK
* checking whether the package can be loaded with stated dependencies ... OK
* checking whether the package can be unloaded cleanly ... OK
* checking whether the namespace can be loaded with stated dependencies ... OK
* checking whether the namespace can be unloaded cleanly ... OK
* checking whether startup messages can be suppressed ... OK
* checking dependencies in R code ... OK
* checking S3 generic/method consistency ... OK
* checking replacement functions ... OK
* checking foreign function calls ... OK
* checking R code for possible problems ... NOTE
bind_cols_internal: no visible global function definition for ‘all_of’
nest.SummarizedExperiment: no visible global function definition for
‘all_of’
select.SummarizedExperiment: no visible global function definition for
‘any_of’
subset_tibble_output: no visible binding for global variable ‘.’
unnest_summarized_experiment: no visible global function definition for
‘any_of’
unnest_summarized_experiment: no visible binding for global variable
‘i___’
update_SE_from_tibble: no visible binding for global variable ‘value’
update_SE_from_tibble: no visible binding for global variable ‘data___’
update_SE_from_tibble: no visible binding for global variable ‘name’
Undefined global functions or variables:
. all_of any_of data___ i___ name value
* checking Rd files ... OK
* checking Rd metadata ... OK
* checking Rd cross-references ... OK
* checking for missing documentation entries ... OK
* checking for code/documentation mismatches ... OK
* checking Rd \usage sections ... OK
* checking Rd contents ... OK
* checking for unstated dependencies in examples ... OK
* checking contents of ‘data’ directory ... OK
* checking data for non-ASCII characters ... OK
* checking LazyData ... OK
* checking data for ASCII and uncompressed saves ... OK
* checking files in ‘vignettes’ ... OK
* checking examples ... OK
Examples with CPU (user + system) or elapsed time > 5s
user system elapsed
group_split 17.447 0.270 20.092
bind_rows 13.358 0.321 15.496
unnest 9.185 0.118 10.541
* checking for unstated dependencies in ‘tests’ ... OK
* checking tests ...
Running ‘testthat.R’
OK
* checking for unstated dependencies in vignettes ... OK
* checking package vignettes ... OK
* checking running R code from vignettes ... SKIPPED
* checking re-building of vignette outputs ... SKIPPED
* checking PDF version of manual ... OK
* DONE
Status: 1 NOTE
See
‘/Users/biocbuild/bbs-3.19-bioc/meat/tidySummarizedExperiment.Rcheck/00check.log’
for details.
tidySummarizedExperiment.Rcheck/00install.out
############################################################################## ############################################################################## ### ### Running command: ### ### /Library/Frameworks/R.framework/Resources/bin/R CMD INSTALL tidySummarizedExperiment ### ############################################################################## ############################################################################## * installing to library ‘/Library/Frameworks/R.framework/Versions/4.4-x86_64/Resources/library’ * installing *source* package ‘tidySummarizedExperiment’ ... ** using staged installation ** R ** data *** moving datasets to lazyload DB ** inst ** byte-compile and prepare package for lazy loading Note: wrong number of arguments to '>' ** help *** installing help indices *** copying figures ** building package indices ** installing vignettes ** testing if installed package can be loaded from temporary location ** testing if installed package can be loaded from final location ** testing if installed package keeps a record of temporary installation path * DONE (tidySummarizedExperiment)
tidySummarizedExperiment.Rcheck/tests/testthat.Rout
R version 4.4.1 (2024-06-14) -- "Race for Your Life"
Copyright (C) 2024 The R Foundation for Statistical Computing
Platform: x86_64-apple-darwin20
R is free software and comes with ABSOLUTELY NO WARRANTY.
You are welcome to redistribute it under certain conditions.
Type 'license()' or 'licence()' for distribution details.
R is a collaborative project with many contributors.
Type 'contributors()' for more information and
'citation()' on how to cite R or R packages in publications.
Type 'demo()' for some demos, 'help()' for on-line help, or
'help.start()' for an HTML browser interface to help.
Type 'q()' to quit R.
> library(testthat)
> library(tidySummarizedExperiment)
Loading required package: SummarizedExperiment
Loading required package: MatrixGenerics
Loading required package: matrixStats
Attaching package: 'MatrixGenerics'
The following objects are masked from 'package:matrixStats':
colAlls, colAnyNAs, colAnys, colAvgsPerRowSet, colCollapse,
colCounts, colCummaxs, colCummins, colCumprods, colCumsums,
colDiffs, colIQRDiffs, colIQRs, colLogSumExps, colMadDiffs,
colMads, colMaxs, colMeans2, colMedians, colMins, colOrderStats,
colProds, colQuantiles, colRanges, colRanks, colSdDiffs, colSds,
colSums2, colTabulates, colVarDiffs, colVars, colWeightedMads,
colWeightedMeans, colWeightedMedians, colWeightedSds,
colWeightedVars, rowAlls, rowAnyNAs, rowAnys, rowAvgsPerColSet,
rowCollapse, rowCounts, rowCummaxs, rowCummins, rowCumprods,
rowCumsums, rowDiffs, rowIQRDiffs, rowIQRs, rowLogSumExps,
rowMadDiffs, rowMads, rowMaxs, rowMeans2, rowMedians, rowMins,
rowOrderStats, rowProds, rowQuantiles, rowRanges, rowRanks,
rowSdDiffs, rowSds, rowSums2, rowTabulates, rowVarDiffs, rowVars,
rowWeightedMads, rowWeightedMeans, rowWeightedMedians,
rowWeightedSds, rowWeightedVars
Loading required package: GenomicRanges
Loading required package: stats4
Loading required package: BiocGenerics
Attaching package: 'BiocGenerics'
The following objects are masked from 'package:stats':
IQR, mad, sd, var, xtabs
The following objects are masked from 'package:base':
Filter, Find, Map, Position, Reduce, anyDuplicated, aperm, append,
as.data.frame, basename, cbind, colnames, dirname, do.call,
duplicated, eval, evalq, get, grep, grepl, intersect, is.unsorted,
lapply, mapply, match, mget, order, paste, pmax, pmax.int, pmin,
pmin.int, rank, rbind, rownames, sapply, setdiff, table, tapply,
union, unique, unsplit, which.max, which.min
Loading required package: S4Vectors
Attaching package: 'S4Vectors'
The following object is masked from 'package:utils':
findMatches
The following objects are masked from 'package:base':
I, expand.grid, unname
Loading required package: IRanges
Loading required package: GenomeInfoDb
Loading required package: Biobase
Welcome to Bioconductor
Vignettes contain introductory material; view with
'browseVignettes()'. To cite Bioconductor, see
'citation("Biobase")', and for packages 'citation("pkgname")'.
Attaching package: 'Biobase'
The following object is masked from 'package:MatrixGenerics':
rowMedians
The following objects are masked from 'package:matrixStats':
anyMissing, rowMedians
Loading required package: ttservice
>
> test_check("tidySummarizedExperiment")
[ FAIL 0 | WARN 13 | SKIP 4 | PASS 242 ]
══ Skipped tests (4) ═══════════════════════════════════════════════════════════
• empty test (4): 'test-felix.R:64:1', 'test-tidyr_methods.R:62:1',
'test-tidyr_methods.R:71:1', 'test-tidyr_methods.R:122:1'
[ FAIL 0 | WARN 13 | SKIP 4 | PASS 242 ]
>
> proc.time()
user system elapsed
120.833 3.116 146.251
tidySummarizedExperiment.Rcheck/tidySummarizedExperiment-Ex.timings
| name | user | system | elapsed | |
| as_tibble | 1.462 | 0.023 | 1.710 | |
| bind_rows | 13.358 | 0.321 | 15.496 | |
| count | 0.541 | 0.010 | 0.621 | |
| distinct | 0.365 | 0.009 | 0.418 | |
| extract | 0.679 | 0.008 | 0.771 | |
| filter | 1.217 | 0.020 | 1.384 | |
| formatting | 0.508 | 0.013 | 0.596 | |
| full_join | 0.585 | 0.010 | 0.681 | |
| ggplot | 2.019 | 0.093 | 2.395 | |
| group_by | 0.311 | 0.008 | 0.367 | |
| group_split | 17.447 | 0.270 | 20.092 | |
| inner_join | 0.876 | 0.014 | 1.036 | |
| left_join | 0.885 | 0.014 | 1.062 | |
| mutate | 1.453 | 0.031 | 1.726 | |
| nest | 1.453 | 0.017 | 1.719 | |
| pipe | 0.022 | 0.001 | 0.037 | |
| pivot_longer | 0.313 | 0.005 | 0.363 | |
| pivot_wider | 1.260 | 0.024 | 1.448 | |
| plot_ly | 1.475 | 0.159 | 1.839 | |
| pull | 1.084 | 1.828 | 3.522 | |
| rename | 0.664 | 0.010 | 0.852 | |
| right_join | 0.901 | 0.013 | 1.195 | |
| rowwise | 0 | 0 | 0 | |
| sample_n | 0.608 | 0.019 | 0.778 | |
| select | 0.741 | 0.015 | 0.907 | |
| separate | 1.442 | 0.011 | 1.604 | |
| slice | 1.451 | 0.020 | 1.597 | |
| summarise | 0.285 | 0.009 | 0.335 | |
| tbl_format_header | 0 | 0 | 0 | |
| tidy | 0.519 | 0.010 | 0.611 | |
| unite | 0.921 | 0.011 | 1.078 | |
| unnest | 9.185 | 0.118 | 10.541 | |