Back to Multiple platform build/check report for BioC 3.19: simplified long |
|
This page was generated on 2024-06-11 14:43 -0400 (Tue, 11 Jun 2024).
Hostname | OS | Arch (*) | R version | Installed pkgs |
---|---|---|---|---|
nebbiolo1 | Linux (Ubuntu 22.04.3 LTS) | x86_64 | 4.4.0 (2024-04-24) -- "Puppy Cup" | 4757 |
palomino3 | Windows Server 2022 Datacenter | x64 | 4.4.0 (2024-04-24 ucrt) -- "Puppy Cup" | 4491 |
lconway | macOS 12.7.1 Monterey | x86_64 | 4.4.0 (2024-04-24) -- "Puppy Cup" | 4522 |
kjohnson3 | macOS 13.6.5 Ventura | arm64 | 4.4.0 (2024-04-24) -- "Puppy Cup" | 4468 |
Click on any hostname to see more info about the system (e.g. compilers) (*) as reported by 'uname -p', except on Windows and Mac OS X |
Package 2171/2300 | Hostname | OS / Arch | INSTALL | BUILD | CHECK | BUILD BIN | ||||||||
tLOH 1.12.0 (landing page) Michelle Webb
| nebbiolo1 | Linux (Ubuntu 22.04.3 LTS) / x86_64 | OK | OK | OK | |||||||||
palomino3 | Windows Server 2022 Datacenter / x64 | OK | OK | OK | OK | |||||||||
lconway | macOS 12.7.1 Monterey / x86_64 | OK | OK | OK | OK | |||||||||
kjohnson3 | macOS 13.6.5 Ventura / arm64 | OK | OK | OK | OK | |||||||||
To the developers/maintainers of the tLOH package: - Allow up to 24 hours (and sometimes 48 hours) for your latest push to git@git.bioconductor.org:packages/tLOH.git to reflect on this report. See Troubleshooting Build Report for more information. - Use the following Renviron settings to reproduce errors and warnings. - If 'R CMD check' started to fail recently on the Linux builder(s) over a missing dependency, add the missing dependency to 'Suggests:' in your DESCRIPTION file. See Renviron.bioc for more information. |
Package: tLOH |
Version: 1.12.0 |
Command: /Library/Frameworks/R.framework/Resources/bin/R CMD check --install=check:tLOH.install-out.txt --library=/Library/Frameworks/R.framework/Resources/library --no-vignettes --timings tLOH_1.12.0.tar.gz |
StartedAt: 2024-06-09 23:34:36 -0400 (Sun, 09 Jun 2024) |
EndedAt: 2024-06-09 23:45:36 -0400 (Sun, 09 Jun 2024) |
EllapsedTime: 659.8 seconds |
RetCode: 0 |
Status: OK |
CheckDir: tLOH.Rcheck |
Warnings: 0 |
############################################################################## ############################################################################## ### ### Running command: ### ### /Library/Frameworks/R.framework/Resources/bin/R CMD check --install=check:tLOH.install-out.txt --library=/Library/Frameworks/R.framework/Resources/library --no-vignettes --timings tLOH_1.12.0.tar.gz ### ############################################################################## ############################################################################## * using log directory ‘/Users/biocbuild/bbs-3.19-bioc/meat/tLOH.Rcheck’ * using R version 4.4.0 (2024-04-24) * using platform: x86_64-apple-darwin20 * R was compiled by Apple clang version 14.0.0 (clang-1400.0.29.202) GNU Fortran (GCC) 12.2.0 * running under: macOS Monterey 12.7.1 * using session charset: UTF-8 * using option ‘--no-vignettes’ * checking for file ‘tLOH/DESCRIPTION’ ... OK * checking extension type ... Package * this is package ‘tLOH’ version ‘1.12.0’ * package encoding: UTF-8 * checking package namespace information ... OK * checking package dependencies ... OK * checking if this is a source package ... OK * checking if there is a namespace ... OK * checking for hidden files and directories ... OK * checking for portable file names ... OK * checking for sufficient/correct file permissions ... OK * checking whether package ‘tLOH’ can be installed ... OK * checking installed package size ... OK * checking package directory ... OK * checking ‘build’ directory ... OK * checking DESCRIPTION meta-information ... NOTE License stub is invalid DCF. * checking top-level files ... OK * checking for left-over files ... OK * checking index information ... OK * checking package subdirectories ... NOTE Problems with news in ‘NEWS.md’: No news entries found. * checking code files for non-ASCII characters ... OK * checking R files for syntax errors ... OK * checking whether the package can be loaded ... OK * checking whether the package can be loaded with stated dependencies ... OK * checking whether the package can be unloaded cleanly ... OK * checking whether the namespace can be loaded with stated dependencies ... OK * checking whether the namespace can be unloaded cleanly ... OK * checking dependencies in R code ... OK * checking S3 generic/method consistency ... OK * checking replacement functions ... OK * checking foreign function calls ... OK * checking R code for possible problems ... OK * checking Rd files ... OK * checking Rd metadata ... OK * checking Rd cross-references ... OK * checking for missing documentation entries ... OK * checking for code/documentation mismatches ... OK * checking Rd \usage sections ... OK * checking Rd contents ... OK * checking for unstated dependencies in examples ... OK * checking contents of ‘data’ directory ... OK * checking data for non-ASCII characters ... OK * checking data for ASCII and uncompressed saves ... OK * checking files in ‘vignettes’ ... OK * checking examples ... OK Examples with CPU (user + system) or elapsed time > 5s user system elapsed hiddenMarkovAnalysis 71.916 2.527 87.066 regionAnalysis 50.117 0.933 51.163 runHMM_3 44.942 0.919 46.046 runHMM_2 43.500 0.964 44.598 prepareHMMdataframes 27.528 0.479 34.030 runHMM_1 27.176 0.390 27.624 splitByChromosome 25.084 0.418 25.599 tLOHCalcUpdate 23.517 0.384 23.955 alleleFrequencyPlot 7.394 0.191 7.603 aggregateCHRPlot 7.167 0.263 7.443 * checking for unstated dependencies in vignettes ... OK * checking package vignettes ... OK * checking running R code from vignettes ... SKIPPED * checking re-building of vignette outputs ... SKIPPED * checking PDF version of manual ... OK * DONE Status: 2 NOTEs See ‘/Users/biocbuild/bbs-3.19-bioc/meat/tLOH.Rcheck/00check.log’ for details.
tLOH.Rcheck/00install.out
############################################################################## ############################################################################## ### ### Running command: ### ### /Library/Frameworks/R.framework/Resources/bin/R CMD INSTALL tLOH ### ############################################################################## ############################################################################## * installing to library ‘/Library/Frameworks/R.framework/Versions/4.4-x86_64/Resources/library’ * installing *source* package ‘tLOH’ ... ** using staged installation ** R ** data ** inst ** byte-compile and prepare package for lazy loading ** help *** installing help indices ** building package indices ** installing vignettes ** testing if installed package can be loaded from temporary location ** testing if installed package can be loaded from final location ** testing if installed package keeps a record of temporary installation path * DONE (tLOH)
tLOH.Rcheck/tLOH-Ex.timings
name | user | system | elapsed | |
aggregateCHRPlot | 7.167 | 0.263 | 7.443 | |
alleleFrequencyPlot | 7.394 | 0.191 | 7.603 | |
documentErrorRegions | 0.001 | 0.000 | 0.002 | |
hiddenMarkovAnalysis | 71.916 | 2.527 | 87.066 | |
humanGBMsampleAC | 0.032 | 0.001 | 0.033 | |
initialStartProbabilities | 0.000 | 0.001 | 0.002 | |
marginalLikelihoodM1 | 0.002 | 0.000 | 0.002 | |
marginalLikelihoodM2 | 0.001 | 0.000 | 0.002 | |
marginalM1Calc | 0.000 | 0.000 | 0.001 | |
marginalM2CalcBHET | 0.001 | 0.000 | 0.002 | |
marginalM2CalcBLOH | 0.001 | 0.001 | 0.001 | |
modePeakCalc | 0.000 | 0.000 | 0.001 | |
prepareHMMdataframes | 27.528 | 0.479 | 34.030 | |
regionAnalysis | 50.117 | 0.933 | 51.163 | |
regionFinalize | 0.001 | 0.000 | 0.000 | |
removeOutlierFromCalc | 0 | 0 | 0 | |
runHMM_1 | 27.176 | 0.390 | 27.624 | |
runHMM_2 | 43.500 | 0.964 | 44.598 | |
runHMM_3 | 44.942 | 0.919 | 46.046 | |
splitByChromosome | 25.084 | 0.418 | 25.599 | |
summarizeRegions1 | 0.001 | 0.001 | 0.001 | |
summarizeRegions2 | 0.000 | 0.000 | 0.001 | |
tLOHCalc | 4.517 | 0.059 | 4.591 | |
tLOHCalcUpdate | 23.517 | 0.384 | 23.955 | |
tLOHDataImport | 0.000 | 0.000 | 0.001 | |