##############################################################################
##############################################################################
###
### Running command:
###
###   E:\biocbuild\bbs-3.19-bioc\R\bin\R.exe CMD INSTALL switchBox
###
##############################################################################
##############################################################################
* installing to library 'E:/biocbuild/bbs-3.19-bioc/R/library'
* installing *source* package 'switchBox' ...
** using staged installation
** libs
using C compiler: 'gcc.exe (GCC) 13.2.0'
using C++ compiler: 'G__~1.EXE (GCC) 13.2.0'
g++ -std=gnu++17  -I"E:/biocbuild/bbs-3.19-bioc/R/include" -DNDEBUG     -I"C:/rtools44/x86_64-w64-mingw32.static.posix/include"     -O2 -Wall  -mfpmath=sse -msse2 -mstackrealign  -c CalculateSignedScoreCore.cc -o CalculateSignedScoreCore.o
CalculateSignedScoreCore.cc: In function 'void CalculateSignedScoreCore(int*, int*, double*, int*, double*, int*, double*, double*, double*, double*, double*, double*, double*)':
CalculateSignedScoreCore.cc:36:26: warning: variable 'pairsNo' set but not used [-Wunused-but-set-variable]
   36 |     int i,j,l,countplace,pairsNo;
      |                          ^~~~~~~
g++ -std=gnu++17  -I"E:/biocbuild/bbs-3.19-bioc/R/include" -DNDEBUG     -I"C:/rtools44/x86_64-w64-mingw32.static.posix/include"     -O2 -Wall  -mfpmath=sse -msse2 -mstackrealign  -c CalculateSignedScoreCoreTieHandler.cc -o CalculateSignedScoreCoreTieHandler.o
CalculateSignedScoreCoreTieHandler.cc: In function 'void CalculateSignedScoreCoreTieHandler(int*, int*, double*, int*, double*, int*, double*, double*, double*, double*)':
CalculateSignedScoreCoreTieHandler.cc:49:12: warning: unused variable 'score1' [-Wunused-variable]
   49 |     double score1, score2, type;
      |            ^~~~~~
g++ -std=gnu++17  -I"E:/biocbuild/bbs-3.19-bioc/R/include" -DNDEBUG     -I"C:/rtools44/x86_64-w64-mingw32.static.posix/include"     -O2 -Wall  -mfpmath=sse -msse2 -mstackrealign  -c CalculateSignedScoreRestrictedPairsCore.cc -o CalculateSignedScoreRestrictedPairsCore.o
CalculateSignedScoreRestrictedPairsCore.cc: In function 'void CalculateSignedScoreRestrictedPairsCore(int*, int*, double*, int*, double*, int*, int*, int*, int*, double*, double*, double*)':
CalculateSignedScoreRestrictedPairsCore.cc:22:25: warning: variable 'countplace' set but not used [-Wunused-but-set-variable]
   22 |                 int i,l,countplace,pairsNo;
      |                         ^~~~~~~~~~
g++ -std=gnu++17  -I"E:/biocbuild/bbs-3.19-bioc/R/include" -DNDEBUG     -I"C:/rtools44/x86_64-w64-mingw32.static.posix/include"     -O2 -Wall  -mfpmath=sse -msse2 -mstackrealign  -c CalculateSignedScoreRestrictedPairsCoreTieHandler.cc -o CalculateSignedScoreRestrictedPairsCoreTieHandler.o
CalculateSignedScoreRestrictedPairsCoreTieHandler.cc: In function 'void CalculateSignedScoreRestrictedPairsCoreTieHandler(int*, int*, double*, int*, double*, int*, int*, int*, int*, double*, double*, double*, double*)':
CalculateSignedScoreRestrictedPairsCoreTieHandler.cc:25:25: warning: unused variable 'countplace' [-Wunused-variable]
   25 |                 int i,l,countplace,pairsNo;
      |                         ^~~~~~~~~~
CalculateSignedScoreRestrictedPairsCoreTieHandler.cc:35:24: warning: unused variable 'score1' [-Wunused-variable]
   35 |                 double score1, score2, type;
      |                        ^~~~~~
gcc  -I"E:/biocbuild/bbs-3.19-bioc/R/include" -DNDEBUG     -I"C:/rtools44/x86_64-w64-mingw32.static.posix/include"     -O2 -Wall  -mfpmath=sse -msse2 -mstackrealign  -c rinit.c -o rinit.o
g++ -std=gnu++17  -I"E:/biocbuild/bbs-3.19-bioc/R/include" -DNDEBUG     -I"C:/rtools44/x86_64-w64-mingw32.static.posix/include"     -O2 -Wall  -mfpmath=sse -msse2 -mstackrealign  -c vect2compC.cc -o vect2compC.o
g++ -std=gnu++17 -shared -s -static-libgcc -o switchBox.dll tmp.def CalculateSignedScoreCore.o CalculateSignedScoreCoreTieHandler.o CalculateSignedScoreRestrictedPairsCore.o CalculateSignedScoreRestrictedPairsCoreTieHandler.o rinit.o vect2compC.o -LC:/rtools44/x86_64-w64-mingw32.static.posix/lib/x64 -LC:/rtools44/x86_64-w64-mingw32.static.posix/lib -LE:/biocbuild/bbs-3.19-bioc/R/bin/x64 -lR
installing to E:/biocbuild/bbs-3.19-bioc/R/library/00LOCK-switchBox/00new/switchBox/libs/x64
** R
** data
** inst
** byte-compile and prepare package for lazy loading
** help
*** installing help indices
** building package indices
** installing vignettes
** testing if installed package can be loaded from temporary location
** testing if installed package can be loaded from final location
** testing if installed package keeps a record of temporary installation path
* DONE (switchBox)