| Back to Multiple platform build/check report for BioC 3.19: simplified long |
|
This page was generated on 2024-05-09 11:41:31 -0400 (Thu, 09 May 2024).
| Hostname | OS | Arch (*) | R version | Installed pkgs |
|---|---|---|---|---|
| nebbiolo1 | Linux (Ubuntu 22.04.3 LTS) | x86_64 | 4.4.0 (2024-04-24) -- "Puppy Cup" | 4748 |
| palomino3 | Windows Server 2022 Datacenter | x64 | 4.4.0 (2024-04-24 ucrt) -- "Puppy Cup" | 4484 |
| lconway | macOS 12.7.1 Monterey | x86_64 | 4.4.0 (2024-04-24) -- "Puppy Cup" | 4514 |
| kunpeng2 | Linux (openEuler 22.03 LTS-SP1) | aarch64 | 4.4.0 beta (2024-04-15 r86425) -- "Puppy Cup" | 4480 |
| Click on any hostname to see more info about the system (e.g. compilers) (*) as reported by 'uname -p', except on Windows and Mac OS X | ||||
| Package 2116/2300 | Hostname | OS / Arch | INSTALL | BUILD | CHECK | BUILD BIN | ||||||||
| switchBox 1.40.0 (landing page) Bahman Afsari
| nebbiolo1 | Linux (Ubuntu 22.04.3 LTS) / x86_64 | OK | OK | WARNINGS | |||||||||
| palomino3 | Windows Server 2022 Datacenter / x64 | OK | OK | WARNINGS | OK | |||||||||
| lconway | macOS 12.7.1 Monterey / x86_64 | OK | OK | WARNINGS | OK | |||||||||
| kunpeng2 | Linux (openEuler 22.03 LTS-SP1) / aarch64 | OK | OK | NA | ||||||||||
| kjohnson3 | macOS 13.6.5 Ventura / arm64 | see weekly results here | ||||||||||||
|
To the developers/maintainers of the switchBox package: - Allow up to 24 hours (and sometimes 48 hours) for your latest push to git@git.bioconductor.org:packages/switchBox.git to reflect on this report. See Troubleshooting Build Report for more information. - Use the following Renviron settings to reproduce errors and warnings. - If 'R CMD check' started to fail recently on the Linux builder(s) over a missing dependency, add the missing dependency to 'Suggests:' in your DESCRIPTION file. See Renviron.bioc for more information. - See Martin Grigorov's blog post for how to debug Linux ARM64 related issues on a x86_64 host. |
| Package: switchBox |
| Version: 1.40.0 |
| Command: /home/biocbuild/R/R-beta-2024-04-15_r86425/bin/R CMD INSTALL switchBox |
| StartedAt: 2024-05-08 20:05:05 -0000 (Wed, 08 May 2024) |
| EndedAt: 2024-05-08 20:05:26 -0000 (Wed, 08 May 2024) |
| EllapsedTime: 20.5 seconds |
| RetCode: 0 |
| Status: OK |
##############################################################################
##############################################################################
###
### Running command:
###
### /home/biocbuild/R/R-beta-2024-04-15_r86425/bin/R CMD INSTALL switchBox
###
##############################################################################
##############################################################################
* installing to library ‘/home/biocbuild/R/R-beta-2024-04-15_r86425/site-library’
* installing *source* package ‘switchBox’ ...
** using staged installation
** libs
using C compiler: ‘gcc (GCC) 10.3.1’
using C++ compiler: ‘g++ (GCC) 10.3.1’
g++ -std=gnu++17 -I"/home/biocbuild/R/R-beta-2024-04-15_r86425/include" -DNDEBUG -I/usr/local/include -fPIC -g -O2 -Wall -c CalculateSignedScoreCore.cc -o CalculateSignedScoreCore.o
CalculateSignedScoreCore.cc: In function ‘void CalculateSignedScoreCore(int*, int*, double*, int*, double*, int*, double*, double*, double*, double*, double*, double*, double*)’:
CalculateSignedScoreCore.cc:36:26: warning: variable ‘pairsNo’ set but not used [-Wunused-but-set-variable]
36 | int i,j,l,countplace,pairsNo;
| ^~~~~~~
g++ -std=gnu++17 -I"/home/biocbuild/R/R-beta-2024-04-15_r86425/include" -DNDEBUG -I/usr/local/include -fPIC -g -O2 -Wall -c CalculateSignedScoreCoreTieHandler.cc -o CalculateSignedScoreCoreTieHandler.o
CalculateSignedScoreCoreTieHandler.cc: In function ‘void CalculateSignedScoreCoreTieHandler(int*, int*, double*, int*, double*, int*, double*, double*, double*, double*)’:
CalculateSignedScoreCoreTieHandler.cc:49:12: warning: unused variable ‘score1’ [-Wunused-variable]
49 | double score1, score2, type;
| ^~~~~~
g++ -std=gnu++17 -I"/home/biocbuild/R/R-beta-2024-04-15_r86425/include" -DNDEBUG -I/usr/local/include -fPIC -g -O2 -Wall -c CalculateSignedScoreRestrictedPairsCore.cc -o CalculateSignedScoreRestrictedPairsCore.o
CalculateSignedScoreRestrictedPairsCore.cc: In function ‘void CalculateSignedScoreRestrictedPairsCore(int*, int*, double*, int*, double*, int*, int*, int*, int*, double*, double*, double*)’:
CalculateSignedScoreRestrictedPairsCore.cc:22:11: warning: variable ‘countplace’ set but not used [-Wunused-but-set-variable]
22 | int i,l,countplace,pairsNo;
| ^~~~~~~~~~
g++ -std=gnu++17 -I"/home/biocbuild/R/R-beta-2024-04-15_r86425/include" -DNDEBUG -I/usr/local/include -fPIC -g -O2 -Wall -c CalculateSignedScoreRestrictedPairsCoreTieHandler.cc -o CalculateSignedScoreRestrictedPairsCoreTieHandler.o
CalculateSignedScoreRestrictedPairsCoreTieHandler.cc: In function ‘void CalculateSignedScoreRestrictedPairsCoreTieHandler(int*, int*, double*, int*, double*, int*, int*, int*, int*, double*, double*, double*, double*)’:
CalculateSignedScoreRestrictedPairsCoreTieHandler.cc:25:11: warning: unused variable ‘countplace’ [-Wunused-variable]
25 | int i,l,countplace,pairsNo;
| ^~~~~~~~~~
CalculateSignedScoreRestrictedPairsCoreTieHandler.cc:35:10: warning: unused variable ‘score1’ [-Wunused-variable]
35 | double score1, score2, type;
| ^~~~~~
gcc -I"/home/biocbuild/R/R-beta-2024-04-15_r86425/include" -DNDEBUG -I/usr/local/include -fPIC -g -O2 -Wall -c rinit.c -o rinit.o
g++ -std=gnu++17 -I"/home/biocbuild/R/R-beta-2024-04-15_r86425/include" -DNDEBUG -I/usr/local/include -fPIC -g -O2 -Wall -c vect2compC.cc -o vect2compC.o
g++ -std=gnu++17 -shared -L/home/biocbuild/R/R-beta-2024-04-15_r86425/lib -L/usr/local/lib -o switchBox.so CalculateSignedScoreCore.o CalculateSignedScoreCoreTieHandler.o CalculateSignedScoreRestrictedPairsCore.o CalculateSignedScoreRestrictedPairsCoreTieHandler.o rinit.o vect2compC.o -L/home/biocbuild/R/R-beta-2024-04-15_r86425/lib -lR
installing to /home/biocbuild/R/R-beta-2024-04-15_r86425/site-library/00LOCK-switchBox/00new/switchBox/libs
** R
** data
** inst
** byte-compile and prepare package for lazy loading
** help
*** installing help indices
** building package indices
** installing vignettes
** testing if installed package can be loaded from temporary location
** checking absolute paths in shared objects and dynamic libraries
** testing if installed package can be loaded from final location
** testing if installed package keeps a record of temporary installation path
* DONE (switchBox)