| Back to Multiple platform build/check report for BioC 3.19: simplified long |
|
This page was generated on 2024-05-08 11:41:27 -0400 (Wed, 08 May 2024).
| Hostname | OS | Arch (*) | R version | Installed pkgs |
|---|---|---|---|---|
| nebbiolo1 | Linux (Ubuntu 22.04.3 LTS) | x86_64 | 4.4.0 (2024-04-24) -- "Puppy Cup" | 4707 |
| palomino3 | Windows Server 2022 Datacenter | x64 | 4.4.0 (2024-04-24 ucrt) -- "Puppy Cup" | 4484 |
| lconway | macOS 12.7.1 Monterey | x86_64 | 4.4.0 (2024-04-24) -- "Puppy Cup" | 4514 |
| kunpeng2 | Linux (openEuler 22.03 LTS-SP1) | aarch64 | 4.4.0 beta (2024-04-15 r86425) -- "Puppy Cup" | 4480 |
| Click on any hostname to see more info about the system (e.g. compilers) (*) as reported by 'uname -p', except on Windows and Mac OS X | ||||
| Package 2095/2300 | Hostname | OS / Arch | INSTALL | BUILD | CHECK | BUILD BIN | ||||||||
| structToolbox 1.16.0 (landing page) Gavin Rhys Lloyd
| nebbiolo1 | Linux (Ubuntu 22.04.3 LTS) / x86_64 | OK | OK | OK | |||||||||
| palomino3 | Windows Server 2022 Datacenter / x64 | OK | ERROR | skipped | skipped | |||||||||
| lconway | macOS 12.7.1 Monterey / x86_64 | OK | OK | OK | OK | |||||||||
| kunpeng2 | Linux (openEuler 22.03 LTS-SP1) / aarch64 | OK | OK | OK | ||||||||||
| kjohnson3 | macOS 13.6.5 Ventura / arm64 | see weekly results here | ||||||||||||
|
To the developers/maintainers of the structToolbox package: - Allow up to 24 hours (and sometimes 48 hours) for your latest push to git@git.bioconductor.org:packages/structToolbox.git to reflect on this report. See Troubleshooting Build Report for more information. - Use the following Renviron settings to reproduce errors and warnings. - If 'R CMD check' started to fail recently on the Linux builder(s) over a missing dependency, add the missing dependency to 'Suggests:' in your DESCRIPTION file. See Renviron.bioc for more information. - See Martin Grigorov's blog post for how to debug Linux ARM64 related issues on a x86_64 host. |
| Package: structToolbox |
| Version: 1.16.0 |
| Command: /home/biocbuild/R/R-beta-2024-04-15_r86425/bin/R CMD check --install=check:structToolbox.install-out.txt --library=/home/biocbuild/R/R-beta-2024-04-15_r86425/site-library --no-vignettes --timings structToolbox_1.16.0.tar.gz |
| StartedAt: 2024-05-08 12:26:48 -0000 (Wed, 08 May 2024) |
| EndedAt: 2024-05-08 12:37:42 -0000 (Wed, 08 May 2024) |
| EllapsedTime: 654.2 seconds |
| RetCode: 0 |
| Status: OK |
| CheckDir: structToolbox.Rcheck |
| Warnings: 0 |
##############################################################################
##############################################################################
###
### Running command:
###
### /home/biocbuild/R/R-beta-2024-04-15_r86425/bin/R CMD check --install=check:structToolbox.install-out.txt --library=/home/biocbuild/R/R-beta-2024-04-15_r86425/site-library --no-vignettes --timings structToolbox_1.16.0.tar.gz
###
##############################################################################
##############################################################################
* using log directory ‘/home/biocbuild/bbs-3.19-bioc/meat/structToolbox.Rcheck’
* using R version 4.4.0 beta (2024-04-15 r86425)
* using platform: aarch64-unknown-linux-gnu
* R was compiled by
gcc (GCC) 10.3.1
GNU Fortran (GCC) 10.3.1
* running under: openEuler 22.03 (LTS-SP1)
* using session charset: UTF-8
* using option ‘--no-vignettes’
* checking for file ‘structToolbox/DESCRIPTION’ ... OK
* checking extension type ... Package
* this is package ‘structToolbox’ version ‘1.16.0’
* package encoding: UTF-8
* checking package namespace information ... OK
* checking package dependencies ... OK
* checking if this is a source package ... OK
* checking if there is a namespace ... OK
* checking for hidden files and directories ... OK
* checking for portable file names ... OK
* checking for sufficient/correct file permissions ... OK
* checking whether package ‘structToolbox’ can be installed ... OK
* checking installed package size ... OK
* checking package directory ... OK
* checking ‘build’ directory ... OK
* checking DESCRIPTION meta-information ... OK
* checking top-level files ... OK
* checking for left-over files ... OK
* checking index information ... OK
* checking package subdirectories ... OK
* checking code files for non-ASCII characters ... OK
* checking R files for syntax errors ... OK
* checking whether the package can be loaded ... OK
* checking whether the package can be loaded with stated dependencies ... OK
* checking whether the package can be unloaded cleanly ... OK
* checking whether the namespace can be loaded with stated dependencies ... OK
* checking whether the namespace can be unloaded cleanly ... OK
* checking loading without being on the library search path ... OK
* checking dependencies in R code ... OK
* checking S3 generic/method consistency ... OK
* checking replacement functions ... OK
* checking foreign function calls ... OK
* checking R code for possible problems ... OK
* checking Rd files ... OK
* checking Rd metadata ... OK
* checking Rd cross-references ... OK
* checking for missing documentation entries ... OK
* checking for code/documentation mismatches ... OK
* checking Rd \usage sections ... OK
* checking Rd contents ... OK
* checking for unstated dependencies in examples ... OK
* checking R/sysdata.rda ... OK
* checking files in ‘vignettes’ ... OK
* checking examples ... OK
Examples with CPU (user + system) or elapsed time > 5s
user system elapsed
fold_change_int 27.514 0.216 27.785
fold_change 17.890 0.040 17.967
fisher_exact 14.012 0.020 14.061
fs_line 10.421 0.275 10.720
forward_selection_by_rank 8.947 0.044 9.007
grid_search_1d 5.969 0.032 6.013
compare_dist 5.388 0.164 5.563
kfoldxcv_grid 5.221 0.020 5.252
* checking for unstated dependencies in ‘tests’ ... OK
* checking tests ...
Running ‘testthat.R’
OK
* checking for unstated dependencies in vignettes ... OK
* checking package vignettes ... OK
* checking running R code from vignettes ... SKIPPED
* checking re-building of vignette outputs ... SKIPPED
* checking PDF version of manual ... OK
* DONE
Status: OK
structToolbox.Rcheck/00install.out
############################################################################## ############################################################################## ### ### Running command: ### ### /home/biocbuild/R/R-beta-2024-04-15_r86425/bin/R CMD INSTALL structToolbox ### ############################################################################## ############################################################################## * installing to library ‘/home/biocbuild/R/R-beta-2024-04-15_r86425/site-library’ * installing *source* package ‘structToolbox’ ... ** using staged installation ** R ** inst ** byte-compile and prepare package for lazy loading ** help *** installing help indices ** building package indices ** installing vignettes ** testing if installed package can be loaded from temporary location ** testing if installed package can be loaded from final location ** testing if installed package keeps a record of temporary installation path * DONE (structToolbox)
structToolbox.Rcheck/tests/testthat.Rout
R version 4.4.0 beta (2024-04-15 r86425) -- "Puppy Cup"
Copyright (C) 2024 The R Foundation for Statistical Computing
Platform: aarch64-unknown-linux-gnu
R is free software and comes with ABSOLUTELY NO WARRANTY.
You are welcome to redistribute it under certain conditions.
Type 'license()' or 'licence()' for distribution details.
R is a collaborative project with many contributors.
Type 'contributors()' for more information and
'citation()' on how to cite R or R packages in publications.
Type 'demo()' for some demos, 'help()' for on-line help, or
'help.start()' for an HTML browser interface to help.
Type 'q()' to quit R.
> library(testthat)
> library(ggplot2)
> library(structToolbox)
Loading required package: struct
>
> test_check("structToolbox")
[ FAIL 0 | WARN 6 | SKIP 0 | PASS 156 ]
[ FAIL 0 | WARN 6 | SKIP 0 | PASS 156 ]
>
> proc.time()
user system elapsed
255.818 1.835 258.164
structToolbox.Rcheck/structToolbox-Ex.timings
| name | user | system | elapsed | |
| ANOVA | 0.313 | 0.003 | 0.317 | |
| AUC | 2.845 | 0.139 | 2.991 | |
| DFA | 0.286 | 0.000 | 0.286 | |
| DatasetExperiment_boxplot | 1.032 | 0.016 | 1.050 | |
| DatasetExperiment_dist | 3.327 | 0.016 | 3.349 | |
| DatasetExperiment_factor_boxplot | 0.306 | 0.000 | 0.307 | |
| DatasetExperiment_heatmap | 0.515 | 0.004 | 0.520 | |
| HCA | 0.086 | 0.000 | 0.086 | |
| HSD | 0.402 | 0.004 | 0.416 | |
| HSDEM | 0.465 | 0.000 | 0.466 | |
| MTBLS79_DatasetExperiment | 0.002 | 0.000 | 0.001 | |
| OPLSDA | 0.016 | 0.000 | 0.017 | |
| OPLSR | 0.023 | 0.000 | 0.023 | |
| PCA | 0.007 | 0.000 | 0.006 | |
| PLSDA | 0.037 | 0.000 | 0.036 | |
| PLSR | 0.014 | 0.000 | 0.014 | |
| SVM | 0.041 | 0.000 | 0.042 | |
| as_data_frame | 0.179 | 0.000 | 0.180 | |
| autoscale | 0.107 | 0.000 | 0.107 | |
| balanced_accuracy | 2.524 | 0.008 | 2.537 | |
| blank_filter | 0.490 | 0.056 | 0.547 | |
| blank_filter_hist | 0.001 | 0.000 | 0.001 | |
| bootstrap | 0.022 | 0.008 | 0.030 | |
| calculate | 0.008 | 0.000 | 0.008 | |
| chart_plot | 0.042 | 0.004 | 0.046 | |
| classical_lsq | 0.452 | 0.056 | 0.509 | |
| compare_dist | 5.388 | 0.164 | 5.563 | |
| confounders_clsq | 4.289 | 0.179 | 4.478 | |
| confounders_lsq_barchart | 4.418 | 0.004 | 4.430 | |
| confounders_lsq_boxplot | 4.339 | 0.096 | 4.444 | |
| constant_sum_norm | 0.020 | 0.000 | 0.019 | |
| corr_coef | 0.394 | 0.000 | 0.395 | |
| dfa_scores_plot | 1.019 | 0.004 | 1.025 | |
| dratio_filter | 0.478 | 0.012 | 0.490 | |
| equal_split | 0.178 | 0.000 | 0.178 | |
| feature_boxplot | 0.045 | 0.000 | 0.045 | |
| feature_profile | 0.530 | 0.000 | 0.532 | |
| feature_profile_array | 0.666 | 0.004 | 0.671 | |
| filter_by_name | 0.044 | 0.000 | 0.045 | |
| filter_na_count | 1.553 | 0.016 | 1.572 | |
| filter_smeta | 0.090 | 0.000 | 0.091 | |
| fisher_exact | 14.012 | 0.020 | 14.061 | |
| fold_change | 17.890 | 0.040 | 17.967 | |
| fold_change_int | 27.514 | 0.216 | 27.785 | |
| fold_change_plot | 0.016 | 0.000 | 0.016 | |
| forward_selection_by_rank | 8.947 | 0.044 | 9.007 | |
| fs_line | 10.421 | 0.275 | 10.720 | |
| glog_opt_plot | 0.683 | 0.000 | 0.684 | |
| glog_transform | 0.415 | 0.000 | 0.415 | |
| grid_search_1d | 5.969 | 0.032 | 6.013 | |
| gs_line | 0.001 | 0.000 | 0.001 | |
| hca_dendrogram | 0.001 | 0.000 | 0.001 | |
| kfold_xval | 4.849 | 0.004 | 4.863 | |
| kfoldxcv_grid | 5.221 | 0.020 | 5.252 | |
| kfoldxcv_metric | 0.001 | 0.000 | 0.001 | |
| knn_impute | 0.034 | 0.000 | 0.035 | |
| kw_p_hist | 0.000 | 0.000 | 0.001 | |
| kw_rank_sum | 0.110 | 0.002 | 0.113 | |
| linear_model | 0.04 | 0.00 | 0.04 | |
| log_transform | 0.019 | 0.000 | 0.019 | |
| mean_centre | 0.004 | 0.000 | 0.005 | |
| mean_of_medians | 0.175 | 0.000 | 0.175 | |
| mixed_effect | 0.232 | 0.004 | 0.236 | |
| model_apply | 0.035 | 0.000 | 0.035 | |
| model_predict | 0.081 | 0.000 | 0.082 | |
| model_reverse | 0.060 | 0.000 | 0.061 | |
| model_train | 0.075 | 0.000 | 0.075 | |
| mv_boxplot | 0.399 | 0.032 | 0.432 | |
| mv_feature_filter | 0.182 | 0.008 | 0.191 | |
| mv_feature_filter_hist | 0.001 | 0.000 | 0.001 | |
| mv_histogram | 0.363 | 0.012 | 0.376 | |
| mv_sample_filter | 0.022 | 0.000 | 0.022 | |
| mv_sample_filter_hist | 0.001 | 0.000 | 0.001 | |
| nroot_transform | 0.021 | 0.000 | 0.021 | |
| ontology_cache | 0 | 0 | 0 | |
| pairs_filter | 0.020 | 0.004 | 0.024 | |
| pareto_scale | 0.075 | 0.004 | 0.079 | |
| pca_biplot | 0.029 | 0.000 | 0.029 | |
| pca_correlation_plot | 0.016 | 0.000 | 0.016 | |
| pca_dstat_plot | 0.021 | 0.000 | 0.020 | |
| pca_loadings_plot | 0.021 | 0.000 | 0.021 | |
| pca_scores_plot | 0.761 | 0.000 | 0.762 | |
| pca_scree_plot | 0.015 | 0.000 | 0.015 | |
| permutation_test | 0.026 | 0.000 | 0.026 | |
| permutation_test_plot | 0.004 | 0.000 | 0.004 | |
| permute_sample_order | 0.021 | 0.000 | 0.021 | |
| pls_regcoeff_plot | 0.484 | 0.000 | 0.485 | |
| pls_scores_plot | 0.981 | 0.004 | 0.987 | |
| pls_vip_plot | 0.496 | 0.000 | 0.497 | |
| plsda_feature_importance_plot | 0.867 | 0.000 | 0.869 | |
| plsda_predicted_plot | 0.638 | 0.000 | 0.639 | |
| plsda_roc_plot | 1.738 | 0.000 | 1.742 | |
| plsr_cook_dist | 0.016 | 0.000 | 0.016 | |
| plsr_prediction_plot | 0.017 | 0.000 | 0.017 | |
| plsr_qq_plot | 0.017 | 0.000 | 0.017 | |
| plsr_residual_hist | 0.014 | 0.004 | 0.017 | |
| pqn_norm | 0.529 | 0.000 | 0.530 | |
| pqn_norm_hist | 0.001 | 0.000 | 0.001 | |
| prop_na | 0.023 | 0.000 | 0.023 | |
| r_squared | 0.001 | 0.000 | 0.001 | |
| resample | 0.034 | 0.000 | 0.034 | |
| resample_chart | 0.003 | 0.000 | 0.004 | |
| rsd_filter | 0.029 | 0.000 | 0.028 | |
| rsd_filter_hist | 0.001 | 0.000 | 0.001 | |
| run | 0.04 | 0.00 | 0.04 | |
| sb_corr | 0.048 | 0.000 | 0.048 | |
| scatter_chart | 0.473 | 0.000 | 0.474 | |
| split_data | 0.019 | 0.000 | 0.019 | |
| stratified_split | 0.175 | 0.000 | 0.175 | |
| svm_plot_2d | 0.915 | 0.004 | 0.921 | |
| tSNE | 0.045 | 0.000 | 0.045 | |
| tSNE_scatter | 0.018 | 0.000 | 0.018 | |
| tic_chart | 0.306 | 0.000 | 0.307 | |
| ttest | 0.028 | 0.000 | 0.028 | |
| vec_norm | 0.001 | 0.000 | 0.001 | |
| wilcox_p_hist | 0.000 | 0.000 | 0.001 | |
| wilcox_test | 0.035 | 0.000 | 0.036 | |