Back to Multiple platform build/check report for BioC 3.19: simplified long |
|
This page was generated on 2024-06-11 14:44 -0400 (Tue, 11 Jun 2024).
Hostname | OS | Arch (*) | R version | Installed pkgs |
---|---|---|---|---|
nebbiolo1 | Linux (Ubuntu 22.04.3 LTS) | x86_64 | 4.4.0 (2024-04-24) -- "Puppy Cup" | 4757 |
palomino3 | Windows Server 2022 Datacenter | x64 | 4.4.0 (2024-04-24 ucrt) -- "Puppy Cup" | 4491 |
lconway | macOS 12.7.1 Monterey | x86_64 | 4.4.0 (2024-04-24) -- "Puppy Cup" | 4522 |
kjohnson3 | macOS 13.6.5 Ventura | arm64 | 4.4.0 (2024-04-24) -- "Puppy Cup" | 4468 |
Click on any hostname to see more info about the system (e.g. compilers) (*) as reported by 'uname -p', except on Windows and Mac OS X |
Package 2095/2300 | Hostname | OS / Arch | INSTALL | BUILD | CHECK | BUILD BIN | ||||||||
structToolbox 1.16.0 (landing page) Gavin Rhys Lloyd
| nebbiolo1 | Linux (Ubuntu 22.04.3 LTS) / x86_64 | OK | OK | OK | |||||||||
palomino3 | Windows Server 2022 Datacenter / x64 | OK | OK | OK | OK | |||||||||
lconway | macOS 12.7.1 Monterey / x86_64 | OK | OK | OK | OK | |||||||||
kjohnson3 | macOS 13.6.5 Ventura / arm64 | OK | OK | OK | OK | |||||||||
To the developers/maintainers of the structToolbox package: - Allow up to 24 hours (and sometimes 48 hours) for your latest push to git@git.bioconductor.org:packages/structToolbox.git to reflect on this report. See Troubleshooting Build Report for more information. - Use the following Renviron settings to reproduce errors and warnings. - If 'R CMD check' started to fail recently on the Linux builder(s) over a missing dependency, add the missing dependency to 'Suggests:' in your DESCRIPTION file. See Renviron.bioc for more information. |
Package: structToolbox |
Version: 1.16.0 |
Command: /Library/Frameworks/R.framework/Resources/bin/R CMD check --install=check:structToolbox.install-out.txt --library=/Library/Frameworks/R.framework/Resources/library --no-vignettes --timings structToolbox_1.16.0.tar.gz |
StartedAt: 2024-06-11 07:29:08 -0400 (Tue, 11 Jun 2024) |
EndedAt: 2024-06-11 07:42:48 -0400 (Tue, 11 Jun 2024) |
EllapsedTime: 819.7 seconds |
RetCode: 0 |
Status: OK |
CheckDir: structToolbox.Rcheck |
Warnings: 0 |
############################################################################## ############################################################################## ### ### Running command: ### ### /Library/Frameworks/R.framework/Resources/bin/R CMD check --install=check:structToolbox.install-out.txt --library=/Library/Frameworks/R.framework/Resources/library --no-vignettes --timings structToolbox_1.16.0.tar.gz ### ############################################################################## ############################################################################## * using log directory ‘/Users/biocbuild/bbs-3.19-bioc/meat/structToolbox.Rcheck’ * using R version 4.4.0 (2024-04-24) * using platform: aarch64-apple-darwin20 * R was compiled by Apple clang version 14.0.0 (clang-1400.0.29.202) GNU Fortran (GCC) 12.2.0 * running under: macOS Ventura 13.6.5 * using session charset: UTF-8 * using option ‘--no-vignettes’ * checking for file ‘structToolbox/DESCRIPTION’ ... OK * checking extension type ... Package * this is package ‘structToolbox’ version ‘1.16.0’ * package encoding: UTF-8 * checking package namespace information ... OK * checking package dependencies ... OK * checking if this is a source package ... OK * checking if there is a namespace ... OK * checking for hidden files and directories ... OK * checking for portable file names ... OK * checking for sufficient/correct file permissions ... OK * checking whether package ‘structToolbox’ can be installed ... OK * checking installed package size ... OK * checking package directory ... OK * checking ‘build’ directory ... OK * checking DESCRIPTION meta-information ... OK * checking top-level files ... OK * checking for left-over files ... OK * checking index information ... OK * checking package subdirectories ... OK * checking code files for non-ASCII characters ... OK * checking R files for syntax errors ... OK * checking whether the package can be loaded ... OK * checking whether the package can be loaded with stated dependencies ... OK * checking whether the package can be unloaded cleanly ... OK * checking whether the namespace can be loaded with stated dependencies ... OK * checking whether the namespace can be unloaded cleanly ... OK * checking dependencies in R code ... OK * checking S3 generic/method consistency ... OK * checking replacement functions ... OK * checking foreign function calls ... OK * checking R code for possible problems ... OK * checking Rd files ... OK * checking Rd metadata ... OK * checking Rd cross-references ... OK * checking for missing documentation entries ... OK * checking for code/documentation mismatches ... OK * checking Rd \usage sections ... OK * checking Rd contents ... OK * checking for unstated dependencies in examples ... OK * checking R/sysdata.rda ... OK * checking files in ‘vignettes’ ... OK * checking examples ... OK Examples with CPU (user + system) or elapsed time > 5s user system elapsed fold_change_int 19.070 0.135 24.107 fisher_exact 11.441 0.128 15.733 fold_change 10.035 0.091 11.672 forward_selection_by_rank 6.807 0.114 8.767 fs_line 6.603 0.147 9.550 compare_dist 4.385 0.174 6.813 kfoldxcv_grid 4.050 0.067 5.928 kfold_xval 3.608 0.053 5.241 confounders_lsq_boxplot 3.310 0.045 5.041 * checking for unstated dependencies in ‘tests’ ... OK * checking tests ... Running ‘testthat.R’ OK * checking for unstated dependencies in vignettes ... OK * checking package vignettes ... OK * checking running R code from vignettes ... SKIPPED * checking re-building of vignette outputs ... SKIPPED * checking PDF version of manual ... OK * DONE Status: OK
structToolbox.Rcheck/00install.out
############################################################################## ############################################################################## ### ### Running command: ### ### /Library/Frameworks/R.framework/Resources/bin/R CMD INSTALL structToolbox ### ############################################################################## ############################################################################## * installing to library ‘/Library/Frameworks/R.framework/Versions/4.4-arm64/Resources/library’ * installing *source* package ‘structToolbox’ ... ** using staged installation ** R ** inst ** byte-compile and prepare package for lazy loading ** help *** installing help indices ** building package indices ** installing vignettes ** testing if installed package can be loaded from temporary location ** testing if installed package can be loaded from final location ** testing if installed package keeps a record of temporary installation path * DONE (structToolbox)
structToolbox.Rcheck/tests/testthat.Rout
R version 4.4.0 (2024-04-24) -- "Puppy Cup" Copyright (C) 2024 The R Foundation for Statistical Computing Platform: aarch64-apple-darwin20 R is free software and comes with ABSOLUTELY NO WARRANTY. You are welcome to redistribute it under certain conditions. Type 'license()' or 'licence()' for distribution details. R is a collaborative project with many contributors. Type 'contributors()' for more information and 'citation()' on how to cite R or R packages in publications. Type 'demo()' for some demos, 'help()' for on-line help, or 'help.start()' for an HTML browser interface to help. Type 'q()' to quit R. > library(testthat) > library(ggplot2) > library(structToolbox) Loading required package: struct > > test_check("structToolbox") [ FAIL 0 | WARN 6 | SKIP 0 | PASS 156 ] [ FAIL 0 | WARN 6 | SKIP 0 | PASS 156 ] > > proc.time() user system elapsed 211.459 3.750 322.951
structToolbox.Rcheck/structToolbox-Ex.timings
name | user | system | elapsed | |
ANOVA | 0.247 | 0.014 | 0.467 | |
AUC | 2.189 | 0.126 | 3.612 | |
DFA | 0.218 | 0.004 | 0.308 | |
DatasetExperiment_boxplot | 1.960 | 0.046 | 3.122 | |
DatasetExperiment_dist | 1.581 | 0.061 | 2.040 | |
DatasetExperiment_factor_boxplot | 0.223 | 0.005 | 0.297 | |
DatasetExperiment_heatmap | 0.447 | 0.018 | 0.670 | |
HCA | 0.073 | 0.002 | 0.116 | |
HSD | 0.300 | 0.021 | 0.515 | |
HSDEM | 0.517 | 0.032 | 0.808 | |
MTBLS79_DatasetExperiment | 0.001 | 0.001 | 0.002 | |
OPLSDA | 0.013 | 0.001 | 0.027 | |
OPLSR | 0.017 | 0.001 | 0.029 | |
PCA | 0.005 | 0.000 | 0.009 | |
PLSDA | 0.028 | 0.003 | 0.044 | |
PLSR | 0.011 | 0.002 | 0.015 | |
SVM | 0.028 | 0.003 | 0.033 | |
as_data_frame | 0.187 | 0.006 | 0.284 | |
autoscale | 0.084 | 0.002 | 0.126 | |
balanced_accuracy | 1.875 | 0.030 | 2.764 | |
blank_filter | 0.390 | 0.024 | 0.613 | |
blank_filter_hist | 0.002 | 0.000 | 0.005 | |
bootstrap | 0.018 | 0.000 | 0.019 | |
calculate | 0.005 | 0.001 | 0.005 | |
chart_plot | 0.030 | 0.002 | 0.040 | |
classical_lsq | 0.317 | 0.004 | 0.462 | |
compare_dist | 4.385 | 0.174 | 6.813 | |
confounders_clsq | 3.218 | 0.048 | 4.808 | |
confounders_lsq_barchart | 3.230 | 0.045 | 4.947 | |
confounders_lsq_boxplot | 3.310 | 0.045 | 5.041 | |
constant_sum_norm | 0.015 | 0.001 | 0.019 | |
corr_coef | 0.301 | 0.006 | 0.495 | |
dfa_scores_plot | 0.803 | 0.015 | 1.261 | |
dratio_filter | 0.289 | 0.007 | 0.461 | |
equal_split | 0.142 | 0.003 | 0.212 | |
feature_boxplot | 0.033 | 0.001 | 0.052 | |
feature_profile | 0.444 | 0.011 | 0.677 | |
feature_profile_array | 0.492 | 0.008 | 0.779 | |
filter_by_name | 0.036 | 0.001 | 0.053 | |
filter_na_count | 1.127 | 0.032 | 1.678 | |
filter_smeta | 0.071 | 0.002 | 0.088 | |
fisher_exact | 11.441 | 0.128 | 15.733 | |
fold_change | 10.035 | 0.091 | 11.672 | |
fold_change_int | 19.070 | 0.135 | 24.107 | |
fold_change_plot | 0.014 | 0.000 | 0.015 | |
forward_selection_by_rank | 6.807 | 0.114 | 8.767 | |
fs_line | 6.603 | 0.147 | 9.550 | |
glog_opt_plot | 0.516 | 0.011 | 0.796 | |
glog_transform | 0.303 | 0.005 | 0.448 | |
grid_search_1d | 3.443 | 0.114 | 3.840 | |
gs_line | 0.001 | 0.000 | 0.000 | |
hca_dendrogram | 0.000 | 0.000 | 0.001 | |
kfold_xval | 3.608 | 0.053 | 5.241 | |
kfoldxcv_grid | 4.050 | 0.067 | 5.928 | |
kfoldxcv_metric | 0.001 | 0.000 | 0.001 | |
knn_impute | 0.013 | 0.001 | 0.023 | |
kw_p_hist | 0.001 | 0.000 | 0.002 | |
kw_rank_sum | 0.084 | 0.002 | 0.120 | |
linear_model | 0.028 | 0.001 | 0.041 | |
log_transform | 0.016 | 0.000 | 0.027 | |
mean_centre | 0.003 | 0.000 | 0.003 | |
mean_of_medians | 0.136 | 0.002 | 0.201 | |
mixed_effect | 0.180 | 0.003 | 0.265 | |
model_apply | 0.025 | 0.002 | 0.037 | |
model_predict | 0.059 | 0.002 | 0.093 | |
model_reverse | 0.044 | 0.001 | 0.067 | |
model_train | 0.056 | 0.001 | 0.090 | |
mv_boxplot | 0.313 | 0.006 | 0.477 | |
mv_feature_filter | 0.156 | 0.004 | 0.217 | |
mv_feature_filter_hist | 0.001 | 0.000 | 0.005 | |
mv_histogram | 0.265 | 0.005 | 0.415 | |
mv_sample_filter | 0.019 | 0.001 | 0.038 | |
mv_sample_filter_hist | 0.001 | 0.000 | 0.002 | |
nroot_transform | 0.014 | 0.000 | 0.025 | |
ontology_cache | 0.000 | 0.001 | 0.002 | |
pairs_filter | 0.017 | 0.001 | 0.032 | |
pareto_scale | 0.063 | 0.002 | 0.106 | |
pca_biplot | 0.020 | 0.001 | 0.029 | |
pca_correlation_plot | 0.012 | 0.001 | 0.022 | |
pca_dstat_plot | 0.015 | 0.001 | 0.024 | |
pca_loadings_plot | 0.015 | 0.000 | 0.023 | |
pca_scores_plot | 0.595 | 0.011 | 0.912 | |
pca_scree_plot | 0.014 | 0.000 | 0.014 | |
permutation_test | 0.019 | 0.001 | 0.034 | |
permutation_test_plot | 0.003 | 0.001 | 0.008 | |
permute_sample_order | 0.016 | 0.001 | 0.031 | |
pls_regcoeff_plot | 0.387 | 0.009 | 0.580 | |
pls_scores_plot | 0.769 | 0.013 | 1.130 | |
pls_vip_plot | 0.391 | 0.012 | 0.595 | |
plsda_feature_importance_plot | 0.677 | 0.014 | 1.091 | |
plsda_predicted_plot | 0.477 | 0.009 | 0.696 | |
plsda_roc_plot | 2.406 | 0.041 | 3.582 | |
plsr_cook_dist | 0.014 | 0.000 | 0.021 | |
plsr_prediction_plot | 0.011 | 0.000 | 0.011 | |
plsr_qq_plot | 0.011 | 0.001 | 0.013 | |
plsr_residual_hist | 0.012 | 0.001 | 0.019 | |
pqn_norm | 0.403 | 0.005 | 0.605 | |
pqn_norm_hist | 0.001 | 0.001 | 0.002 | |
prop_na | 0.019 | 0.000 | 0.033 | |
r_squared | 0.001 | 0.000 | 0.003 | |
resample | 0.026 | 0.001 | 0.047 | |
resample_chart | 0.003 | 0.000 | 0.008 | |
rsd_filter | 0.021 | 0.001 | 0.031 | |
rsd_filter_hist | 0.002 | 0.000 | 0.001 | |
run | 0.033 | 0.001 | 0.052 | |
sb_corr | 0.036 | 0.001 | 0.057 | |
scatter_chart | 0.342 | 0.006 | 0.529 | |
split_data | 0.015 | 0.000 | 0.023 | |
stratified_split | 0.143 | 0.004 | 0.239 | |
svm_plot_2d | 0.717 | 0.024 | 1.109 | |
tSNE | 0.031 | 0.001 | 0.039 | |
tSNE_scatter | 0.012 | 0.001 | 0.018 | |
tic_chart | 0.219 | 0.007 | 0.352 | |
ttest | 0.020 | 0.000 | 0.037 | |
vec_norm | 0.002 | 0.000 | 0.006 | |
wilcox_p_hist | 0.001 | 0.000 | 0.001 | |
wilcox_test | 0.027 | 0.001 | 0.049 | |