| Back to Multiple platform build/check report for BioC 3.19: simplified long |
|
This page was generated on 2024-05-08 11:41:25 -0400 (Wed, 08 May 2024).
| Hostname | OS | Arch (*) | R version | Installed pkgs |
|---|---|---|---|---|
| nebbiolo1 | Linux (Ubuntu 22.04.3 LTS) | x86_64 | 4.4.0 (2024-04-24) -- "Puppy Cup" | 4707 |
| palomino3 | Windows Server 2022 Datacenter | x64 | 4.4.0 (2024-04-24 ucrt) -- "Puppy Cup" | 4484 |
| lconway | macOS 12.7.1 Monterey | x86_64 | 4.4.0 (2024-04-24) -- "Puppy Cup" | 4514 |
| kunpeng2 | Linux (openEuler 22.03 LTS-SP1) | aarch64 | 4.4.0 beta (2024-04-15 r86425) -- "Puppy Cup" | 4480 |
| Click on any hostname to see more info about the system (e.g. compilers) (*) as reported by 'uname -p', except on Windows and Mac OS X | ||||
| Package 2024/2300 | Hostname | OS / Arch | INSTALL | BUILD | CHECK | BUILD BIN | ||||||||
| sparrow 1.10.1 (landing page) Steve Lianoglou
| nebbiolo1 | Linux (Ubuntu 22.04.3 LTS) / x86_64 | OK | OK | OK | |||||||||
| palomino3 | Windows Server 2022 Datacenter / x64 | OK | OK | OK | OK | |||||||||
| lconway | macOS 12.7.1 Monterey / x86_64 | OK | OK | OK | OK | |||||||||
| kunpeng2 | Linux (openEuler 22.03 LTS-SP1) / aarch64 | OK | OK | OK | ||||||||||
| kjohnson3 | macOS 13.6.5 Ventura / arm64 | see weekly results here | ||||||||||||
|
To the developers/maintainers of the sparrow package: - Allow up to 24 hours (and sometimes 48 hours) for your latest push to git@git.bioconductor.org:packages/sparrow.git to reflect on this report. See Troubleshooting Build Report for more information. - Use the following Renviron settings to reproduce errors and warnings. - If 'R CMD check' started to fail recently on the Linux builder(s) over a missing dependency, add the missing dependency to 'Suggests:' in your DESCRIPTION file. See Renviron.bioc for more information. - See Martin Grigorov's blog post for how to debug Linux ARM64 related issues on a x86_64 host. |
| Package: sparrow |
| Version: 1.10.1 |
| Command: /home/biocbuild/R/R-beta-2024-04-15_r86425/bin/R CMD check --install=check:sparrow.install-out.txt --library=/home/biocbuild/R/R-beta-2024-04-15_r86425/site-library --no-vignettes --timings sparrow_1.10.1.tar.gz |
| StartedAt: 2024-05-08 12:08:20 -0000 (Wed, 08 May 2024) |
| EndedAt: 2024-05-08 12:20:42 -0000 (Wed, 08 May 2024) |
| EllapsedTime: 742.2 seconds |
| RetCode: 0 |
| Status: OK |
| CheckDir: sparrow.Rcheck |
| Warnings: 0 |
##############################################################################
##############################################################################
###
### Running command:
###
### /home/biocbuild/R/R-beta-2024-04-15_r86425/bin/R CMD check --install=check:sparrow.install-out.txt --library=/home/biocbuild/R/R-beta-2024-04-15_r86425/site-library --no-vignettes --timings sparrow_1.10.1.tar.gz
###
##############################################################################
##############################################################################
* using log directory ‘/home/biocbuild/bbs-3.19-bioc/meat/sparrow.Rcheck’
* using R version 4.4.0 beta (2024-04-15 r86425)
* using platform: aarch64-unknown-linux-gnu
* R was compiled by
gcc (GCC) 10.3.1
GNU Fortran (GCC) 10.3.1
* running under: openEuler 22.03 (LTS-SP1)
* using session charset: UTF-8
* using option ‘--no-vignettes’
* checking for file ‘sparrow/DESCRIPTION’ ... OK
* checking extension type ... Package
* this is package ‘sparrow’ version ‘1.10.1’
* package encoding: UTF-8
* checking package namespace information ... OK
* checking package dependencies ... OK
* checking if this is a source package ... OK
* checking if there is a namespace ... OK
* checking for hidden files and directories ... OK
* checking for portable file names ... OK
* checking for sufficient/correct file permissions ... OK
* checking whether package ‘sparrow’ can be installed ... OK
* checking installed package size ... OK
* checking package directory ... OK
* checking ‘build’ directory ... OK
* checking DESCRIPTION meta-information ... NOTE
License stub is invalid DCF.
* checking top-level files ... OK
* checking for left-over files ... OK
* checking index information ... OK
* checking package subdirectories ... OK
* checking code files for non-ASCII characters ... OK
* checking R files for syntax errors ... OK
* checking whether the package can be loaded ... OK
* checking whether the package can be loaded with stated dependencies ... OK
* checking whether the package can be unloaded cleanly ... OK
* checking whether the namespace can be loaded with stated dependencies ... OK
* checking whether the namespace can be unloaded cleanly ... OK
* checking loading without being on the library search path ... OK
* checking whether startup messages can be suppressed ... OK
* checking dependencies in R code ... OK
* checking S3 generic/method consistency ... OK
* checking replacement functions ... OK
* checking foreign function calls ... OK
* checking R code for possible problems ... NOTE
geneSetsStats: no visible binding for global variable ‘direction’
Undefined global functions or variables:
direction
* checking Rd files ... OK
* checking Rd metadata ... OK
* checking Rd cross-references ... OK
* checking for missing documentation entries ... OK
* checking for code/documentation mismatches ... OK
* checking Rd \usage sections ... OK
* checking Rd contents ... OK
* checking for unstated dependencies in examples ... OK
* checking line endings in Makefiles ... OK
* checking for GNU extensions in Makefiles ... OK
* checking include directives in Makefiles ... OK
* checking files in ‘vignettes’ ... OK
* checking examples ... OK
Examples with CPU (user + system) or elapsed time > 5s
user system elapsed
goseq 9.979 0.235 9.940
seas 7.189 0.076 6.988
scoreSingleSamples 6.869 0.048 6.903
SparrowResult-utilities 5.739 0.172 5.623
geneSetsStats 5.847 0.053 5.351
annotateGeneSetMembership 5.678 0.136 5.556
* checking for unstated dependencies in ‘tests’ ... OK
* checking tests ...
Running ‘testthat.R’
OK
* checking for unstated dependencies in vignettes ... OK
* checking package vignettes ... OK
* checking running R code from vignettes ... SKIPPED
* checking re-building of vignette outputs ... SKIPPED
* checking PDF version of manual ... OK
* DONE
Status: 2 NOTEs
See
‘/home/biocbuild/bbs-3.19-bioc/meat/sparrow.Rcheck/00check.log’
for details.
sparrow.Rcheck/00install.out
############################################################################## ############################################################################## ### ### Running command: ### ### /home/biocbuild/R/R-beta-2024-04-15_r86425/bin/R CMD INSTALL sparrow ### ############################################################################## ############################################################################## * installing to library ‘/home/biocbuild/R/R-beta-2024-04-15_r86425/site-library’ * installing *source* package ‘sparrow’ ... ** using staged installation ** R ** inst ** byte-compile and prepare package for lazy loading ** help *** installing help indices *** copying figures ** building package indices ** installing vignettes ** testing if installed package can be loaded from temporary location ** testing if installed package can be loaded from final location ** testing if installed package keeps a record of temporary installation path * DONE (sparrow)
sparrow.Rcheck/tests/testthat.Rout
R version 4.4.0 beta (2024-04-15 r86425) -- "Puppy Cup"
Copyright (C) 2024 The R Foundation for Statistical Computing
Platform: aarch64-unknown-linux-gnu
R is free software and comes with ABSOLUTELY NO WARRANTY.
You are welcome to redistribute it under certain conditions.
Type 'license()' or 'licence()' for distribution details.
R is a collaborative project with many contributors.
Type 'contributors()' for more information and
'citation()' on how to cite R or R packages in publications.
Type 'demo()' for some demos, 'help()' for on-line help, or
'help.start()' for an HTML browser interface to help.
Type 'q()' to quit R.
> library("sparrow")
> library("testthat")
> library("data.table")
> library("dplyr")
Attaching package: 'dplyr'
The following objects are masked from 'package:data.table':
between, first, last
The following object is masked from 'package:testthat':
matches
The following object is masked from 'package:sparrow':
combine
The following objects are masked from 'package:stats':
filter, lag
The following objects are masked from 'package:base':
intersect, setdiff, setequal, union
>
> test_check("sparrow")
Attaching package: 'magrittr'
The following objects are masked from 'package:testthat':
equals, is_less_than, not
Estimating GSVA scores for 76 gene sets.
Estimating ECDFs with Gaussian kernels
|
| | 0%
|
|= | 1%
|
|== | 3%
|
|=== | 4%
|
|==== | 5%
|
|===== | 7%
|
|====== | 8%
|
|====== | 9%
|
|======= | 11%
|
|======== | 12%
|
|========= | 13%
|
|========== | 14%
|
|=========== | 16%
|
|============ | 17%
|
|============= | 18%
|
|============== | 20%
|
|=============== | 21%
|
|================ | 22%
|
|================= | 24%
|
|================== | 25%
|
|================== | 26%
|
|=================== | 28%
|
|==================== | 29%
|
|===================== | 30%
|
|====================== | 32%
|
|======================= | 33%
|
|======================== | 34%
|
|========================= | 36%
|
|========================== | 37%
|
|=========================== | 38%
|
|============================ | 39%
|
|============================= | 41%
|
|============================= | 42%
|
|============================== | 43%
|
|=============================== | 45%
|
|================================ | 46%
|
|================================= | 47%
|
|================================== | 49%
|
|=================================== | 50%
|
|==================================== | 51%
|
|===================================== | 53%
|
|====================================== | 54%
|
|======================================= | 55%
|
|======================================== | 57%
|
|========================================= | 58%
|
|========================================= | 59%
|
|========================================== | 61%
|
|=========================================== | 62%
|
|============================================ | 63%
|
|============================================= | 64%
|
|============================================== | 66%
|
|=============================================== | 67%
|
|================================================ | 68%
|
|================================================= | 70%
|
|================================================== | 71%
|
|=================================================== | 72%
|
|==================================================== | 74%
|
|==================================================== | 75%
|
|===================================================== | 76%
|
|====================================================== | 78%
|
|======================================================= | 79%
|
|======================================================== | 80%
|
|========================================================= | 82%
|
|========================================================== | 83%
|
|=========================================================== | 84%
|
|============================================================ | 86%
|
|============================================================= | 87%
|
|============================================================== | 88%
|
|=============================================================== | 89%
|
|================================================================ | 91%
|
|================================================================ | 92%
|
|================================================================= | 93%
|
|================================================================== | 95%
|
|=================================================================== | 96%
|
|==================================================================== | 97%
|
|===================================================================== | 99%
|
|======================================================================| 100%
Estimating PLAGE scores for 76 gene sets.
|
| | 0%
|
|= | 1%
|
|== | 3%
|
|=== | 4%
|
|==== | 5%
|
|===== | 7%
|
|====== | 8%
|
|====== | 9%
|
|======= | 11%
|
|======== | 12%
|
|========= | 13%
|
|========== | 14%
|
|=========== | 16%
|
|============ | 17%
|
|============= | 18%
|
|============== | 20%
|
|=============== | 21%
|
|================ | 22%
|
|================= | 24%
|
|================== | 25%
|
|================== | 26%
|
|=================== | 28%
|
|==================== | 29%
|
|===================== | 30%
|
|====================== | 32%
|
|======================= | 33%
|
|======================== | 34%
|
|========================= | 36%
|
|========================== | 37%
|
|=========================== | 38%
|
|============================ | 39%
|
|============================= | 41%
|
|============================= | 42%
|
|============================== | 43%
|
|=============================== | 45%
|
|================================ | 46%
|
|================================= | 47%
|
|================================== | 49%
|
|=================================== | 50%
|
|==================================== | 51%
|
|===================================== | 53%
|
|====================================== | 54%
|
|======================================= | 55%
|
|======================================== | 57%
|
|========================================= | 58%
|
|========================================= | 59%
|
|========================================== | 61%
|
|=========================================== | 62%
|
|============================================ | 63%
|
|============================================= | 64%
|
|============================================== | 66%
|
|=============================================== | 67%
|
|================================================ | 68%
|
|================================================= | 70%
|
|================================================== | 71%
|
|=================================================== | 72%
|
|==================================================== | 74%
|
|==================================================== | 75%
|
|===================================================== | 76%
|
|====================================================== | 78%
|
|======================================================= | 79%
|
|======================================================== | 80%
|
|========================================================= | 82%
|
|========================================================== | 83%
|
|=========================================================== | 84%
|
|============================================================ | 86%
|
|============================================================= | 87%
|
|============================================================== | 88%
|
|=============================================================== | 89%
|
|================================================================ | 91%
|
|================================================================ | 92%
|
|================================================================= | 93%
|
|================================================================== | 95%
|
|=================================================================== | 96%
|
|==================================================================== | 97%
|
|===================================================================== | 99%
|
|======================================================================| 100%
Estimating ssGSEA scores for 76 gene sets.
[1] "Calculating ranks..."
[1] "Calculating absolute values from ranks..."
|
| | 0%
|
|==== | 6%
|
|======== | 11%
|
|============ | 17%
|
|================ | 22%
|
|=================== | 28%
|
|======================= | 33%
|
|=========================== | 39%
|
|=============================== | 44%
|
|=================================== | 50%
|
|======================================= | 56%
|
|=========================================== | 61%
|
|=============================================== | 67%
|
|=================================================== | 72%
|
|====================================================== | 78%
|
|========================================================== | 83%
|
|============================================================== | 89%
|
|================================================================== | 94%
|
|======================================================================| 100%
[1] "Normalizing..."
[1] "Calculating ranks..."
[1] "Calculating absolute values from ranks..."
[1] "Normalizing..."
[1] "Calculating ranks..."
[1] "Calculating absolute values from ranks..."
[1] "Normalizing..."
[1] "Calculating ranks..."
[1] "Calculating absolute values from ranks..."
[1] "Normalizing..."
[1] "Calculating ranks..."
[1] "Calculating absolute values from ranks..."
[1] "Normalizing..."
[1] "Calculating ranks..."
[1] "Calculating absolute values from ranks..."
[1] "Normalizing..."
[1] "Calculating ranks..."
[1] "Calculating absolute values from ranks..."
[1] "Normalizing..."
[ FAIL 0 | WARN 0 | SKIP 1 | PASS 1477 ]
══ Skipped tests (1) ═══════════════════════════════════════════════════════════
• empty test (1): 'test-MultiGSEAResult.R:3:1'
[ FAIL 0 | WARN 0 | SKIP 1 | PASS 1477 ]
>
> ## Remove temporary files that were generated
> test.dir <- system.file('tests', package = "sparrow")
> pdfs <- dir(test.dir, "\\.pdf$", full.names=TRUE)
> if (length(pdfs)) {
+ unlink(pdfs)
+ }
>
>
> proc.time()
user system elapsed
439.523 15.451 431.074
sparrow.Rcheck/sparrow-Ex.timings
| name | user | system | elapsed | |
| GeneSetDb-class | 0.246 | 0.008 | 0.255 | |
| SparrowResult-utilities | 5.739 | 0.172 | 5.623 | |
| addGeneSetMetadata | 0.093 | 0.000 | 0.084 | |
| annotateGeneSetMembership | 5.678 | 0.136 | 5.556 | |
| calculateIndividualLogFC | 2.417 | 0.016 | 2.438 | |
| collectionMetadata | 0.104 | 0.000 | 0.095 | |
| combine-GeneSetDb-GeneSetDb-method | 0.128 | 0.008 | 0.118 | |
| combine-SparrowResult-SparrowResult-method | 0.126 | 0.008 | 0.136 | |
| conform | 0.580 | 0.016 | 0.588 | |
| conversion | 0.849 | 0.004 | 0.818 | |
| convertIdentifiers | 0.251 | 0.004 | 0.220 | |
| corplot | 0.107 | 0.004 | 0.112 | |
| eigenWeightedMean | 4.209 | 0.115 | 4.316 | |
| examples | 0.437 | 0.016 | 0.453 | |
| failWith | 0 | 0 | 0 | |
| featureIdMap | 0.583 | 0.008 | 0.582 | |
| featureIds | 0.631 | 0.012 | 0.629 | |
| geneSet | 0.107 | 0.000 | 0.098 | |
| geneSetCollectionURLfunction | 0.073 | 0.004 | 0.068 | |
| geneSetSummaryByGenes | 4.463 | 0.095 | 4.231 | |
| geneSets | 0.106 | 0.004 | 0.100 | |
| geneSetsStats | 5.847 | 0.053 | 5.351 | |
| getKeggCollection | 0 | 0 | 0 | |
| getMSigCollection | 0 | 0 | 0 | |
| getPantherCollection | 0.001 | 0.000 | 0.000 | |
| getReactomeCollection | 0 | 0 | 0 | |
| goseq | 9.979 | 0.235 | 9.940 | |
| gsdScore | 1.321 | 0.028 | 1.336 | |
| gskey | 0.003 | 0.000 | 0.003 | |
| hasGeneSet | 0.084 | 0.000 | 0.075 | |
| hasGeneSetCollection | 0.082 | 0.000 | 0.073 | |
| incidenceMatrix | 1.559 | 0.008 | 1.560 | |
| iplot | 2.660 | 0.064 | 2.717 | |
| is.active | 0.394 | 0.052 | 0.438 | |
| logFC | 4.326 | 0.030 | 4.075 | |
| mgheatmap | 0 | 0 | 0 | |
| mgheatmap2 | 0 | 0 | 0 | |
| msg | 0.000 | 0.001 | 0.001 | |
| ora | 0.265 | 0.012 | 0.277 | |
| p.matrix | 0.102 | 0.000 | 0.102 | |
| randomGeneSetDb | 0.106 | 0.000 | 0.106 | |
| renameCollections | 0.139 | 0.004 | 0.130 | |
| renameRows | 0.517 | 0.012 | 0.530 | |
| results | 0.139 | 0.004 | 0.144 | |
| scale_rows | 0.005 | 0.000 | 0.005 | |
| scoreSingleSamples | 6.869 | 0.048 | 6.903 | |
| seas | 7.189 | 0.076 | 6.988 | |
| sparrow_methods | 0.004 | 0.000 | 0.003 | |
| species_info | 0.007 | 0.000 | 0.007 | |
| subset.GeneSetDb | 0.093 | 0.000 | 0.082 | |
| subsetByFeatures | 0.119 | 0.000 | 0.102 | |
| validateInputs | 0.216 | 0.004 | 0.210 | |
| volcanoPlot | 2.457 | 0.035 | 2.499 | |
| volcanoStatsTable | 0.076 | 0.001 | 0.077 | |
| zScore | 1.236 | 0.004 | 1.226 | |