Back to Multiple platform build/check report for BioC 3.19:   simplified   long
ABCDEFGHIJKLMNOPQR[S]TUVWXYZ

This page was generated on 2024-10-18 20:41 -0400 (Fri, 18 Oct 2024).

HostnameOSArch (*)R versionInstalled pkgs
nebbiolo1Linux (Ubuntu 22.04.3 LTS)x86_644.4.1 (2024-06-14) -- "Race for Your Life" 4763
palomino7Windows Server 2022 Datacenterx644.4.1 (2024-06-14 ucrt) -- "Race for Your Life" 4500
merida1macOS 12.7.5 Montereyx86_644.4.1 (2024-06-14) -- "Race for Your Life" 4530
kjohnson1macOS 13.6.6 Venturaarm644.4.1 (2024-06-14) -- "Race for Your Life" 4480
Click on any hostname to see more info about the system (e.g. compilers)      (*) as reported by 'uname -p', except on Windows and Mac OS X

Package 1948/2300HostnameOS / ArchINSTALLBUILDCHECKBUILD BIN
seqsetvis 1.24.0  (landing page)
Joseph R Boyd
Snapshot Date: 2024-10-16 14:00 -0400 (Wed, 16 Oct 2024)
git_url: https://git.bioconductor.org/packages/seqsetvis
git_branch: RELEASE_3_19
git_last_commit: 0997459
git_last_commit_date: 2024-10-15 11:17:32 -0400 (Tue, 15 Oct 2024)
nebbiolo1Linux (Ubuntu 22.04.3 LTS) / x86_64  OK    OK    OK  UNNEEDED, same version is already published
palomino7Windows Server 2022 Datacenter / x64  OK    OK    OK    OK  UNNEEDED, same version is already published
merida1macOS 12.7.5 Monterey / x86_64  OK    OK    OK    OK  UNNEEDED, same version is already published
kjohnson1macOS 13.6.6 Ventura / arm64  OK    OK    OK    NA  


CHECK results for seqsetvis on merida1

To the developers/maintainers of the seqsetvis package:
- Allow up to 24 hours (and sometimes 48 hours) for your latest push to git@git.bioconductor.org:packages/seqsetvis.git to reflect on this report. See Troubleshooting Build Report for more information.
- Use the following Renviron settings to reproduce errors and warnings.
- If 'R CMD check' started to fail recently on the Linux builder(s) over a missing dependency, add the missing dependency to 'Suggests:' in your DESCRIPTION file. See Renviron.bioc for more information.

raw results


Summary

Package: seqsetvis
Version: 1.24.0
Command: /Library/Frameworks/R.framework/Resources/bin/R CMD check --install=check:seqsetvis.install-out.txt --library=/Library/Frameworks/R.framework/Resources/library --no-vignettes --timings seqsetvis_1.24.0.tar.gz
StartedAt: 2024-10-17 13:03:38 -0400 (Thu, 17 Oct 2024)
EndedAt: 2024-10-17 13:28:19 -0400 (Thu, 17 Oct 2024)
EllapsedTime: 1481.2 seconds
RetCode: 0
Status:   OK  
CheckDir: seqsetvis.Rcheck
Warnings: 0

Command output

##############################################################################
##############################################################################
###
### Running command:
###
###   /Library/Frameworks/R.framework/Resources/bin/R CMD check --install=check:seqsetvis.install-out.txt --library=/Library/Frameworks/R.framework/Resources/library --no-vignettes --timings seqsetvis_1.24.0.tar.gz
###
##############################################################################
##############################################################################


* using log directory ‘/Users/biocbuild/bbs-3.19-bioc/meat/seqsetvis.Rcheck’
* using R version 4.4.1 (2024-06-14)
* using platform: x86_64-apple-darwin20
* R was compiled by
    Apple clang version 14.0.0 (clang-1400.0.29.202)
    GNU Fortran (GCC) 12.2.0
* running under: macOS Monterey 12.7.6
* using session charset: UTF-8
* using option ‘--no-vignettes’
* checking for file ‘seqsetvis/DESCRIPTION’ ... OK
* checking extension type ... Package
* this is package ‘seqsetvis’ version ‘1.24.0’
* package encoding: UTF-8
* checking package namespace information ... OK
* checking package dependencies ... OK
* checking if this is a source package ... OK
* checking if there is a namespace ... OK
* checking for hidden files and directories ... OK
* checking for portable file names ... OK
* checking for sufficient/correct file permissions ... OK
* checking whether package ‘seqsetvis’ can be installed ... OK
* checking installed package size ... OK
* checking package directory ... OK
* checking ‘build’ directory ... OK
* checking DESCRIPTION meta-information ... OK
* checking top-level files ... OK
* checking for left-over files ... OK
* checking index information ... OK
* checking package subdirectories ... OK
* checking code files for non-ASCII characters ... OK
* checking R files for syntax errors ... OK
* checking whether the package can be loaded ... OK
* checking whether the package can be loaded with stated dependencies ... OK
* checking whether the package can be unloaded cleanly ... OK
* checking whether the namespace can be loaded with stated dependencies ... OK
* checking whether the namespace can be unloaded cleanly ... OK
* checking dependencies in R code ... OK
* checking S3 generic/method consistency ... OK
* checking replacement functions ... OK
* checking foreign function calls ... OK
* checking R code for possible problems ... OK
* checking Rd files ... OK
* checking Rd metadata ... OK
* checking Rd cross-references ... OK
* checking for missing documentation entries ... OK
* checking for code/documentation mismatches ... OK
* checking Rd \usage sections ... OK
* checking Rd contents ... OK
* checking for unstated dependencies in examples ... OK
* checking contents of ‘data’ directory ... OK
* checking data for non-ASCII characters ... OK
* checking LazyData ... OK
* checking data for ASCII and uncompressed saves ... OK
* checking files in ‘vignettes’ ... OK
* checking examples ... OK
Examples with CPU (user + system) or elapsed time > 5s
                               user system elapsed
ssvFetchBam                  15.487  0.434  18.472
ssvFeatureBinaryHeatmap      11.005  0.732  13.438
ssvSignalHeatmap              9.573  0.294  12.096
ssvSignalBandedQuantiles      9.668  0.144  11.037
ssvSignalHeatmap.ClusterBars  8.119  0.209   9.659
merge_clusters                8.068  0.086   9.466
add_cluster_annotation        6.002  0.210   7.315
ssvFeatureUpset               5.950  0.108   7.156
ssvSignalLineplot             5.309  0.062   6.286
ssvSignalClustering           5.104  0.082   6.200
reverse_clusters              5.006  0.053   6.034
ssvFetchBamPE                 4.648  0.343   5.741
reorder_clusters_hclust       4.724  0.050   5.766
reorder_clusters_stepdown     4.718  0.044   5.678
split_cluster                 4.350  0.049   5.116
fragLen_calcStranded          4.175  0.090   5.205
* checking for unstated dependencies in ‘tests’ ... OK
* checking tests ...
  Running ‘testthat.R’
 OK
* checking for unstated dependencies in vignettes ... OK
* checking package vignettes ... OK
* checking running R code from vignettes ... SKIPPED
* checking re-building of vignette outputs ... SKIPPED
* checking PDF version of manual ... OK
* DONE

Status: OK


Installation output

seqsetvis.Rcheck/00install.out

##############################################################################
##############################################################################
###
### Running command:
###
###   /Library/Frameworks/R.framework/Resources/bin/R CMD INSTALL seqsetvis
###
##############################################################################
##############################################################################


* installing to library ‘/Library/Frameworks/R.framework/Versions/4.4-x86_64/Resources/library’
* installing *source* package ‘seqsetvis’ ...
** using staged installation
** R
** data
*** moving datasets to lazyload DB
** inst
** byte-compile and prepare package for lazy loading
** help
*** installing help indices
** building package indices
** installing vignettes
** testing if installed package can be loaded from temporary location
** testing if installed package can be loaded from final location
** testing if installed package keeps a record of temporary installation path
* DONE (seqsetvis)

Tests output

seqsetvis.Rcheck/tests/testthat.Rout


R version 4.4.1 (2024-06-14) -- "Race for Your Life"
Copyright (C) 2024 The R Foundation for Statistical Computing
Platform: x86_64-apple-darwin20

R is free software and comes with ABSOLUTELY NO WARRANTY.
You are welcome to redistribute it under certain conditions.
Type 'license()' or 'licence()' for distribution details.

R is a collaborative project with many contributors.
Type 'contributors()' for more information and
'citation()' on how to cite R or R packages in publications.

Type 'demo()' for some demos, 'help()' for on-line help, or
'help.start()' for an HTML browser interface to help.
Type 'q()' to quit R.

> 
> ## load dependencies
> library(testthat)
> library(seqsetvis)
Loading required package: ggplot2
> library(data.table)
> 
> ## test package
> test_check(package = "seqsetvis")
[ FAIL 0 | WARN 0 | SKIP 0 | PASS 1266 ]
> 
> proc.time()
   user  system elapsed 
624.541  12.110 722.553 

Example timings

seqsetvis.Rcheck/seqsetvis-Ex.timings

nameusersystemelapsed
add_cluster_annotation6.0020.2107.315
append_ynorm0.0810.0190.218
applyMovingAverage1.6860.1422.205
applySpline0.7430.0161.115
assemble_heatmap_cluster_bars1.7960.0272.389
calc_norm_factors0.0300.0020.045
centerAtMax0.6220.0200.801
centerFixedSizeGRanges0.2930.0160.352
centerGRangesAtMax0.8440.0191.043
clusteringKmeans0.0380.0070.115
clusteringKmeansNestedHclust0.0470.0070.073
col2hex0.0020.0000.003
collapse_gr1.6200.0371.848
convert_collapsed_coord0.4010.0140.460
copy_clust_info3.8130.0584.360
crossCorrByRle0.7540.0170.861
easyLoad_FUN0.1100.0020.120
easyLoad_IDRmerged0.0920.0040.100
easyLoad_bed0.3260.0040.370
easyLoad_broadPeak0.0840.0030.096
easyLoad_narrowPeak0.0860.0030.101
easyLoad_seacr0.1000.0030.140
expandCigar0.3770.0450.554
findMaxPos0.0330.0110.063
fragLen_calcStranded4.1750.0905.205
fragLen_fromMacs2Xls0.0030.0010.005
getReadLength0.1210.0080.170
get_mapped_reads0.0190.0020.025
ggellipse1.3130.0141.653
harmonize_seqlengths0.1960.0140.257
make_clustering_matrix0.1910.0060.320
merge_clusters8.0680.0869.466
prepare_fetch_GRanges0.0690.0030.082
prepare_fetch_GRanges_names0.1910.0050.220
prepare_fetch_GRanges_width0.0680.0020.076
quantileGRangesWidth0.0030.0000.003
reorder_clusters_hclust4.7240.0505.766
reorder_clusters_manual2.4030.0282.840
reorder_clusters_stepdown4.7180.0445.678
reverse_clusters5.0060.0536.034
safeBrew0.0500.0050.063
split_cluster4.3500.0495.116
ssvConsensusIntervalSets0.8440.0601.048
ssvFactorizeMembTable0.0290.0080.042
ssvFeatureBars1.2500.0111.448
ssvFeatureBinaryHeatmap11.005 0.73213.438
ssvFeatureEuler1.2450.0181.491
ssvFeaturePie1.3790.0401.599
ssvFeatureUpset5.9500.1087.156
ssvFeatureVenn2.1770.0232.582
ssvFetchBam15.487 0.43418.472
ssvFetchBamPE4.6480.3435.741
ssvFetchBigwig3.2900.0343.763
ssvFetchGRanges1.8250.0122.062
ssvFetchSignal3.6890.0864.259
ssvMakeMembTable-methods1.1800.0231.377
ssvOverlapIntervalSets0.5180.0170.598
ssvSignalBandedQuantiles 9.668 0.14411.037
ssvSignalClustering5.1040.0826.200
ssvSignalHeatmap.ClusterBars8.1190.2099.659
ssvSignalHeatmap 9.573 0.29412.096
ssvSignalLineplot5.3090.0626.286
ssvSignalLineplotAgg1.8430.0292.176
ssvSignalScatterplot2.0420.0382.491
viewGRangesWinSample_dt3.070.103.76
viewGRangesWinSummary_dt2.9530.0993.532
within_clust_sort3.6790.0524.461