| Back to Multiple platform build/check report for BioC 3.19: simplified long |
|
This page was generated on 2024-10-18 20:41 -0400 (Fri, 18 Oct 2024).
| Hostname | OS | Arch (*) | R version | Installed pkgs |
|---|---|---|---|---|
| nebbiolo1 | Linux (Ubuntu 22.04.3 LTS) | x86_64 | 4.4.1 (2024-06-14) -- "Race for Your Life" | 4763 |
| palomino7 | Windows Server 2022 Datacenter | x64 | 4.4.1 (2024-06-14 ucrt) -- "Race for Your Life" | 4500 |
| merida1 | macOS 12.7.5 Monterey | x86_64 | 4.4.1 (2024-06-14) -- "Race for Your Life" | 4530 |
| kjohnson1 | macOS 13.6.6 Ventura | arm64 | 4.4.1 (2024-06-14) -- "Race for Your Life" | 4480 |
| Click on any hostname to see more info about the system (e.g. compilers) (*) as reported by 'uname -p', except on Windows and Mac OS X | ||||
| Package 1871/2300 | Hostname | OS / Arch | INSTALL | BUILD | CHECK | BUILD BIN | ||||||||
| scanMiRApp 1.10.0 (landing page) Pierre-Luc Germain
| nebbiolo1 | Linux (Ubuntu 22.04.3 LTS) / x86_64 | OK | OK | OK | |||||||||
| palomino7 | Windows Server 2022 Datacenter / x64 | OK | OK | OK | OK | |||||||||
| merida1 | macOS 12.7.5 Monterey / x86_64 | OK | OK | OK | OK | |||||||||
| kjohnson1 | macOS 13.6.6 Ventura / arm64 | OK | OK | OK | NA | |||||||||
|
To the developers/maintainers of the scanMiRApp package: - Allow up to 24 hours (and sometimes 48 hours) for your latest push to git@git.bioconductor.org:packages/scanMiRApp.git to reflect on this report. See Troubleshooting Build Report for more information. - Use the following Renviron settings to reproduce errors and warnings. - If 'R CMD check' started to fail recently on the Linux builder(s) over a missing dependency, add the missing dependency to 'Suggests:' in your DESCRIPTION file. See Renviron.bioc for more information. |
| Package: scanMiRApp |
| Version: 1.10.0 |
| Command: /Library/Frameworks/R.framework/Resources/bin/R CMD check --install=check:scanMiRApp.install-out.txt --library=/Library/Frameworks/R.framework/Resources/library --no-vignettes --timings scanMiRApp_1.10.0.tar.gz |
| StartedAt: 2024-10-17 12:27:10 -0400 (Thu, 17 Oct 2024) |
| EndedAt: 2024-10-17 12:38:52 -0400 (Thu, 17 Oct 2024) |
| EllapsedTime: 702.3 seconds |
| RetCode: 0 |
| Status: OK |
| CheckDir: scanMiRApp.Rcheck |
| Warnings: 0 |
##############################################################################
##############################################################################
###
### Running command:
###
### /Library/Frameworks/R.framework/Resources/bin/R CMD check --install=check:scanMiRApp.install-out.txt --library=/Library/Frameworks/R.framework/Resources/library --no-vignettes --timings scanMiRApp_1.10.0.tar.gz
###
##############################################################################
##############################################################################
* using log directory ‘/Users/biocbuild/bbs-3.19-bioc/meat/scanMiRApp.Rcheck’
* using R version 4.4.1 (2024-06-14)
* using platform: x86_64-apple-darwin20
* R was compiled by
Apple clang version 14.0.0 (clang-1400.0.29.202)
GNU Fortran (GCC) 12.2.0
* running under: macOS Monterey 12.7.6
* using session charset: UTF-8
* using option ‘--no-vignettes’
* checking for file ‘scanMiRApp/DESCRIPTION’ ... OK
* checking extension type ... Package
* this is package ‘scanMiRApp’ version ‘1.10.0’
* checking package namespace information ... OK
* checking package dependencies ... OK
* checking if this is a source package ... OK
* checking if there is a namespace ... OK
* checking for hidden files and directories ... OK
* checking for portable file names ... OK
* checking for sufficient/correct file permissions ... OK
* checking whether package ‘scanMiRApp’ can be installed ... OK
* checking installed package size ... OK
* checking package directory ... OK
* checking ‘build’ directory ... OK
* checking DESCRIPTION meta-information ... OK
* checking top-level files ... OK
* checking for left-over files ... OK
* checking index information ... OK
* checking package subdirectories ... OK
* checking code files for non-ASCII characters ... OK
* checking R files for syntax errors ... OK
* checking whether the package can be loaded ... OK
* checking whether the package can be loaded with stated dependencies ... OK
* checking whether the package can be unloaded cleanly ... OK
* checking whether the namespace can be loaded with stated dependencies ... OK
* checking whether the namespace can be unloaded cleanly ... OK
* checking dependencies in R code ... NOTE
':::' calls which should be '::':
'BSgenome.Hsapiens.UCSC.hg38:::BSgenome.Hsapiens.UCSC.hg38'
'BSgenome.Mmusculus.UCSC.mm10:::BSgenome.Mmusculus.UCSC.mm10'
'BSgenome.Mmusculus.UCSC.mm39:::BSgenome.Mmusculus.UCSC.mm39'
'BSgenome.Rnorvegicus.UCSC.rn6:::BSgenome.Rnorvegicus.UCSC.rn6'
See the note in ?`:::` about the use of this operator.
* checking S3 generic/method consistency ... OK
* checking replacement functions ... OK
* checking foreign function calls ... OK
* checking R code for possible problems ... NOTE
.fakeAnno: no visible binding for global variable 'SampleTranscript'
.fakeAnno: no visible binding for global variable 'SampleKdModel'
plotSitesOnUTR: no visible binding for global variable 'logKd'
plotSitesOnUTR: no visible binding for global variable 'note'
plotSitesOnUTR: no visible binding for global variable 'type'
Undefined global functions or variables:
SampleKdModel SampleTranscript logKd note type
* checking Rd files ... OK
* checking Rd metadata ... OK
* checking Rd cross-references ... OK
* checking for missing documentation entries ... OK
* checking for code/documentation mismatches ... OK
* checking Rd \usage sections ... OK
* checking Rd contents ... OK
* checking for unstated dependencies in examples ... OK
* checking files in ‘vignettes’ ... OK
* checking examples ... OK
Examples with CPU (user + system) or elapsed time > 5s
user system elapsed
plotSitesOnUTR 4.595 0.047 5.191
* checking for unstated dependencies in ‘tests’ ... OK
* checking tests ...
Running ‘testthat.R’
OK
* checking for unstated dependencies in vignettes ... OK
* checking package vignettes ... OK
* checking running R code from vignettes ... SKIPPED
* checking re-building of vignette outputs ... SKIPPED
* checking PDF version of manual ... OK
* DONE
Status: 2 NOTEs
See
‘/Users/biocbuild/bbs-3.19-bioc/meat/scanMiRApp.Rcheck/00check.log’
for details.
scanMiRApp.Rcheck/00install.out
############################################################################## ############################################################################## ### ### Running command: ### ### /Library/Frameworks/R.framework/Resources/bin/R CMD INSTALL scanMiRApp ### ############################################################################## ############################################################################## * installing to library ‘/Library/Frameworks/R.framework/Versions/4.4-x86_64/Resources/library’ * installing *source* package ‘scanMiRApp’ ... ** using staged installation ** R ** inst ** byte-compile and prepare package for lazy loading ** help *** installing help indices ** building package indices ** installing vignettes ** testing if installed package can be loaded from temporary location ** testing if installed package can be loaded from final location ** testing if installed package keeps a record of temporary installation path * DONE (scanMiRApp)
scanMiRApp.Rcheck/tests/testthat.Rout
R version 4.4.1 (2024-06-14) -- "Race for Your Life"
Copyright (C) 2024 The R Foundation for Statistical Computing
Platform: x86_64-apple-darwin20
R is free software and comes with ABSOLUTELY NO WARRANTY.
You are welcome to redistribute it under certain conditions.
Type 'license()' or 'licence()' for distribution details.
R is a collaborative project with many contributors.
Type 'contributors()' for more information and
'citation()' on how to cite R or R packages in publications.
Type 'demo()' for some demos, 'help()' for on-line help, or
'help.start()' for an HTML browser interface to help.
Type 'q()' to quit R.
> library(testthat)
> library(scanMiRApp)
Loading required package: scanMiR
>
> test_check("scanMiRApp")
Loading annotation
Extracting transcripts
Scanning with 1 thread(s)
Loading annotation
Extracting transcripts
Scanning with 1 thread(s)
Prepare miRNA model
Get Transcript Sequence
Scan
Prepare miRNA model
Get Transcript Sequence
Scan
[ FAIL 0 | WARN 4 | SKIP 2 | PASS 13 ]
══ Skipped tests (2) ═══════════════════════════════════════════════════════════
• On CRAN (1): 'test-shiny.R:10:3'
• empty test (1): 'test-utils.R:46:1'
[ FAIL 0 | WARN 4 | SKIP 2 | PASS 13 ]
>
> proc.time()
user system elapsed
41.716 2.035 50.304
scanMiRApp.Rcheck/scanMiRApp-Ex.timings
| name | user | system | elapsed | |
| IndexedFst-class | 0.079 | 0.008 | 0.105 | |
| ScanMiRAnno | 2.055 | 0.159 | 2.512 | |
| enrichedMirTxPairs | 1.366 | 0.046 | 1.535 | |
| getTranscriptSequence | 3.548 | 0.169 | 4.311 | |
| plotSitesOnUTR | 4.595 | 0.047 | 5.191 | |
| runFullScan | 3.505 | 0.046 | 4.104 | |
| save-load-IndexedFst | 0.021 | 0.004 | 0.026 | |
| scanMiRApp | 0.001 | 0.000 | 0.001 | |
| scanMiRserver | 1.160 | 0.016 | 1.369 | |
| scanMiRui | 0.391 | 0.050 | 0.509 | |