Back to Multiple platform build/check report for BioC 3.19: simplified long |
|
This page was generated on 2024-07-05 17:40 -0400 (Fri, 05 Jul 2024).
Hostname | OS | Arch (*) | R version | Installed pkgs |
---|---|---|---|---|
nebbiolo1 | Linux (Ubuntu 22.04.3 LTS) | x86_64 | 4.4.1 (2024-06-14) -- "Race for Your Life" | 4477 |
palomino7 | Windows Server 2022 Datacenter | x64 | 4.4.1 (2024-06-14 ucrt) -- "Race for Your Life" | 4482 |
merida1 | macOS 12.7.4 Monterey | x86_64 | 4.4.1 (2024-06-14) -- "Race for Your Life" | 4469 |
kjohnson1 | macOS 13.6.6 Ventura | arm64 | 4.4.1 (2024-06-14) -- "Race for Your Life" | 4461 |
Click on any hostname to see more info about the system (e.g. compilers) (*) as reported by 'uname -p', except on Windows and Mac OS X |
Package 1872/2300 | Hostname | OS / Arch | INSTALL | BUILD | CHECK | BUILD BIN | ||||||||
scAnnotatR 1.10.0 (landing page) Johannes Griss
| nebbiolo1 | Linux (Ubuntu 22.04.3 LTS) / x86_64 | OK | OK | WARNINGS | |||||||||
palomino7 | Windows Server 2022 Datacenter / x64 | OK | OK | ERROR | OK | |||||||||
merida1 | macOS 12.7.4 Monterey / x86_64 | OK | OK | WARNINGS | OK | |||||||||
kjohnson1 | macOS 13.6.6 Ventura / arm64 | OK | OK | WARNINGS | OK | |||||||||
To the developers/maintainers of the scAnnotatR package: - Allow up to 24 hours (and sometimes 48 hours) for your latest push to git@git.bioconductor.org:packages/scAnnotatR.git to reflect on this report. See Troubleshooting Build Report for more information. - Use the following Renviron settings to reproduce errors and warnings. - If 'R CMD check' started to fail recently on the Linux builder(s) over a missing dependency, add the missing dependency to 'Suggests:' in your DESCRIPTION file. See Renviron.bioc for more information. |
Package: scAnnotatR |
Version: 1.10.0 |
Command: rm -rf scAnnotatR.buildbin-libdir && mkdir scAnnotatR.buildbin-libdir && F:\biocbuild\bbs-3.19-bioc\R\bin\R.exe CMD INSTALL --build --library=scAnnotatR.buildbin-libdir scAnnotatR_1.10.0.tar.gz |
StartedAt: 2024-07-04 07:57:20 -0400 (Thu, 04 Jul 2024) |
EndedAt: 2024-07-04 07:58:34 -0400 (Thu, 04 Jul 2024) |
EllapsedTime: 73.8 seconds |
RetCode: 0 |
Status: OK |
PackageFile: scAnnotatR_1.10.0.zip |
PackageFileSize: 932 KiB |
############################################################################## ############################################################################## ### ### Running command: ### ### rm -rf scAnnotatR.buildbin-libdir && mkdir scAnnotatR.buildbin-libdir && F:\biocbuild\bbs-3.19-bioc\R\bin\R.exe CMD INSTALL --build --library=scAnnotatR.buildbin-libdir scAnnotatR_1.10.0.tar.gz ### ############################################################################## ############################################################################## * installing *source* package 'scAnnotatR' ... ** using staged installation ** R ** data *** moving datasets to lazyload DB ** inst ** byte-compile and prepare package for lazy loading Warning: replacing previous import 'ape::where' by 'dplyr::where' when loading 'scAnnotatR' ** help *** installing help indices ** building package indices ** installing vignettes ** testing if installed package can be loaded from temporary location Warning: replacing previous import 'ape::where' by 'dplyr::where' when loading 'scAnnotatR' ** testing if installed package can be loaded from final location Warning: replacing previous import 'ape::where' by 'dplyr::where' when loading 'scAnnotatR' ** testing if installed package keeps a record of temporary installation path * MD5 sums packaged installation of 'scAnnotatR' as scAnnotatR_1.10.0.zip * DONE (scAnnotatR)