Back to Multiple platform build/check report for BioC 3.19: simplified long |
|
This page was generated on 2024-10-18 20:42 -0400 (Fri, 18 Oct 2024).
Hostname | OS | Arch (*) | R version | Installed pkgs |
---|---|---|---|---|
nebbiolo1 | Linux (Ubuntu 22.04.3 LTS) | x86_64 | 4.4.1 (2024-06-14) -- "Race for Your Life" | 4763 |
palomino7 | Windows Server 2022 Datacenter | x64 | 4.4.1 (2024-06-14 ucrt) -- "Race for Your Life" | 4500 |
merida1 | macOS 12.7.5 Monterey | x86_64 | 4.4.1 (2024-06-14) -- "Race for Your Life" | 4530 |
kjohnson1 | macOS 13.6.6 Ventura | arm64 | 4.4.1 (2024-06-14) -- "Race for Your Life" | 4480 |
Click on any hostname to see more info about the system (e.g. compilers) (*) as reported by 'uname -p', except on Windows and Mac OS X |
Package 1810/2300 | Hostname | OS / Arch | INSTALL | BUILD | CHECK | BUILD BIN | ||||||||
ropls 1.36.0 (landing page) Etienne A. Thevenot
| nebbiolo1 | Linux (Ubuntu 22.04.3 LTS) / x86_64 | OK | OK | OK | |||||||||
palomino7 | Windows Server 2022 Datacenter / x64 | OK | OK | OK | OK | |||||||||
merida1 | macOS 12.7.5 Monterey / x86_64 | OK | OK | OK | OK | |||||||||
kjohnson1 | macOS 13.6.6 Ventura / arm64 | OK | OK | TIMEOUT | OK | |||||||||
To the developers/maintainers of the ropls package: - Allow up to 24 hours (and sometimes 48 hours) for your latest push to git@git.bioconductor.org:packages/ropls.git to reflect on this report. See Troubleshooting Build Report for more information. - Use the following Renviron settings to reproduce errors and warnings. - If 'R CMD check' started to fail recently on the Linux builder(s) over a missing dependency, add the missing dependency to 'Suggests:' in your DESCRIPTION file. See Renviron.bioc for more information. |
Package: ropls |
Version: 1.36.0 |
Command: /Library/Frameworks/R.framework/Resources/bin/R CMD check --install=check:ropls.install-out.txt --library=/Library/Frameworks/R.framework/Resources/library --no-vignettes --timings ropls_1.36.0.tar.gz |
StartedAt: 2024-10-18 10:11:09 -0400 (Fri, 18 Oct 2024) |
EndedAt: 2024-10-18 10:51:09 -0400 (Fri, 18 Oct 2024) |
EllapsedTime: 2400.9 seconds |
RetCode: None |
Status: TIMEOUT |
CheckDir: ropls.Rcheck |
Warnings: NA |
############################################################################## ############################################################################## ### ### Running command: ### ### /Library/Frameworks/R.framework/Resources/bin/R CMD check --install=check:ropls.install-out.txt --library=/Library/Frameworks/R.framework/Resources/library --no-vignettes --timings ropls_1.36.0.tar.gz ### ############################################################################## ############################################################################## * using log directory ‘/Users/biocbuild/bbs-3.19-bioc/meat/ropls.Rcheck’ * using R version 4.4.1 (2024-06-14) * using platform: aarch64-apple-darwin20 * R was compiled by Apple clang version 14.0.0 (clang-1400.0.29.202) GNU Fortran (GCC) 12.2.0 * running under: macOS Ventura 13.6.6 * using session charset: UTF-8 * using option ‘--no-vignettes’ * checking for file ‘ropls/DESCRIPTION’ ... OK * checking extension type ... Package * this is package ‘ropls’ version ‘1.36.0’ * package encoding: UTF-8 * checking package namespace information ... OK * checking package dependencies ... OK * checking if this is a source package ... OK * checking if there is a namespace ... OK * checking for hidden files and directories ... OK * checking for portable file names ... OK * checking for sufficient/correct file permissions ... OK * checking whether package ‘ropls’ can be installed ... OK * checking installed package size ... OK * checking package directory ... OK * checking ‘build’ directory ... OK * checking DESCRIPTION meta-information ... OK * checking top-level files ... OK * checking for left-over files ... OK * checking index information ... OK * checking package subdirectories ... OK * checking code files for non-ASCII characters ... OK * checking R files for syntax errors ... OK * checking whether the package can be loaded ... OK * checking whether the package can be loaded with stated dependencies ... OK * checking whether the package can be unloaded cleanly ... OK * checking whether the namespace can be loaded with stated dependencies ... OK * checking whether the namespace can be unloaded cleanly ... OK * checking dependencies in R code ... OK * checking S3 generic/method consistency ... OK * checking replacement functions ... OK * checking foreign function calls ... OK * checking R code for possible problems ... NOTE .gg_scoreplot: no visible binding for global variable ‘.comp1’ .gg_scoreplot: no visible binding for global variable ‘.comp2’ .gg_scoreplot: no visible binding for global variable ‘.data’ .gg_scoreplot: no visible binding for global variable ‘.text’ Undefined global functions or variables: .comp1 .comp2 .data .text * checking Rd files ... OK * checking Rd metadata ... OK * checking Rd cross-references ... OK * checking for missing documentation entries ... OK * checking for code/documentation mismatches ... OK * checking Rd \usage sections ... OK * checking Rd contents ... OK * checking for unstated dependencies in examples ... OK * checking contents of ‘data’ directory ... OK * checking data for non-ASCII characters ... OK * checking data for ASCII and uncompressed saves ... OK * checking files in ‘vignettes’ ... OK * checking examples ...
ropls.Rcheck/00install.out
############################################################################## ############################################################################## ### ### Running command: ### ### /Library/Frameworks/R.framework/Resources/bin/R CMD INSTALL ropls ### ############################################################################## ############################################################################## * installing to library ‘/Library/Frameworks/R.framework/Versions/4.4-arm64/Resources/library’ * installing *source* package ‘ropls’ ... ** using staged installation ** R ** data ** inst ** byte-compile and prepare package for lazy loading ** help *** installing help indices ** building package indices ** installing vignettes ** testing if installed package can be loaded from temporary location ** testing if installed package can be loaded from final location ** testing if installed package keeps a record of temporary installation path * DONE (ropls)
ropls.Rcheck/ropls-Ex.timings
name | user | system | elapsed | |
checkW4M | 0.211 | 0.014 | 0.228 | |
coef | 0.762 | 0.072 | 0.843 | |
fitted | 0.860 | 0.079 | 0.946 | |
fromW4M | 0.134 | 0.003 | 0.136 | |
getEset | 0.708 | 0.060 | 0.785 | |
getLoadingMN | 1.288 | 0.067 | 1.364 | |
getMset | 0.309 | 0.008 | 0.320 | |
getOpls | 0.882 | 0.067 | 0.955 | |
getPcaVarVn | 0.105 | 0.005 | 0.111 | |
getScoreMN | 0.629 | 0.063 | 0.696 | |
getSubsetVi | 0.068 | 0.004 | 0.072 | |
getSummaryDF | 0.633 | 0.042 | 0.679 | |
getVipVn | 0.649 | 0.067 | 0.725 | |
getWeightMN | 0.647 | 0.049 | 0.702 | |
gg_scoreplot | 5.451 | 0.281 | 5.817 | |